Workbook
Name OLE_LINK1: HIT!$E$7
Name OLE_LINK3: HIT!$E$7

Sheet ARPUS
B2: Evaluasi Terhadap Hasil Renja Perangkat Daerah Lingkup Kabupaten/kota
B3: Renja Perangkat Daerah Dinas Kearsipan Dan Perpustakaan Kabupaten Magetan
B4: Periode Pelaksanaan: Tribulan I Tahun 2026
A6: NO | B6: Tujuan | C6: Sasaran | D6: Kode | E6: Program, Kegiatan, Sub Kegiatan | F6: Indikator Kinerja, Program(outcome),Kegiatan (output), Sub Kegiatan | G6: Target Renstra Perangkat Daerah pada Tahun 2026 (Akhir Periode Renstra Perangkat Daerah) | J6: Realisasi Capaian Kinerja Renstra Perangkat Daerah sampai dengan Renja Perangkat Daerah Tahun Lalu (n-2) | M6: Target Kinerja dan Anggaran Renja Perangkat Daerah Tahun berjalan Setelah Efisiensi yang dievaluasi (Tahun 2026) | P6: Realisasi Kinerja Pada Triwulan | AB6: Realisasi Capaian Kinerja dan Anggaran Renja PD yang dievaluasi | AE6: Tingkat Capaian Kinerja dan Realisasi Anggaran Renja yang dievaluasi (%) | AG6: Realisasi Kinerja dan Anggaran Renstra Perangkat Daerah s/d tahun 2026 (Akhir Tahun Pelaksanaan Renja Perangkat Daerah Tahun | AJ6: Tingkat Capaian Kinerja Dan Realisasi Anggaran Renstra Perangkat Daerah s/d tahun 2025 (%) | AL6: Unit OPD Penanggung Jawab
P7: I | S7: II | V7: III | Y7: IV
A8: 1 | B8: 2 | C8: 3 | D8: 4 | E8: 5 | F8: 6 | G8: 7 | J8: 8 | M8: 9 | P8: 10 | S8: 11 | V8: 12 | Y8: 13 | AB8: 14 =10+11+12+13 | AE8: 15 = 14/9x100 | AG8: 16 = 8 + 14 | AJ8: 17 = 16/7 x100 | AL8: 18 | AM8: =AI12/I13*100 -> 29.962609
G9: K | I9: Rp | J9: K | L9: Rp | M9: K | O9: Rp | P9: K | R9: Rp | S9: K | U9: Rp | V9: K | X9: Rp | Y9: K | AA9: Rp | AB9: K | AD9: Rp | AE9: K | AF9: Rp | AG9: K | AI9: Rp | AJ9: K | AK9: Rp
G10: Volume | H10: Satuan | J10: Volume | K10: Satuan | M10: Volume | N10: Satuan | P10: Volume | Q10: Satuan | S10: Volume | T10: Satuan | V10: Volume | W10: Satuan | Y10: Volume | Z10: Satuan | AB10: Volume | AC10: Satuan | AG10: Volume | AH10: Satuan
A11: 1 | B11: -1 | C11: -2 | D11: -3 | E11: -4 | F11: -5 | I11: -18 | M11: -7 | O11: -8 | AL11: -19
A12: 1 | B12: Meningkatkan Kualitas Pelayanan Publik pada Urusan Kearsipan dan Urusan Perpustakaan | C12: Meningkatnya Akuntabilitas dan Pelayanan Publik PenyelenggaraanP emerintah Daerah Pada Dinas Kearsipan dan Perpustakaan | D12: 2.23.01 | E12: PROGRAM PENUNJANG URUSAN PEMERINTAHAN DAERAH KABUPATEN/ KOTA | F12: Indeks Kepuasan Layanan Kesekretariatan II Indeks | G12: 88,10 | H12: Indeks | I12: =I14+I17+I20+I22+I30+I34 -> 28254975280 | J12: 86,89 | K12: indeks | L12: =L13+L16+L19+L21+L29+L33 -> 5864429256 | M12: 87.5 | N12: =H13 -> Persen | O12: =O14+O17+O20+O22+O30+O34 -> 5402044416 | P12: 21.88 | Q12: =N12 -> Persen | R12: =R14+R17+R20+R22+R30+R34 -> 991305729 | S12: 21.87 | T12: =Q12 -> Persen | U12: =U14+U17+U20+U22+U30+U34 -> 1320217397 | V12: 21.87 | W12: =T12 -> Persen | X12: =X14+X17+X20+X22+X30+X34 -> 1070615467 | Z12: =W12 -> Persen | AA12: =AA14+AA17+AA20+AA22+AA30+AA34 -> 0 | AB12: =P12+S12+V12+Y12 -> 65.62 | AC12: =Q12 -> Persen | AD12: =R12+U12+X12+AA12 -> 3382138593 | AE12: =AB12/M12*100 -> 74.994286 | AF12: =AD12/O12*100 -> 62.608493 | AG12: =J13+AB12 -> 152.02 | AH12: =AC12 -> Persen | AI12: =L13+AD12 -> 8465927881 | AJ12: =AG12/G12*100 -> 172.55392 | AK12: =AI12/I13*100 -> 29.962609 | AL12: ARPUS
F13: Persentase Capaian Kinerja dan Anggaran II Persen | G13: 97.98 | H13: Persen | I13: =I14+I17+I20+I22+I30+I34 -> 28254975280 | J13: 86,40 | K13: Persen | L13: =L14+L17+L20+L22+L30+L34 -> 5083789288 | M13: 97.94 | N13: Persen | O13: =O15+O18+O21+O23+O31+O35 -> 4301657348 | P13: 24.49 | Q13: Persen | R13: =R15+R18+R21+R23+R31+R35 -> 857378680 | S13: 24.49 | T13: Persen | U13: =U15+U18+U21+U23+U31+U35 -> 1152786696 | V13: 24.49 | W13: Persen | X13: =X15+X18+X21+X23+X31+X35 -> 836397949 | Z13: Persen | AA13: =AA15+AA18+AA21+AA23+AA31+AA35 -> 0 | AB13: =P13+S13+V13+Y13 -> 73.47 | AC13: Persen | AD13: =R13+U13+X13+AA13 -> 2846563325 | AE13: =AB13/M13*100 -> 75.015315 | AF13: =AD13/O13*100 -> 66.173642 | AG13: =J13+AB13 -> 159.87 | AH13: Persen | AI13: =L14+AD13 -> 2896499475 | AJ13: =AG13/G14*100 -> 192.61446 | AK13: =AI13/I14*100 -> 1072.7776 | AL13: ARPUS | AM13: 4966485764 | AN13: =AM13-AD12 -> 1584347171 | AO13: =AB12/G13*100 -> #VALUE! | AQ13: =(86.6+86.4+86.5) -> 259.5
D14: 2.23.01.2.01 | E14: Perencanaan, Penganggaran, dan Evaluasi Kinerja Perangkat Daerah | F14: Jumlah Dokumen Perencanaan, Kinerja dan Keuangan Yang Disusun Tepat Waktu | G14: 83 | H14: Dokumen | I14: =SUM(I15:I16) -> 270000000 | J14: 11 | K14: Dokumen | L14: =SUM(L15:L16) -> 49936150 | M14: 11 | N14: =H14 -> Dokumen | O14: =SUM(O15:O16) -> 31250000 | P14: 3 | Q14: =N14 -> Dokumen | R14: =SUM(R15:R16) -> 8136000 | S14: 2 | T14: =Q14 -> Dokumen | U14: =SUM(U15:U16) -> 1980000 | V14: 3 | W14: =T14 -> Dokumen | X14: =SUM(X15:X16) -> 16297097 | Z14: =W14 -> Dokumen | AA14: =SUM(AA15:AA16) -> 0 | AB14: =P14+S14+V14+Y14 -> 8 | AC14: =Q14 -> Dokumen | AD14: =R14+U14+X14+AA14 -> 26413097 | AE14: =AB14/M14*100 -> 72.727273 | AF14: =AD14/O14*100 -> 84.52191 | AG14: =J14+AB14 -> 19 | AH14: =AC14 -> Dokumen | AI14: =L14+AD14 -> 76349247 | AJ14: =AG14/G14*100 -> 22.891566 | AK14: =AI14/I14*100 -> 28.277499 | AL14: ARPUS | AO14: =AB14/G14*100 -> 9.6385542
D15: 2.23.01.2.01.01 | E15: Penyusunan Dokumen Perencanaan Perangkat Daerah | F15: Jumlah dokumen perencanaan perangkat daerah II dokumen | G15: 50 | H15: Dokumen | I15: 135000000 | J15: 6 | K15: Dokumen | L15: 24949900 | M15: 6 | N15: =H15 -> Dokumen | O15: 15625000 | P15: 2 | Q15: =N15 -> Dokumen | R15: 3960000 | S15: 2 | T15: =Q15 -> Dokumen | U15: 1980000 | V15: 2 | W15: =T15 -> Dokumen | X15: 9269871 | Z15: =W15 -> Dokumen | AB15: =P15+S15+V15+Y15 -> 6 | AC15: =Q15 -> Dokumen | AD15: =R15+U15+X15+AA15 -> 15209871 | AE15: =AB15/M15*100 -> 100 | AF15: =AD15/O15*100 -> 97.343174 | AG15: =J15+AB15 -> 12 | AH15: =AC15 -> Dokumen | AI15: =L15+AD15 -> 40159771 | AJ15: =AG15/G15*100 -> 24 | AK15: =AI15/I15*100 -> 29.747979 | AL15: ARPUS
D16: 2.23.01.2.01.07 | E16: Evaluasi Kinerja Perangkat Daerah | F16: Jumlah laporan evaluasi kinerja perangkat daerah II dokumen | G16: 33 | H16: Dokumen | I16: 135000000 | J16: 5 | K16: Dokumen | L16: 24986250 | M16: 4 | N16: Dokumen | O16: 15625000 | P16: 1 | Q16: =N16 -> Dokumen | R16: 4176000 | S16: 1 | T16: =Q16 -> Dokumen | U16: 0 | V16: 1 | W16: =T16 -> Dokumen | X16: 7027226 | Z16: =W16 -> Dokumen | AB16: =P16+S16+V16+Y16 -> 3 | AC16: =Q16 -> Dokumen | AD16: =R16+U16+X16+AA16 -> 11203226 | AE16: =AB16/M16*100 -> 75 | AF16: =AD16/O16*100 -> 71.700646 | AG16: =J16+AB16 -> 8 | AH16: =AC16 -> Dokumen | AI16: =L16+AD16 -> 36189476 | AJ16: =AG16/G16*100 -> 24.242424 | AK16: =AI16/I16*100 -> 26.807019 | AL16: ARPUS
D17: 2.23.01.2.02 | E17: Administrasi Keuangan Perangkat Daerah | F17: Persentase Serapan Anggaran Perangkat Daerah II % | G17: 100 | H17: % | I17: =SUM(I18:I19) -> 19962590440 | J17: 100 | K17: % | L17: =SUM(L18:L19) -> 3347392347 | M17: 100 | N17: =H17 -> % | O17: =SUM(O18:O19) -> 4021679348 | P17: 25 | Q17: =N17 -> % | R17: =SUM(R18:R19) -> 809990889 | S17: 25 | T17: =Q17 -> % | U17: =SUM(U18:U19) -> 1078845668 | V17: 25 | W17: =T17 -> % | X17: =SUM(X18:X19) -> 776212026 | Z17: =W17 -> % | AA17: =SUM(AA18:AA19) -> 0 | AB17: =P17+S17+V17+Y17 -> 75 | AC17: =Q17 -> % | AD17: =R17+U17+X17+AA17 -> 2665048583 | AE17: =AB17/M17*100 -> 75 | AF17: =AD17/O17*100 -> 66.267058 | AG17: =J17+AB17 -> 175 | AH17: =AC17 -> % | AI17: =L17+AD17 -> 6012440930 | AJ17: =AG17/G17*100 -> 175 | AK17: =AI17/I17*100 -> 30.118541 | AL17: ARPUS
D18: 2.23.01.2.02.01 | E18: Penyediaan Gaji dan Tunjangan ASN | F18: Jumlah orang yang menerima gaji dan tunjangan ASN II Orang/Bulan | G18: 1960 | H18: Orang/Bulan | I18: 19827590440 | J18: 392 | K18: Orang/bulan | L18: 3322545797 | M18: 392 | N18: =H18 -> Orang/Bulan | O18: 4006053448 | P18: 98 | Q18: =N18 -> Orang/Bulan | R18: 806174889 | S18: 98 | T18: =Q18 -> Orang/Bulan | U18: 1078845668 | V18: 98 | W18: =T18 -> Orang/Bulan | X18: 766593111 | Z18: =W18 -> Orang/Bulan | AB18: =P18+S18+V18+Y18 -> 294 | AC18: =Q18 -> Orang/Bulan | AD18: =R18+U18+X18+AA18 -> 2651613668 | AE18: =AB18/M18*100 -> 75 | AF18: =AD18/O18*100 -> 66.190172 | AG18: =J18+AB18 -> 686 | AH18: =AC18 -> Orang/Bulan | AI18: =L18+AD18 -> 5974159465 | AJ18: =AG18/G18*100 -> 35 | AK18: =AI18/I18*100 -> 30.130537 | AL18: ARPUS
D19: 2.23.01.2.02.07 | E19: Koordinasi dan Penyusunan Laporan Keuangan Bulanan/Triwulanan/Semesteran SKPD | F19: Jumlah Laporan KeuanganBulanan/ Triwulanan/ Semesteran SKPD dan Laporan Koordinasi Penyusunan Laporan Keuangan Bulanan/Triwulanan/Semesteran SKPD II Laporan | G19: 14 | H19: Laporan | I19: 135000000 | J19: 2 | K19: Laporan | L19: 24846550 | M19: 2 | N19: =H19 -> Laporan | O19: 15625900 | P19: 1 | Q19: =N19 -> Laporan | R19: 3816000 | S19: 0 | T19: =Q19 -> Laporan | U19: 0 | V19: 1 | W19: =T19 -> Laporan | X19: 9618915 | Z19: =W19 -> Laporan | AB19: =P19+S19+V19+Y19 -> 2 | AC19: =Q19 -> Laporan | AD19: =R19+U19+X19+AA19 -> 13434915 | AE19: =AB19/M19*100 -> 100 | AF19: =AD19/O19*100 -> 85.978504 | AG19: =J19+AB19 -> 4 | AH19: =AC19 -> Laporan | AI19: =L19+AD19 -> 38281465 | AJ19: =AG19/G19*100 -> 28.571429 | AK19: =AI19/I19*100 -> 28.356641 | AL19: ARPUS
D20: 2.23.01.2.05 | E20: Administrasi Kepegawaian Perangkat Daerah | F20: Jumlah Pegawai yang Menerima Pelayanan Kepegawaian sesuai Prosedur || Orang | G20: 140 | H20: Orang | I20: =SUM(I21) -> 150000000 | J20: 28 | K20: Orang | L20: =SUM(L21) -> 18035348 | M20: 25 | N20: =H20 -> Orang | O20: =O21 -> 10000000 | P20: 6 | Q20: =N20 -> Orang | R20: =R21 -> 0 | S20: 6 | T20: =Q20 -> Orang | U20: =U21 -> 0 | V20: 7 | W20: =T20 -> Orang | X20: =X21 -> 0 | Z20: =W20 -> Orang | AA20: =AA21 -> 0 | AB20: =P20+S20+V20+Y20 -> 19 | AC20: =Q20 -> Orang | AD20: =R20+U20+X20+AA20 -> 0 | AE20: =AB20/M20*100 -> 76 | AF20: =AD20/O20*100 -> 0 | AG20: =J20+AB20 -> 47 | AH20: =AC20 -> Orang | AI20: =L20+AD20 -> 18035348 | AJ20: =AG20/G20*100 -> 33.571429 | AK20: =AI20/I20*100 -> 12.023565 | AL20: ARPUS
D21: 2.23.01.2.05.11 | E21: Bimbingan Teknis Implementasi Peraturan Perundang-Undangan | F21: Jumlah Orang yang Mengikuti Bimbingan Teknis Implementasi PeraturanPerundang Undangan II Orang | G21: 15 | H21: Orang | I21: 150000000 | J21: 3 | K21: Orang | L21: 18035348 | M21: 3 | N21: =H21 -> Orang | O21: 10000000 | P21: 1 | Q21: =N21 -> Orang | R21: 0 | S21: 1 | T21: =Q21 -> Orang | U21: 0 | W21: =T21 -> Orang | X21: 0 | Z21: =W21 -> Orang | AB21: =P21+S21+V21+Y21 -> 2 | AC21: =Q21 -> Orang | AD21: =R21+U21+X21+AA21 -> 0 | AE21: =AB21/M21*100 -> 66.666667 | AF21: =AD21/O21*100 -> 0 | AG21: =J21+AB21 -> 5 | AH21: =AC21 -> Orang | AI21: =L21+AD21 -> 18035348 | AJ21: =AG21/G21*100 -> 33.333333 | AK21: =AI21/I21*100 -> 12.023565 | AL21: ARPUS
D22: 2.23.01.2.06 | E22: Administrasi Umum Perangkat Daerah | F22: Jumlah Penyediaan Administrasi Umum Perangkat Daerah || Paket | G22: 60 | H22: Paket | I22: =SUM(I23:I29) -> 2620000000 | J22: 12 | K22: Paket | L22: =SUM(L23:L29) -> 642478920 | M22: 12 | N22: =H22 -> Paket | O22: =SUM(O23:O29) -> 336191500 | P22: 3 | Q22: =N22 -> Paket | R22: =SUM(R23:R29) -> 15095479 | S22: 3 | T22: =Q22 -> Paket | U22: =SUM(U23:U29) -> 51570351 | V22: 3 | W22: =T22 -> Paket | X22: =SUM(X23:X29) -> 61823697 | Z22: =W22 -> Paket | AA22: =SUM(AA23:AA29) -> 0 | AB22: =P22+S22+V22+Y22 -> 9 | AC22: =Q22 -> Paket | AD22: =R22+U22+X22+AA22 -> 128489527 | AE22: =AB22/M22*100 -> 75 | AF22: =AD22/O22*100 -> 38.219148 | AG22: =J22+AB22 -> 21 | AH22: =AC22 -> Paket | AI22: =L22+AD22 -> 770968447 | AJ22: =AG22/G22*100 -> 35 | AK22: =AI22/I22*100 -> 29.426277 | AL22: ARPUS
D23: 2.23.01.2.06.01 | E23: Penyediaan Komponen Instalasi Listrik/Penerangan Bangunan Kantor | F23: Jumlah paket komponen instalas i listrik / penerangan bangunan kantor yang disediakanII Paket | G23: 60 | H23: Paket | I23: 300000000 | J23: 12 | K23: Paket | L23: 44543950 | M23: 12 | N23: =H23 -> Paket | O23: 32500000 | P23: 3 | Q23: =N23 -> Paket | R23: 0 | S23: 3 | T23: =Q23 -> Paket | U23: 12742800 | V23: 3 | W23: =T23 -> Paket | X23: 7778880 | Z23: =W23 -> Paket | AB23: =P23+S23+V23+Y23 -> 9 | AC23: =Q23 -> Paket | AD23: =R23+U23+X23+AA23 -> 20521680 | AE23: =AB23/M23*100 -> 75 | AF23: =AD23/O23*100 -> 63.143631 | AG23: =J23+AB23 -> 21 | AH23: =AC23 -> Paket | AI23: =L23+AD23 -> 65065630 | AJ23: =AG23/G23*100 -> 35 | AK23: =AI23/I23*100 -> 21.688543 | AL23: ARPUS
D24: 2.23.01.2.06.02 | E24: Penyediaan Peralatan dan Perlengkapan Kantor | F24: Jumlah paket peralatan dan perlengkapan kantor yang disediakan II Paket | G24: 60 | H24: Paket | I24: 1210000000 | J24: 12 | K24: Paket | L24: 341671400 | M24: 12 | N24: =H24 -> Paket | O24: 176641300 | P24: 3 | Q24: =N24 -> Paket | R24: 700000 | S24: 3 | T24: =Q24 -> Paket | U24: 700000 | V24: 3 | W24: =T24 -> Paket | X24: 12750850 | Z24: =W24 -> Paket | AB24: =P24+S24+V24+Y24 -> 9 | AC24: =Q24 -> Paket | AD24: =R24+U24+X24+AA24 -> 14150850 | AE24: =AB24/M24*100 -> 75 | AF24: =AD24/O24*100 -> 8.0110654 | AG24: =J24+AB24 -> 21 | AH24: =AC24 -> Paket | AI24: =L24+AD24 -> 355822250 | AJ24: =AG24/G24*100 -> 35 | AK24: =AI24/I24*100 -> 29.406798 | AL24: ARPUS
D25: 2.23.01.2.06.03 | E25: Penyediaan Peralatan Rumah Tangga | F25: Jumlah Paket Peralatan Rumah Tangga yang Disediakan II Paket | G25: 60 | H25: Paket | I25: 250000000 | J25: 12 | K25: Paket | L25: 39445010 | M25: 12 | N25: =H25 -> Paket | O25: 28750000 | P25: 3 | Q25: =N25 -> Paket | R25: 0 | S25: 3 | T25: =Q25 -> Paket | U25: 12582350 | V25: 3 | W25: =T25 -> Paket | X25: 8010482 | Z25: =W25 -> Paket | AB25: =P25+S25+V25+Y25 -> 9 | AC25: =Q25 -> Paket | AD25: =R25+U25+X25+AA25 -> 20592832 | AE25: =AB25/M25*100 -> 75 | AF25: =AD25/O25*100 -> 71.627242 | AG25: =J25+AB25 -> 21 | AH25: =AC25 -> Paket | AI25: =L25+AD25 -> 60037842 | AJ25: =AG25/G25*100 -> 35 | AK25: =AI25/I25*100 -> 24.015137 | AL25: ARPUS
D26: 2.23.01.2.06.04 | E26: Penyediaan Bahan Logistik Kantor | F26: Jumlah Paket Bahan Logistik Kantor yang Disediakan II Paket | G26: 60 | H26: Paket | I26: 235000000 | J26: 12 | K26: Paket | L26: 58396700 | M26: 12 | N26: =H26 -> Paket | O26: 29863050 | P26: 3 | Q26: =N26 -> Paket | R26: 5719000 | S26: 3 | T26: =Q26 -> Paket | U26: 8904750 | V26: 3 | W26: =T26 -> Paket | X26: 11422500 | Z26: =W26 -> Paket | AB26: =P26+S26+V26+Y26 -> 9 | AC26: =Q26 -> Paket | AD26: =R26+U26+X26+AA26 -> 26046250 | AE26: =AB26/M26*100 -> 75 | AF26: =AD26/O26*100 -> 87.218988 | AG26: =J26+AB26 -> 21 | AH26: =AC26 -> Paket | AI26: =L26+AD26 -> 84442950 | AJ26: =AG26/G26*100 -> 35 | AK26: =AI26/I26*100 -> 35.93317 | AL26: ARPUS
D27: 2.23.01.2.06.05 | E27: Penyediaan Barang Cetakan dan Penggandaan | F27: Jumlah paket Barang Cetakan dan Penggandaan yang disediakan II paket | G27: 60 | H27: Paket | I27: 135000000 | J27: 12 | K27: Paket | L27: 48677300 | M27: 12 | N27: =H27 -> Paket | O27: 15651000 | P27: 3 | Q27: =N27 -> Paket | R27: 1900875 | S27: 3 | T27: =Q27 -> Paket | U27: 300000 | V27: 3 | W27: =T27 -> Paket | X27: 6028550 | Z27: =W27 -> Paket | AB27: =P27+S27+V27+Y27 -> 9 | AC27: =Q27 -> Paket | AD27: =R27+U27+X27+AA27 -> 8229425 | AE27: =AB27/M27*100 -> 75 | AF27: =AD27/O27*100 -> 52.580826 | AG27: =J27+AB27 -> 21 | AH27: =AC27 -> Paket | AI27: =L27+AD27 -> 56906725 | AJ27: =AG27/G27*100 -> 35 | AK27: =AI27/I27*100 -> 42.15313 | AL27: ARPUS
D28: 2.23.01.2.06.06 | E28: Penyediaan Bahan Bacaan dan Peraturan Perundang-undangan | F28: Jumlah Dokumen Bahan Bacaan dan Peraturan Perundang-Undangan yang Disediakan II Dokumen | G28: 60 | H28: Dokumen | I28: 85000000 | J28: 12 | K28: =H28 -> Dokumen | L28: 14972850 | M28: 12 | N28: =H28 -> Dokumen | O28: 12786150 | P28: 3 | Q28: =N28 -> Dokumen | R28: 1250000 | S28: 3 | T28: =Q28 -> Dokumen | U28: 1875000 | V28: 3 | W28: =T28 -> Dokumen | X28: 4659435 | Z28: =W28 -> Dokumen | AB28: =P28+S28+V28+Y28 -> 9 | AC28: =Q28 -> Dokumen | AD28: =R28+U28+X28+AA28 -> 7784435 | AE28: =AB28/M28*100 -> 75 | AF28: =AD28/O28*100 -> 60.881774 | AG28: =J28+AB28 -> 21 | AH28: =AC28 -> Dokumen | AI28: =L28+AD28 -> 22757285 | AJ28: =AG28/G28*100 -> 35 | AK28: =AI28/I28*100 -> 26.773276 | AL28: ARPUS
D29: 2.23.01.2.06.09 | E29: Penyelenggaraan Rapat Koordinasi dan Konsultasi SKPD | F29: Jumlah laporan penyelenggaraan Rapat Koordinasi danKonsultasi SKPD II Laporan | G29: 60 | H29: Laporan | I29: 405000000 | J29: 12 | K29: Laporan | L29: 94771710 | M29: 12 | N29: =H29 -> Laporan | O29: 40000000 | P29: 3 | Q29: =N29 -> Laporan | R29: 5525604 | S29: 3 | T29: =Q29 -> Laporan | U29: 14465451 | V29: 3 | W29: =T29 -> Laporan | X29: 11173000 | Z29: =W29 -> Laporan | AB29: =P29+S29+V29+Y29 -> 9 | AC29: =Q29 -> Laporan | AD29: =R29+U29+X29+AA29 -> 31164055 | AE29: =AB29/M29*100 -> 75 | AF29: =AD29/O29*100 -> 77.910138 | AG29: =J29+AB29 -> 21 | AH29: =AC29 -> Laporan | AI29: =L29+AD29 -> 125935765 | AJ29: =AG29/G29*100 -> 35 | AK29: =AI29/I29*100 -> 31.095251 | AL29: ARPUS
D30: 2.23.01.2.08 | E30: Penyediaan Jasa Penunjang Urusan Pemeerintah Daerah | F30: Jumlah laporan pelaksanaan penyediaan jasa penunjang urusan pemerintah daerah IIlaporan | G30: 60 | H30: Laporan | I30: =SUM(I31:I33) -> 4032384840 | J30: 12 | K30: Laporan | L30: =SUM(L31:L33) -> 814981053 | M30: 12 | N30: =H30 -> Laporan | O30: =SUM(O31:O33) -> 830436368 | P30: 3 | Q30: =N30 -> Laporan | R30: =SUM(R31:R33) -> 117574371 | S30: 3 | T30: =Q30 -> Laporan | U30: =SUM(U31:U33) -> 153646478 | V30: 3 | W30: =T30 -> Laporan | X30: =SUM(X31:X33) -> 145822830 | Z30: =W30 -> Laporan | AA30: =SUM(AA31:AA33) -> 0 | AB30: =P30+S30+V30+Y30 -> 9 | AC30: =Q30 -> Laporan | AD30: =R30+U30+X30+AA30 -> 417043679 | AE30: =AB30/M30*100 -> 75 | AF30: =AD30/O30*100 -> 50.219824 | AG30: =J30+AB30 -> 21 | AH30: =AC30 -> Laporan | AI30: =L30+AD30 -> 1232024732 | AJ30: =AG30/G30*100 -> 35 | AK30: =AI30/I30*100 -> 30.553253 | AL30: ARPUS
D31: 2.23.01.2.08.02 | E31: Penyediaan Jasa Komunikasi, Sumber Daya Air dan Listrik | F31: Jumlah Laporan Penyediaan Jasa Komunikasi, Sumber Daya Air dan Listrik yang Disediakan II Laporan | G31: 60 | H31: Laporan | I31: 1000000000 | J31: 12 | K31: Laporan | L31: 147133543 | M31: 12 | N31: =H31 -> Laporan | O31: 198478900 | P31: 3 | Q31: =N31 -> Laporan | R31: 42573801 | S31: 3 | T31: =Q31 -> Laporan | U31: 47543328 | V31: 3 | W31: =T31 -> Laporan | X31: 36881000 | Z31: =W31 -> Laporan | AB31: =P31+S31+V31+Y31 -> 9 | AC31: =Q31 -> Laporan | AD31: =R31+U31+X31+AA31 -> 126998129 | AE31: =AB31/M31*100 -> 75 | AF31: =AD31/O31*100 -> 63.985708 | AG31: =J31+AB31 -> 21 | AH31: =AC31 -> Laporan | AI31: =L31+AD31 -> 274131672 | AJ31: =AG31/G31*100 -> 35 | AK31: =AI31/I31*100 -> 27.413167 | AL31: ARPUS
D32: 2.23.01.2.08.03 | E32: Penyediaan Jasa Peralatan dan Perlengkapan Kantor | F32: Jumlah Laporan Penyediaan Jasa Peralatan dan Perlengkapan Kantor yang Disediakan IILaporan | G32: 36 | H32: Laporan | I32: 250000000 | J32: 12 | K32: Laporan | L32: 49847400 | M32: 12 | N32: =H32 -> Laporan | O32: 31260500 | P32: 3 | Q32: =N32 -> Laporan | R32: 12454200 | S32: 3 | T32: =Q32 -> Laporan | U32: 0 | V32: 3 | W32: =T32 -> Laporan | X32: 16335870 | Z32: =W32 -> Laporan | AB32: =P32+S32+V32+Y32 -> 9 | AC32: =Q32 -> Laporan | AD32: =R32+U32+X32+AA32 -> 28790070 | AE32: =AB32/M32*100 -> 75 | AF32: =AD32/O32*100 -> 92.097279 | AG32: =J32+AB32 -> 21 | AH32: =AC32 -> Laporan | AI32: =L32+AD32 -> 78637470 | AJ32: =AG32/G32*100 -> 58.333333 | AK32: =AI32/I32*100 -> 31.454988 | AL32: ARPUS
D33: 2.23.01.2.08.04 | E33: Penyediaan Jasa Pelayanan Umum Kantor | F33: Jumlah Laporan Penyediaan Jasa Pelayanan Umum Kantor yang Disediakan IILaporan | G33: 36 | H33: Laporan | I33: 2782384840 | J33: 12 | K33: Laporan | L33: 618000110 | M33: 12 | N33: =H33 -> Laporan | O33: 600696968 | P33: 3 | Q33: =N33 -> Laporan | R33: 62546370 | S33: 3 | T33: =Q33 -> Laporan | U33: 106103150 | V33: 3 | W33: =T33 -> Laporan | X33: 92605960 | Z33: =W33 -> Laporan | AB33: =P33+S33+V33+Y33 -> 9 | AC33: =Q33 -> Laporan | AD33: =R33+U33+X33+AA33 -> 261255480 | AE33: =AB33/M33*100 -> 75 | AF33: =AD33/O33*100 -> 43.492059 | AG33: =J33+AB33 -> 21 | AH33: =AC33 -> Laporan | AI33: =L33+AD33 -> 879255590 | AJ33: =AG33/G33*100 -> 58.333333 | AK33: =AI33/I33*100 -> 31.60079 | AL33: ARPUS
D34: 2.23.01.2.09 | E34: Pemeliharaan Barang Milik Daerah Penunjang Urusan Pemerintahan Daerah | F34: Jumlah barang milik daerah yang di pelihara II Unit | G34: 94 | H34: Unit | I34: =SUM(I35:I37) -> 1220000000 | J34: 18 | K34: Unit | L34: =SUM(L35:L37) -> 210965470 | M34: 20 | N34: =H34 -> Unit | O34: =SUM(O35:O37) -> 172487200 | P34: 5 | Q34: =N34 -> Unit | R34: =SUM(R35:R37) -> 40508990 | S34: 5 | T34: =Q34 -> Unit | U34: =SUM(U35:U37) -> 34174900 | V34: 5 | W34: =T34 -> Unit | X34: =SUM(X35:X37) -> 70459817 | Z34: =W34 -> Unit | AA34: =SUM(AA35:AA37) -> 0 | AB34: =P34+S34+V34+Y34 -> 15 | AC34: =Z34 -> Unit | AD34: =R34+U34+X34+AA34 -> 145143707 | AE34: =AB34/M34*100 -> 75 | AF34: =AD34/O34*100 -> 84.147523 | AG34: =J34+AB34 -> 33 | AH34: =AC34 -> Unit | AI34: =L34+AD34 -> 356109177 | AJ34: =AG34/G34*100 -> 35.106383 | AK34: =AI34/I34*100 -> 29.189277 | AL34: ARPUS
D35: 2.23.01.2.09.01 | E35: Penyediaan Jasa Pemeliharaan, Biaya Pemeliharaan dan Pajak Kendaraan Perorangan Dinas atau Kendaraan Dinas Jabatan | F35: Jumlah Kendaraan Perorangan Dinas atau Kendaraan Dinas Jabatan yang Dipelihara dan dibayarkan Pajaknya II Unit | G35: 5 | H35: Unit | I35: 245000000 | J35: 2 | K35: Unit | L35: 48449820 | M35: 1 | N35: =H35 -> Unit | O35: 39000000 | P35: 0 | Q35: =N35 -> Unit | R35: 4669990 | S35: 1 | T35: =Q35 -> Unit | U35: 11674900 | V35: 0 | W35: =T35 -> Unit | X35: 15875087 | Y35: 0 | Z35: =W35 -> Unit | AB35: =P35+S35+V35+Y35 -> 1 | AC35: =Q35 -> Unit | AD35: =R35+U35+X35+AA35 -> 32219977 | AE35: =AB35/M35*100 -> 100 | AF35: =AD35/O35*100 -> 82.615326 | AG35: =J35+AB35 -> 3 | AH35: =AC35 -> Unit | AI35: =L35+AD35 -> 80669797 | AJ35: =AG35/G35*100 -> 60 | AK35: =AI35/I35*100 -> 32.926448 | AL35: ARPUS
D36: 2.23.01.2.09.02 | E36: Penyediaan Jasa Pemeliharaan, Biaya Pemeliharaan, Pajak, dan Perizinan Kendaraan Dinas Operasional atau Lapangan | F36: Jumlah Kendaraan Dinas Operasional atau Lapangan yang Dipelihara dan dibayarkan Pajak dan Perizinannya II Unit | G36: 71 | H36: Unit | I36: 475000000 | J36: 15 | K36: Unit | L36: 93473400 | M36: 15 | N36: =H36 -> Unit | O36: 76987200 | P36: 3 | Q36: =N36 -> Unit | R36: 13277000 | S36: 4 | T36: =Q36 -> Unit | U36: 22500000 | V36: 4 | W36: =T36 -> Unit | X36: 26079500 | Z36: =W36 -> Unit | AB36: =P36+S36+V36+Y36 -> 11 | AC36: =Q36 -> Unit | AD36: =R36+U36+X36+AA36 -> 61856500 | AE36: =AB36/M36*100 -> 73.333333 | AF36: =AD36/O36*100 -> 80.346473 | AG36: =J36+AB36 -> 26 | AH36: =AC36 -> Unit | AI36: =L36+AD36 -> 155329900 | AJ36: =AG36/G36*100 -> 36.619718 | AK36: =AI36/I36*100 -> 32.701032 | AL36: ARPUS
D37: 2.23.01.2.09.09 | E37: Pemeliharaan/Rehabilitasi Gedung Kantor dan Bangunan Lainnya | F37: Jumlah Gedung Kantor dan Bangunan Lainnya yang Dipelihara /Direhabilitasi II Unit | G37: 15 | H37: Unit | I37: 500000000 | J37: 3 | K37: Unit | L37: 69042250 | M37: 3 | N37: =H37 -> Unit | O37: 56500000 | P37: 1 | Q37: =N37 -> Unit | R37: 22562000 | S37: 0 | T37: =Q37 -> Unit | U37: 0 | V37: 1 | W37: =T37 -> Unit | X37: 28505230 | Z37: =W37 -> Unit | AB37: =P37+S37+V37+Y37 -> 2 | AC37: =Q37 -> Unit | AD37: =R37+U37+X37+AA37 -> 51067230 | AE37: =AB37/M37*100 -> 66.666667 | AF37: =AD37/O37*100 -> 90.384478 | AG37: =J37+AB37 -> 5 | AH37: =AC37 -> Unit | AI37: =L37+AD37 -> 120109480 | AJ37: =AG37/G37*100 -> 33.333333 | AK37: =AI37/I37*100 -> 24.021896 | AL37: ARPUS
B38: Meningkatkan Pendidikan Masyarkat Melalui Pembangunan Literasi Masyarakat | C38: Meningkatnya Budaya Gemar Membaca Masyarakat | D38: 2.23.02 | E38: PROGRAM PEMBINAAN PERPUSTAKAAN | F38: Persentase perpustakaan yang di bina II % | G38: 72.5 | H38: % | I38: =I40+I48 -> 4100835350 | J38: 0 | K38: % | L38: =L40+L48 -> 754330648 | M38: 52.5 | N38: =H38 -> % | O38: =O40+O48 -> 1041626350 | P38: 13.12 | Q38: =N38 -> % | R38: =R40+R48 -> 30833222 | S38: 13.12 | T38: =Q38 -> % | U38: =U40+U48 -> 113748469 | V38: 13.12 | W38: =T38 -> % | X38: =X40+X48 -> 764515530 | Z38: =W38 -> % | AA38: =AA40+AA48 -> 0 | AB38: =P38+S38+V38+Y38 -> 39.36 | AC38: =Q38 -> % | AD38: =R38+U38+X38+AA38 -> 909097221 | AE38: =AB38/M38*100 -> 74.971429 | AF38: =AD38/O38*100 -> 87.276711 | AG38: =J38+AB38 -> 39.36 | AH38: =AC38 -> % | AI38: =L38+AD38 -> 1663427869 | AJ38: =AG38/G38*100 -> 54.289655 | AK38: =AI38/I38*100 -> 40.563147 | AL38: ARPUS | AM38: 1270760353 | AN38: =AM38-AD38 -> 361663132 | AO38: Anggaran Program Pembinaan Perpustakaan pada Renja lebih besar dari Renstra karena pada saat Perubahan Penjabaran DPA mendapat tambahan anggaran bersumber dari DAK, dan hal tersebut belum masuk dalam Renstra
F39: Tingkat Kegemaran Membaca II Nilai | G39: 71.8 | H39: Nilai | I39: =I40+I48 -> 4100835350 | J39: 78.53 | K39: Indeks | L39: =L40+L48 -> 754330648 | M39: 67.8 | N39: =H39 -> Nilai | O39: =O40+O48 -> 1041626350 | P39: 16.95 | Q39: =N39 -> Nilai | R39: =R40+R48 -> 30833222 | S39: 16.95 | T39: =Q39 -> Nilai | U39: =U40+U48 -> 113748469 | V39: 16.95 | W39: =T39 -> Nilai | X39: =X40+X48 -> 764515530 | Z39: =W39 -> Nilai | AA39: =AA40+AA48 -> 0 | AB39: =P39+S39+V39+Y39 -> 50.85 | AC39: =Q39 -> Nilai | AD39: =R39+U39+X39+AA39 -> 909097221 | AE39: =AB39/M39*100 -> 75 | AF39: =AD39/O39*100 -> 87.276711 | AG39: =J39+AB39 -> 129.38 | AH39: =AC39 -> Nilai | AI39: =L39+AD39 -> 1663427869 | AJ39: =AG39/G39*100 -> 180.19499 | AK39: =AI39/I39*100 -> 40.563147
D40: 2.23.02.2.01 | E40: Pengelolaan Perpustakaan Tingkat Daerah Kabupaten/Kota | F40: Jumlah perpustakaan yang dibina II perpustakaan | G40: 1738 | H40: Perpustakaan | I40: =SUM(I41:I47) -> 2894585350 | J40: 170 | K40: =H40 -> Perpustakaan | L40: =SUM(L41:L47) -> 484845529 | M40: 510 | N40: =H40 -> Perpustakaan | O40: =SUM(O41:O47) -> 551543750 | P40: 130 | Q40: =N40 -> Perpustakaan | R40: =SUM(R41:R47) -> 25670722 | S40: 130 | T40: =Q40 -> Perpustakaan | U40: =SUM(U41:U47) -> 22472514 | V40: 130 | W40: =T40 -> Perpustakaan | X40: =SUM(X41:X47) -> 418226241 | Z40: =W40 -> Perpustakaan | AA40: =SUM(AA41:AA47) -> 0 | AB40: =P40+S40+V40+Y40 -> 390 | AC40: =Q40 -> Perpustakaan | AD40: =R40+U40+X40+AA40 -> 466369477 | AE40: =AB40/M40*100 -> 76.470588 | AF40: =AD40/O40*100 -> 84.557114 | AG40: =J40+AB40 -> 560 | AH40: =AC40 -> Perpustakaan | AI40: =L40+AD40 -> 951215006 | AJ40: =AG40/G40*100 -> 32.220944 | AK40: =AI40/I40*100 -> 32.861875 | AL40: ARPUS
D41: 2.23.02.2.01.01 | E41: Pembinaan Perpustakaan pada Satuan Pendidikan Dasar di Seluruh Wilayah Kabupaten/Kota Sesuai dengan Standar Nasional Perpustakaan | F41: Jumlah Perpustakaan pada Satuan Pendidikan Dasar dan yang Dilakukan Pembinaan dalam Mewujudkan Standar Nasional Perpustakaan II Perpustakaan | G41: 500 | H41: layanan | I41: 274729500 | J41: 100 | K41: layanan | L41: 69075097 | M41: 100 | N41: perpustakaan | O41: 34083950 | P41: 25 | Q41: =N41 -> perpustakaan | R41: 1054300 | S41: 25 | T41: =Q41 -> perpustakaan | U41: 4806350 | V41: 25 | W41: =T41 -> perpustakaan | X41: 20450000 | Z41: =W41 -> perpustakaan | AB41: =P41+S41+V41+Y41 -> 75 | AC41: =Q41 -> perpustakaan | AD41: =R41+U41+X41+AA41 -> 26310650 | AE41: =AB41/M41*100 -> 75 | AF41: =AD41/O41*100 -> 77.193664 | AG41: =J41+AB41 -> 175 | AH41: =AC41 -> perpustakaan | AI41: =L41+AD41 -> 95385747 | AJ41: =AG41/G41*100 -> 35 | AK41: =AI41/I41*100 -> 34.719878 | AL41: ARPUS
D42: 2.23.02.2.01.02 | E42: Pengembangan Perpustakaan di Tingkat Daerah Kabupaten/Kota | F42: Jumlah Perpustakaan yang Dikembangkan di Tingkat Daerah Kabupaten/Kota Sesuai Standar Nasional Perpustakaan di Wilayah Kabupaten/Kota Sesuai Kewenangannya II Perpustakaan | G42: 500 | H42: Perpustakaan | I42: 427357000 | J42: 50 | K42: Perpustakaan | L42: 88456700 | M42: 50 | N42: =H42 -> Perpustakaan | O42: 116307550 | P42: 10 | Q42: =N42 -> Perpustakaan | R42: 7245199 | S42: 10 | T42: =Q42 -> Perpustakaan | U42: 6460000 | V42: 15 | W42: =T42 -> Perpustakaan | X42: 83067565 | Z42: =W42 -> Perpustakaan | AB42: =P42+S42+V42+Y42 -> 35 | AC42: =Q42 -> Perpustakaan | AD42: =R42+U42+X42+AA42 -> 96772764 | AE42: =AB42/M42*100 -> 70 | AF42: =AD42/O42*100 -> 83.204198 | AG42: =J42+AB42 -> 85 | AH42: =AC42 -> Perpustakaan | AI42: =L42+AD42 -> 185229464 | AJ42: =AG42/G42*100 -> 17 | AK42: =AI42/I42*100 -> 43.343028 | AL42: ARPUS
D43: 2.23.02.2.01.03 | E43: Pembinaan Perpustakaan Umum dan Khusus Tingkat Kabupaten/Kota | F43: Jumlah perpustakaan umum dan khusus yang dibina sesuai kewenangan Kabupaten/Kota dalam mewujdukan Standar Nasional Perpustakaan II Perpustakaan | G43: 38 | H43: Perpustakaan | I43: 249204000 | J43: 597 | K43: Perpustakaan | L43: 49239160 | M43: 30 | N43: Perpustakaan | O43: 28450000 | Q43: =N43 -> Perpustakaan | R43: 0 | S43: 30 | T43: =N43 -> Perpustakaan | W43: =N43 -> Perpustakaan | X43: 11758504 | Z43: =N43 -> Perpustakaan | AB43: =P43+S43+V43+Y43 -> 30 | AC43: =N43 -> Perpustakaan | AD43: =R43+U43+X43+AA43 -> 11758504 | AE43: =AB43/M43*100 -> 100 | AF43: =AD43/O43*100 -> 41.330418 | AG43: =J43+AB43 -> 627 | AH43: Eksemplar | AI43: =L43+AD43 -> 60997664 | AJ43: =AG43/G43*100 -> 1650 | AK43: =AI43/I43*100 -> 24.477 | AL43: ARPUS
D44: 2.23.02.2.01.04 | E44: Penyusunan Data dan Informasi Perpustakaan | F44: Jumlah Data dan informasi Perpustakaan II Dokumen | G44: 5 | H44: Dokumen | I44: 122102000 | J44: 100 | K44: Dokumen | L44: 59581600 | M44: 1 | N44: Dokumen | O44: 14000000 | Q44: =N44 -> Dokumen | R44: 0 | T44: =Q44 -> Dokumen | V44: 1 | W44: =T44 -> Dokumen | X44: 4400000 | Z44: =W44 -> Dokumen | AB44: =P44+S44+V44+Y44 -> 1 | AC44: =Z44 -> Dokumen | AD44: =R44+U44+X44+AA44 -> 4400000 | AE44: =AB44/M44*100 -> 100 | AF44: =AD44/O44*100 -> 31.428571 | AG44: =J44+AB44 -> 101 | AH44: =AC44 -> Dokumen | AI44: =L44+AD44 -> 63981600 | AJ44: =AG44/G44*100 -> 2020 | AK44: =AI44/I44*100 -> 52.400124 | AL44: ARPUS
D45: 2.23.02.2.01.13 | E45: Pengelolaan dan Pengembangan Bahan Perpustakaan | F45: Jumlah Bahan Perpustakaan yang Dilakukan Pengelolaan dan Pengembangan untuk Mewujudkan Keberagaman Koleksi Perpustakaan II Eksemplar | G45: 110558 | H45: Eksemplar | I45: 1242387850 | J45: 90000 | K45: Eksemplar | L45: 49607650 | M45: 94558 | N45: Eksemplar | O45: 134422300 | Q45: =N45 -> Eksemplar | R45: 0 | T45: =Q45 -> Eksemplar | V45: 94558 | W45: =T45 -> Eksemplar | X45: 133760000 | Z45: =W45 -> Eksemplar | AB45: =P45+S45+V45+Y45 -> 94558 | AC45: =Q45 -> Eksemplar | AD45: =R45+U45+X45+AA45 -> 133760000 | AE45: =AB45/M45*100 -> 100 | AF45: =AD45/O45*100 -> 99.507299 | AG45: =J45+AB45 -> 184558 | AH45: =AC45 -> Eksemplar | AI45: =L45+AD45 -> 183367650 | AJ45: =AG45/G45*100 -> 166.93319 | AK45: =AI45/I45*100 -> 14.759292 | AL45: ARPUS
D46: 2.23.02.2.01.09 | E46: Pengembangan Kekhasan Koleksi Perpustakaan Daerah Tingkat Kabupaten/Kota | F46: Jumlah Koleksi Perpustakaan Khas Dearah Tingkat Kabupaten/Kota yang Dikembangkan II Eksemplar | G46: 900 | H46: Eksemlar | I46: 300255000 | J46: 1017 | K46: Eksemplar | L46: 124336450 | M46: 750 | N46: Eksemplar | O46: 208269700 | P46: 0 | Q46: Eksemplar | R46: 9043281 | S46: 0 | T46: =Q46 -> Eksemplar | U46: 8090000 | V46: 750 | W46: =T46 -> Eksemplar | X46: 164790172 | Z46: =W46 -> Eksemplar | AB46: =P46+S46+V46+Y46 -> 750 | AC46: =Q46 -> Eksemplar | AD46: =R46+U46+X46+AA46 -> 181923453 | AE46: =AB46/M46*100 -> 100 | AF46: =AD46/O46*100 -> 87.349938 | AG46: =J46+AB46 -> 1767 | AH46: =AC46 -> Eksemplar | AI46: =L46+AD46 -> 306259903 | AJ46: =AG46/G46*100 -> 196.33333 | AK46: =AI46/I46*100 -> 101.99993 | AL46: ARPUS
D47: 2.23.02.2.01.09 | E47: Pengembangan dan Pemeliharaan Layanan Perpustakaan Elektronik | F47: Jumlah Layanan Perpustakaan Elektronik yang Dikembangkan dengan Manajemen Layanan TIK II Perpustakaan | G47: 270 | H47: Layanan | I47: 278550000 | J47: 89774 | K47: =H47 -> Layanan | L47: 44548872 | M47: 30 | N47: =K47 -> Layanan | O47: 16010250 | P47: 10 | Q47: =N47 -> Layanan | R47: 8327942 | S47: 10 | T47: =Q47 -> Layanan | U47: 3116164 | V47: 5 | W47: =T47 -> Layanan | X47: 0 | Z47: =W47 -> Layanan | AB47: =P47+S47+V47+Y47 -> 25 | AC47: =Q47 -> Layanan | AD47: =R47+U47+X47+AA47 -> 11444106 | AE47: =AB47/M47*100 -> 83.333333 | AF47: =AD47/O47*100 -> 71.479871 | AG47: =J47+AB47 -> 89799 | AH47: =AC47 -> Layanan | AI47: =L47+AD47 -> 55992978 | AJ47: =AG47/G47*100 -> 33258.889 | AK47: =AI47/I47*100 -> 20.10159 | AL47: ARPUS
D48: 2.23.02.2.02 | E48: Pembudayaan Gemar Membaca Tingkat Daerah Kabupaten/Kota | F48: Jumlah Kegiatan pembudayaan gemar membaca II kegiatan | G48: 24 | H48: Kegiatan | I48: =SUM(I49:I52) -> 1206250000 | J48: 8 | K48: Kegiatan | L48: =SUM(L49:L52) -> 269485119 | M48: 8 | N48: =H48 -> Kegiatan | O48: =SUM(O49:O52) -> 490082600 | P48: 2 | Q48: =N48 -> Kegiatan | R48: =SUM(R49:R52) -> 5162500 | S48: 2 | T48: =Q48 -> Kegiatan | U48: =SUM(U49:U52) -> 91275955 | V48: 2 | W48: =T48 -> Kegiatan | X48: =SUM(X49:X52) -> 346289289 | Z48: =W48 -> Kegiatan | AA48: =SUM(AA49:AA52) -> 0 | AB48: =P48+S48+V48+Y48 -> 6 | AC48: =Q48 -> Kegiatan | AD48: =R48+U48+X48+AA48 -> 442727744 | AE48: =AB48/M48*100 -> 75 | AF48: =AD48/O48*100 -> 90.337373 | AG48: =J48+AB48 -> 14 | AH48: =AC48 -> Kegiatan | AI48: =L48+AD48 -> 712212863 | AJ48: =AG48/G48*100 -> 58.333333 | AK48: =AI48/I48*100 -> 59.043553 | AL48: ARPUS
D49: 2.23.02.2.02.01 | E49: Pemilihan Duta Baca/Bunda Baca/Bunda Literasi Tingkat Daerah Kabupaten/Kota | F49: Jumlah Duta Baca/Bunda Baca/Bunda Literasi Tingkat Daerah Kabupaten/Kota yang dipilih dan didukung kegiatannya II Orang | G49: 15 | H49: Orang | I49: 110500000 | J49: 80 | K49: Orang | L49: 72204502 | M49: 3 | N49: orang | O49: 13167200 | P49: 1 | Q49: =N49 -> orang | R49: 0 | S49: 1 | T49: =Q49 -> orang | U49: 11946800 | V49: 1 | W49: =T49 -> orang | X49: 0 | Z49: =W49 -> orang | AB49: =P49+S49+V49+Y49 -> 3 | AC49: =Q49 -> orang | AD49: =R49+U49+X49+AA49 -> 11946800 | AE49: =AB49/M49*100 -> 100 | AF49: =AD49/O49*100 -> 90.731515 | AG49: =J49+AB49 -> 83 | AH49: =AC49 -> orang | AI49: =L49+AD49 -> 84151302 | AJ49: =AG49/G49*100 -> 553.33333 | AK49: =AI49/I49*100 -> 76.155024 | AL49: ARPUS
E50: Pengembangan Literasi Berbasis Inklusi Sosial | F50: Jumlah layanan perpustakaan berbasis inklusi sosial di wilayah Kabupaten/Kota yang dikembangkan II Perpustakaan | G50: 128 | H50: Perpustakaan | I50: 195750000 | M50: 18 | N50: perpustakaan | O50: 23793100 | P50: 4 | Q50: =N50 -> perpustakaan | R50: 0 | S50: 4 | T50: =Q50 -> perpustakaan | V50: 4 | W50: =T50 -> perpustakaan | X50: 20014651 | Z50: =W50 -> perpustakaan | AB50: =P50+S50+V50+Y50 -> 12 | AC50: Unit | AD50: =R50+U50+X50+AA50 -> 20014651 | AE50: =AB50/M50*100 -> 66.666667 | AF50: =AD50/O50*100 -> 84.11956 | AG50: =J50+AB50 -> 12 | AI50: =L50+AD50 -> 20014651 | AJ50: =AG50/G50*100 -> 9.375 | AK50: =AI50/I50*100 -> 10.224598
D51: 2.23.02.2.02.03 | E51: Pemberian Penghargaan Gerakan Budaya Gemar Membaca | F51: Jumlah Orang yang Mendapatkan Penghargaan Gerakan Budaya Gemar Membaca Tingkat Kabupaten Kota II Orang | G51: 1260 | H51: Orang | I51: 500000000 | J51: 160 | K51: Orang | L51: 148816217 | M51: 160 | N51: =H51 -> Orang | O51: 182818700 | P51: 30 | Q51: =N51 -> Orang | R51: 0 | S51: 30 | T51: =Q51 -> Orang | U51: 59944155 | V51: 50 | W51: =T51 -> Orang | X51: 104598358 | Z51: =W51 -> Orang | AB51: =P51+S51+V51+Y51 -> 110 | AC51: =Q51 -> Orang | AD51: =R51+U51+X51+AA51 -> 164542513 | AE51: =AB51/M51*100 -> 68.75 | AF51: =AD51/O51*100 -> 90.003109 | AG51: =J51+AB51 -> 270 | AH51: =AC51 -> Orang | AI51: =L51+AD51 -> 313358730 | AJ51: =AG51/G51*100 -> 21.428571 | AK51: =AI51/I51*100 -> 62.671746 | AL51: ARPUS
D52: 2.23.02.2.02.07 | E52: Sosialisasi Budaya Baca dan Literasi pada Satuan Pendidikan Dasar dan Masyarakat | F52: Jumlah Lokus Pembudayaan Kegemaran Membaca dan Literasi pada Satuan Pendidikan II Lokus | G52: 450 | H52: Perpustakaan | I52: 400000000 | J52: 18 | K52: Perpustakaan | L52: 48464400 | M52: 80 | N52: lokasi | O52: 270303600 | P52: 20 | Q52: =N52 -> lokasi | R52: 5162500 | S52: 20 | T52: =Q52 -> lokasi | U52: 19385000 | V52: 20 | W52: =T52 -> lokasi | X52: 221676280 | Z52: =W52 -> lokasi | AB52: =P52+S52+V52+Y52 -> 60 | AC52: =Q52 -> lokasi | AD52: =R52+U52+X52+AA52 -> 246223780 | AE52: =AB52/M52*100 -> 75 | AF52: =AD52/O52*100 -> 91.091565 | AG52: =J52+AB52 -> 78 | AH52: =AC52 -> lokasi | AI52: =L52+AD52 -> 294688180 | AJ52: =AG52/G52*100 -> 17.333333 | AK52: =AI52/I52*100 -> 73.672045 | AL52: ARPUS
D53: 2.23.03 | E53: PROGRAM PELESTARIAN KOLEKSI NASIONAL DAN NASKAH KUNO | F53: Persentase Pelestarian Koleksi Nasional dan naskah Kuno yang dimiliki II % | G53: 5.11 | H53: Persen | I53: =I54+I57 -> 245250000 | J53: 2.55 | K53: =H53 -> Persen | L53: =L54+L57 -> 49226275 | M53: 3.4 | N53: =K53 -> Persen | O53: =O54+O57 -> 23117400 | P53: 0.85 | Q53: =N53 -> Persen | R53: =R54+R57 -> 1459650 | S53: 0.85 | T53: =Q53 -> Persen | U53: =U54+U57 -> 0 | V53: 0.85 | W53: =T53 -> Persen | X53: =X54+X57 -> 13792589 | Z53: =W53 -> Persen | AA53: =AA54+AA57 -> 0 | AB53: =P53+S53+V53+Y53 -> 2.55 | AC53: =Q53 -> Persen | AD53: =R53+U53+X53+AA53 -> 15252239 | AE53: =AB53/M53*100 -> 75 | AF53: =AD53/O53*100 -> 65.977311 | AG53: =J53+AB53 -> 5.1 | AH53: =AC53 -> Persen | AI53: =L53+AD53 -> 64478514 | AJ53: =AG53/G53*100 -> 99.804305 | AK53: =AI53/I53*100 -> 26.290933 | AL53: ARPUS | AM53: 40025850 | AN53: =AM53-AD53 -> 24773611
D54: 2.23.03.2.01 | E54: Pelestarian Naskah Kuno Milik Daerah Kabupaten /Kuno | F54: jumlah naskah kuno yang dilestarikan II naskah kuno | G54: 11 | H54: Naskah kuno | I54: =SUM(I55:I56) -> 163500000 | J54: 5 | K54: =H54 -> Naskah kuno | L54: =SUM(L55:L56) -> 34610650 | M54: 7 | N54: =K54 -> Naskah kuno | O54: =SUM(O55:O56) -> 15254900 | P54: 2 | Q54: =N54 -> Naskah kuno | R54: =SUM(R55:R56) -> 1459650 | S54: 0 | T54: =Q54 -> Naskah kuno | U54: =SUM(U55:U56) -> 0 | V54: 2 | W54: =T54 -> Naskah kuno | X54: =SUM(X55:X56) -> 5992409 | Z54: =W54 -> Naskah kuno | AA54: =SUM(AA55:AA56) -> 0 | AB54: =P54+S54+V54+Y54 -> 4 | AC54: =Q54 -> Naskah kuno | AD54: =R54+U54+X54+AA54 -> 7452059 | AE54: =AB54/M54*100 -> 57.142857 | AF54: =AD54/O54*100 -> 48.850265 | AG54: =J54+AB54 -> 9 | AH54: =AC54 -> Naskah kuno | AI54: =L54+AD54 -> 42062709 | AJ54: =AG54/G54*100 -> 81.818182 | AK54: =AI54/I54*100 -> 25.726428 | AL54: ARPUS
D55: 2.23.03.2.01.01 | E55: Peningkatan Peran Serta Masyarakat Dalam Penyimpanan, Perawatan, Pelestarian dan Pendaftaran Naskah Kuno | F55: Jumlah Masyarakat yang Berperan dalam Penyimpanan, Perawatan, Pelestarian, dan Pendaftaran Naskah Kuno II Orang | G55: 16 | H55: Orang | I55: 81750000 | J55: 2 | K55: Orang | L55: 19664500 | M55: 2 | N55: =H55 -> Orang | O55: 7648550 | P55: 0 | Q55: =N55 -> Orang | R55: 1459650 | S55: 0 | T55: =Q55 -> Orang | U55: 0 | V55: 2 | W55: =T55 -> Orang | X55: 5992409 | Z55: =W55 -> Orang | AB55: =P55+S55+V55+Y55 -> 2 | AC55: =Z55 -> Orang | AD55: =R55+U55+X55+AA55 -> 7452059 | AE55: =AB55/M55*100 -> 100 | AF55: =AD55/O55*100 -> 97.431003 | AG55: =J55+AB55 -> 4 | AH55: =AC55 -> Orang | AI55: =L55+AD55 -> 27116559 | AJ55: =AG55/G55*100 -> 25 | AK55: =AI55/I55*100 -> 33.170103 | AL55: ARPUS
D56: 2.23.03.2.01.02 | E56: Pengembangan, Pengolahan dan Pengalihmediaan Naskah Kuno yang Dimiliki oleh Masyarakat untuk Dilestarikan dan Didayagunakan | F56: Jumlah Naskah Kuno yang dimiliki masyarakat yang dilakukan pengembangan, pengolahan, pengalihmediaan untuk dilestarikan dan didayagunakan II Eksemplar | G56: 28 | H56: Eksemplar | I56: 81750000 | J56: 5 | K56: Eksemplar | L56: 14946150 | M56: 5 | N56: Eksemplar | O56: 7606350 | P56: 1 | Q56: =N56 -> Eksemplar | R56: 0 | S56: 1 | T56: =Q56 -> Eksemplar | U56: 0 | V56: 1 | W56: =T56 -> Eksemplar | Z56: =W56 -> Eksemplar | AB56: =P56+S56+V56+Y56 -> 3 | AC56: =Z56 -> Eksemplar | AD56: =R56+U56+X56+AA56 -> 0 | AE56: =AB56/M56*100 -> 60 | AF56: =AD56/O56*100 -> 0 | AG56: =J56+AB56 -> 8 | AH56: =AC56 -> Eksemplar | AI56: =L56+AD56 -> 14946150 | AJ56: =AG56/G56*100 -> 28.571429 | AK56: =AI56/I56*100 -> 18.282752 | AL56: ARPUS
D57: 2.23.03.2.02 | E57: Pengembangan Koleksi Budaya Etnis Nusantara yang ditemukan oleh Pemerintah Daerah Kabupaten /Kota | F57: jumlah koleksi budaya etnis nusantara yang di ketemukan II Koleksi | G57: 11 | H57: Koleksi | I57: =SUM(I58) -> 81750000 | J57: 1 | K57: Koleksi | L57: =SUM(L58) -> 14615625 | M57: 1 | N57: =H57 -> Koleksi | O57: =SUM(O58) -> 7862500 | P57: 0 | Q57: =N57 -> Koleksi | R57: =R58 -> 0 | S57: 0 | T57: =Q57 -> Koleksi | U57: =U58 -> 0 | V57: 1 | W57: =T57 -> Koleksi | X57: =X58 -> 7800180 | Y57: 0 | Z57: =W57 -> Koleksi | AA57: =AA58 -> 0 | AB57: =P57+S57+V57+Y57 -> 1 | AC57: =Z57 -> Koleksi | AD57: =R57+U57+X57+AA57 -> 7800180 | AE57: =AB57/M57*100 -> 100 | AF57: =AD57/O57*100 -> 99.207377 | AG57: =J57+AB57 -> 2 | AH57: =AC57 -> Koleksi | AI57: =L57+AD57 -> 22415805 | AJ57: =AG57/G57*100 -> 18.181818 | AK57: =AI57/I57*100 -> 27.419945 | AL57: ARPUS
D58: 2.23.03.2.02.03 | E58: Seleksi dan Pengadaan Koleksi Budaya Etnis Nusantara | F58: Jumlah Koleksi Budaya Etnis Nusantara yang diseleksi dan dilakukan pengadaan oleh Perpustakaan Daerah Tingkat Kabupaten/Kota II Eksemplar | G58: 10 | H58: Eksemplar | I58: 81750000 | J58: 1 | K58: Eksemplar | L58: 14615625 | M58: 3 | N58: =H58 -> Eksemplar | O58: 7862500 | P58: 0 | Q58: =N58 -> Eksemplar | R58: 0 | S58: 0 | T58: =Q58 -> Eksemplar | V58: 3 | W58: =T58 -> Eksemplar | X58: 7800180 | Z58: =W58 -> Eksemplar | AB58: =P58+S58+V58+Y58 -> 3 | AC58: =Z58 -> Eksemplar | AD58: =R58+U58+X58+AA58 -> 7800180 | AE58: =AB58/M58*100 -> 100 | AF58: =AD58/O58*100 -> 99.207377 | AG58: =J58+AB58 -> 4 | AH58: =AC58 -> Eksemplar | AI58: =L58+AD58 -> 22415805 | AJ58: =AG58/G58*100 -> 40 | AK58: =AI58/I58*100 -> 27.419945 | AL58: ARPUS
B59: Meningkatkan pengelolaan arsip secara bakusesuai NSPK | C59: Meningkatnya Perangkat Daerah yang mengelola arsip sesuai tata kelolakearsipan | D59: 2.1.1 | E59: Program perbaikan system administrasi kearsipan | F59: Jumlah Perangkat Daerah dan Pemerintah Desa yang mendapatkan pembinaan penyelengaraantata kearsipan secarabaku II % | G59: 65 | H59: % | I59: =SUM(I60:I62) -> 266340000 | J59: =G59 -> 65 | K59: =H59 -> % | L59: =SUM(L60:L62) -> 261720120 | AG59: =J59 -> 65 | AH59: =K59 -> % | AI59: =L59 -> 261720120 | AJ59: =AG59/G59*100 -> 100 | AK59: =AI59/I59*100 -> 98.26542 | AL59: ARPUS
D60: 2.1.1.1 | E60: PengelolaanSistemInformasiKearsipan | F60: Jumlah OPD yang melakukan input data di aplikasi SIKN || OPD | G60: 76 | H60: OPD | I60: 81735000 | J60: =G60 -> 76 | K60: =H60 -> OPD | L60: 81393500 | AG60: =J60 -> 76 | AH60: =K60 -> OPD | AI60: =L60 -> 81393500 | AJ60: =AG60/G60*100 -> 100 | AK60: =AI60/I60*100 -> 99.582186 | AL60: ARPUS
D61: 2.1.1.2 | E61: Pendataa ndan PenataanDokumen/ Arsip Daerah | F61: Jumlah arsipd inamis dan statis yang ditangani || unit | G61: 4 | H61: Unit | I61: 116880000 | J61: =G61 -> 4 | K61: =H61 -> Unit | L61: 116451620 | AG61: =J61 -> 4 | AH61: =K61 -> Unit | AI61: =L61 -> 116451620 | AJ61: =AG61/G61*100 -> 100 | AK61: =AI61/I61*100 -> 99.633487 | AL61: ARPUS
D62: 2.1.1.3 | E62: Sosialisasi/ PenyuluhanKearsipan | F62: Jumlah OPD/Pemdeskel yang mendapatkan pembinaan/penyuluhankearsipan || Pemdeskel | G62: 36 | H62: Pemdeskel | I62: 67725000 | J62: =G62 -> 36 | K62: =H62 -> Pemdeskel | L62: 63875000 | AG62: =J62 -> 36 | AH62: =K62 -> Pemdeskel | AI62: =L62 -> 63875000 | AJ62: =AG62/G62*100 -> 100 | AK62: =AI62/I62*100 -> 94.315245 | AL62: ARPUS
D63: 2.1.2 | E63: Program Pengembangan Kearsipan | F63: Persentase OPD dan Pemerintah Desa yang mengelolaArsipsesuai Tata KelolaArsip || % | G63: 33 | H63: % | I63: =SUM(I64:I65) -> 91000000 | J63: =G63 -> 33 | K63: =H63 -> % | L63: =SUM(L64:L65) -> 74216000 | AG63: =J63 -> 33 | AH63: =K63 -> % | AI63: =L63 -> 74216000 | AJ63: =AG63/G63*100 -> 100 | AK63: =AI63/I63*100 -> 81.556044 | AL63: ARPUS
D64: 2.1.2.1 | E64: Pengawasan audit internal kearsipan | F64: Jumlah Perangkat Daerah yang dilaksanakan audit internal kearsipan || OPD | G64: 12 | H64: OPD | I64: 55000000 | J64: =G64 -> 12 | K64: =H64 -> OPD | L64: 38937000 | AG64: =J64 -> 12 | AH64: =K64 -> OPD | AI64: =L64 -> 38937000 | AJ64: =AG64/G64*100 -> 100 | AK64: =AI64/I64*100 -> 70.794545 | AL64: ARPUS
D65: 2.1.2.2 | E65: Pembinaan dan Pendampingan PengelolaanKearsipan | F65: Jumlah pengelolaan arsipsecara baku || OPD | G65: 36 | H65: OPD | I65: 36000000 | J65: =G65 -> 36 | K65: =H65 -> OPD | L65: 35279000 | AG65: =J65 -> 36 | AH65: =K65 -> OPD | AI65: =L65 -> 35279000 | AJ65: =AG65/G65*100 -> 100 | AK65: =AI65/I65*100 -> 97.997222 | AL65: ARPUS
A66: 3 | B66: Meningk atkan Perangkat Daerah yang mengelola arsip sesuai tata kelola kearsipan | C66: Meningk atnya perangk at daerah yang mengelola arsip elektronik | D66: 2.24.02 | E66: PROGRAM PENGELOLAAN ARSIP | F66: Tingkat Ketersediaan Arsip II % | G66: 53 | H66: % | I66: =I67+I71+I73 -> 528000000 | J66: 50 | K66: % | L66: =L67+L71+L73 -> 241986970 | M66: 51 | N66: =H66 -> % | O66: =O67+O71+O73 -> 106549750 | P66: 12.75 | Q66: =N66 -> % | R66: =R67+R73+R71 -> 12840114 | S66: 12.75 | T66: =Q66 -> % | U66: =U67+U73+U71 -> 43958639 | V66: 12.75 | W66: =T66 -> % | X66: =X67+X73+X71 -> 13476000 | Z66: =W66 -> % | AA66: =AA67+AA73+AA71 -> 0 | AB66: =P66+S66+V66+Y66 -> 38.25 | AC66: =Q66 -> % | AD66: =R66+U66+X66+AA66 -> 70274753 | AE66: =AB66/M66*100 -> 75 | AF66: =AD66/O66*100 -> 65.954874 | AG66: =J66+AB66 -> 88.25 | AH66: =AC66 -> % | AI66: =L66+AD66 -> 312261723 | AJ66: =AG66/G66*100 -> 166.50943 | AK66: =AI66/I66*100 -> 59.140478 | AL66: ARPUS | AM66: 236435881 | AN66: =AM66-AD66 -> 166161128
D67: 2.24.02.2.01 | E67: Pengelolaan Arsip Dinamis Daerah Kabupaten/Kota | F67: Jumlah Arsip Dinamis di Kabupaten II Nomor | G67: 2200 | H67: Nomor | I67: =SUM(I68:I70) -> 80000000 | J67: 1200 | K67: Nomor | L67: =SUM(L68:L70) -> 93343700 | M67: 1400 | N67: =H67 -> Nomor | O67: =SUM(O68:O70) -> 59000000 | P67: 350 | Q67: =N67 -> Nomor | R67: =SUM(R68:R70) -> 12071994 | S67: 350 | T67: =Q67 -> Nomor | U67: =SUM(U68:U70) -> 25684199 | V67: 350 | W67: =T67 -> Nomor | X67: =SUM(X68:X70) -> 4764000 | Z67: =W67 -> Nomor | AA67: =SUM(AA68:AA70) -> 0 | AB67: =P67+S67+V67+Y67 -> 1050 | AC67: =Q67 -> Nomor | AD67: =R67+U67+X67+AA67 -> 42520193 | AE67: =AB67/M67*100 -> 75 | AF67: =AD67/O67*100 -> 72.068124 | AG67: =J67+AB67 -> 2250 | AH67: =AC67 -> Nomor | AI67: =L67+AD67 -> 135863893 | AJ67: =AG67/G67*100 -> 102.27273 | AK67: =AI67/I67*100 -> 169.82987 | AL67: ARPUS
D68: 2.24.02.2.01.01 | E68: Penciptaan dan Penggunaan Arsip Dinamis | F68: Jumlah Naskah Dinas yang Diciptakan dan Digunakan | G68: 140 | H68: Berkas | I68: 20000000 | J68: 120 | K68: Berkas | L68: 29193150 | M68: 140 | N68: Berkas | O68: 13000000 | P68: 20 | Q68: =N68 -> Berkas | R68: 294894 | S68: 20 | T68: =Q68 -> Berkas | U68: 12410000 | V68: 50 | W68: =T68 -> Berkas | X68: 0 | Z68: =W68 -> Berkas | AB68: =P68+S68+V68+Y68 -> 90 | AC68: =Q68 -> Berkas | AD68: =R68+U68+X68+AA68 -> 12704894 | AE68: =AB68/M68*100 -> 64.285714 | AF68: =AD68/O68*100 -> 97.729954 | AG68: =J68+AB68 -> 210 | AH68: =AC68 -> Berkas | AI68: =L68+AD68 -> 41898044 | AJ68: =AG68/G68*100 -> 150 | AK68: =AI68/I68*100 -> 209.49022 | AL68: ARPUS
D69: 2.24.02.2.01.02 | E69: Pemeliharaan dan Penyusutan Arsip Dinamis | F69: Jumlah Naskah Dinas yang Dilakukan Pemeliharaan dan Penyusutan | G69: 140 | H69: Berkas | I69: 20000000 | J69: 100 | K69: Berkas | L69: 29409129 | M69: 140 | N69: =H69 -> Berkas | O69: 18000000 | P69: 15 | Q69: =N69 -> Berkas | R69: 11777100 | S69: 15 | T69: =Q69 -> Berkas | U69: 1011199 | V69: 60 | W69: =T69 -> Berkas | X69: 0 | Z69: =W69 -> Berkas | AB69: =P69+S69+V69+Y69 -> 90 | AC69: =Q69 -> Berkas | AD69: =R69+U69+X69+AA69 -> 12788299 | AE69: =AB69/M69*100 -> 64.285714 | AF69: =AD69/O69*100 -> 71.046106 | AG69: =J69+AB69 -> 190 | AH69: =AC69 -> Berkas | AI69: =L69+AD69 -> 42197428 | AJ69: =AG69/G69*100 -> 135.71429 | AK69: =AI69/I69*100 -> 210.98714 | AL69: ARPUS
D70: 2.24.02.2.01.03 | E70: Pengawasan Arsip Dinamis Kewenangan Kabupaten/Kota | F70: Jumlah Laporan Hasil Pengawasan Arsip Dinamis Kewenangan Kabupaten/Kota | G70: 15 | H70: Laporan | I70: 40000000 | J70: 15 | K70: Laporan | L70: 34741421 | M70: 15 | N70: =H70 -> Laporan | O70: 28000000 | P70: 3 | Q70: =N70 -> Laporan | S70: 3 | T70: =Q70 -> Laporan | U70: 12263000 | V70: 3 | W70: =T70 -> Laporan | X70: 4764000 | Z70: =W70 -> Laporan | AB70: =P70+S70+V70+Y70 -> 9 | AC70: =Q70 -> Laporan | AD70: =R70+U70+X70+AA70 -> 17027000 | AE70: =AB70/M70*100 -> 60 | AF70: =AD70/O70*100 -> 60.810714 | AG70: =J70+AB70 -> 24 | AH70: =AC70 -> Laporan | AI70: =L70+AD70 -> 51768421 | AJ70: =AG70/G70*100 -> 160 | AK70: =AI70/I70*100 -> 129.42105 | AL70: ARPUS
D71: 2.24.02.2.02 | E71: Pengolahan Arsip Statis Daerah Kabupaten / Kota | F71: Jumlah arsip statis kabupaten IIdaftar | G71: 9 | H71: Daftar | I71: =SUM(I72) -> 169000000 | J71: 1 | K71: Daftar | L71: =SUM(L72) -> 43875700 | M71: 1 | N71: =H71 -> Daftar | O71: =SUM(O72) -> 16000000 | P71: 0 | Q71: =N71 -> Daftar | R71: =R72 -> 0 | S71: 0 | T71: =N71 -> Daftar | U71: =U72 -> 3625000 | V71: 1 | W71: =Q71 -> Daftar | X71: =X72 -> 7692000 | Z71: =W71 -> Daftar | AA71: =AA72 -> 0 | AB71: =P71+S71+V71+Y71 -> 1 | AC71: =Z71 -> Daftar | AD71: =R71+U71+X71+AA71 -> 11317000 | AE71: =AB71/M71*100 -> 100 | AF71: =AD71/O71*100 -> 70.73125 | AG71: =J71+AB71 -> 2 | AH71: =AC71 -> Daftar | AI71: =L71+AD71 -> 55192700 | AJ71: =AG71/G71*100 -> 22.222222 | AK71: =AI71/I71*100 -> 32.658402 | AL71: ARPUS
D72: 2.24.02.2.02.04 | E72: Akuisisi, Pengolahan, Preservasi, dan Akses Arsip Statis kewenangan kabupaten/ kota | F72: Jumlah Arsip Statis yang Dilakukan Akusisi, Pengolahan, Preservasi dan Akses Arsip Statis II Arsip | G72: 800 | H72: Arsip | I72: 169000000 | J72: 100 | K72: Arsip | L72: 43875700 | M72: 200 | N72: =H72 -> Arsip | O72: 16000000 | P72: 25 | Q72: =N72 -> Arsip | S72: 25 | T72: =Q72 -> Arsip | U72: 3625000 | V72: 75 | W72: =T72 -> Arsip | X72: 7692000 | Z72: =W72 -> Arsip | AB72: =P72+S72+V72+Y72 -> 125 | AC72: =Q72 -> Arsip | AD72: =R72+U72+X72+AA72 -> 11317000 | AE72: =AB72/M72*100 -> 62.5 | AF72: =AD72/O72*100 -> 70.73125 | AG72: =J72+AB72 -> 225 | AH72: =AC72 -> Arsip | AI72: =L72+AD72 -> 55192700 | AJ72: =AG72/G72*100 -> 28.125 | AK72: =AI72/I72*100 -> 32.658402 | AL72: ARPUS
D73: 2.24.02.2.03 | E73: Pengelolaan Simpul Jaringan Informasi Kearsipan Nasional Tingkat Kabupaten/Kota | F73: Jumlah Arsip yang diinput dalam aplikasi SIKN II deskripsi SIKN | G73: 700 | H73: Doskripsi SIKN | I73: =SUM(I74:I75) -> 279000000 | J73: 500 | K73: Doskripsi SIKN | L73: =SUM(L74:L75) -> 104767570 | M73: 500 | N73: =H73 -> Doskripsi SIKN | O73: =SUM(O74:O75) -> 31549750 | P73: 125 | Q73: =N73 -> Doskripsi SIKN | R73: =SUM(R74:R75) -> 768120 | S73: 125 | T73: =Q73 -> Doskripsi SIKN | U73: =SUM(U74:U75) -> 14649440 | V73: 125 | W73: =T73 -> Doskripsi SIKN | X73: =SUM(X74:X75) -> 1020000 | Z73: =W73 -> Doskripsi SIKN | AA73: =SUM(AA74:AA75) -> 0 | AB73: =P73+S73+V73+Y73 -> 375 | AC73: =Q73 -> Doskripsi SIKN | AD73: =R73+U73+X73+AA73 -> 16437560 | AE73: =AB73/M73*100 -> 75 | AF73: =AD73/O73*100 -> 52.100445 | AG73: =J73+AB73 -> 875 | AH73: =AC73 -> Doskripsi SIKN | AI73: =L73+AD73 -> 121205130 | AJ73: =AG73/G73*100 -> 125 | AK73: =AI73/I73*100 -> 43.442699 | AL73: ARPUS
D74: 2.24.02.2.03.01 | E74: Penyediaan Informasi, Akses dan Layanan Kearsipan Tingkat Daerah Kabupaten/Kota melalui JIKN | F74: Jumlah Layanan Penyediaan Informasi, Akses dan Layanan Kearsipan Tingkat Daerah Kabupaten/Kota Melalui JIKN | G74: 675 | H74: Pengguna | I74: 144000000 | J74: 75 | K74: Pengguna | L74: 48271132 | M74: 125 | N74: =H74 -> Pengguna | O74: 15725050 | P74: 25 | Q74: =N74 -> Pengguna | R74: 244200 | S74: 25 | T74: =Q74 -> Pengguna | U74: 8150800 | V74: 50 | W74: =T74 -> Pengguna | X74: 1020000 | Z74: =W74 -> Pengguna | AB74: =P74+S74+V74+Y74 -> 100 | AC74: =Q74 -> Pengguna | AD74: =R74+U74+X74+AA74 -> 9415000 | AE74: =AB74/M74*100 -> 80 | AF74: =AD74/O74*100 -> 59.872624 | AG74: =J74+AB74 -> 175 | AH74: =AC74 -> Pengguna | AI74: =L74+AD74 -> 57686132 | AJ74: =AG74/G74*100 -> 25.925926 | AK74: =AI74/I74*100 -> 40.059814 | AL74: ARPUS
D75: 2.24.02.2.03.02 | E75: Pemberdayaan Kapasitas Unit Kearsipan dan Lembaga Kearsipan Daerah Kabupaten/Kota | F75: Jumlah Laporan Hasil Pemberdayaan Kapasitas Unit Kearsipan dan Lembaga Kearsipan Daerah Kabupaten/Kota | G75: 90 | H75: Laporan | I75: 135000000 | J75: 18 | K75: Laporan | L75: 56496438 | M75: 18 | N75: =H75 -> Laporan | O75: 15824700 | P75: 0 | Q75: =N75 -> Laporan | R75: 523920 | S75: 4 | T75: =Q75 -> Laporan | U75: 6498640 | V75: 8 | W75: =T75 -> Laporan | X75: 0 | Z75: =W75 -> Laporan | AB75: =P75+S75+V75+Y75 -> 12 | AC75: =Q75 -> Laporan | AD75: =R75+U75+X75+AA75 -> 7022560 | AE75: =AB75/M75*100 -> 66.666667 | AF75: =AD75/O75*100 -> 44.377208 | AG75: =J75+AB75 -> 30 | AH75: =AC75 -> Laporan | AI75: =L75+AD75 -> 63518998 | AJ75: =AG75/G75*100 -> 33.333333 | AK75: =AI75/I75*100 -> 47.05111 | AL75: ARPUS
D76: 2.24.03 | E76: PROGRAM PERLINDUNGAN DAN PEINYELALAMATAN ARSIP | F76: Persentase perangkat daerah yang telah melakukan perlindungan dan penyelamatan arsip II % | G76: 32 | H76: % | I76: =I77 -> 275000000 | J76: 17.54 | K76: % | L76: =L77 -> 39047878 | M76: 20 | N76: =H76 -> % | O76: =O77 -> 15625000 | P76: 5 | Q76: =N76 -> % | R76: =R77 -> 0 | S76: 5 | T76: =Q76 -> % | U76: =U77 -> 0 | V76: 5 | W76: =T76 -> % | X76: =X77 -> 4531250 | Y76: 0 | Z76: =W76 -> % | AA76: =AA77 -> 0 | AB76: =P76+S76+V76+Y76 -> 15 | AC76: =Q76 -> % | AD76: =R76+U76+X76+AA76 -> 4531250 | AE76: =AB76/M76*100 -> 75 | AF76: =AD76/O76*100 -> 29 | AG76: =J76+AB76 -> 32.54 | AH76: =AC76 -> % | AI76: =L76+AD76 -> 43579128 | AJ76: =AG76/G76*100 -> 101.6875 | AK76: =AI76/I76*100 -> 15.846956 | AL76: ARPUS
D77: 2.24.03.2.01 | E77: Pemusnahan Arsip Dilingkungan Pemerintah Daerah Kabupaten/Kota yang Memiliki Retensi di Bawah 10 (Sepuluh) Tahun | F77: Jumlah perangkat daerah yang telah melakukan pedindungan dan penyelamatan arsip pengelolaan arsip | G77: 100 | H77: Arsip | I77: =SUM(I78:I79) -> 275000000 | J77: 4 | K77: arsip | L77: =SUM(L78:L79) -> 39047878 | M77: 4 | N77: =H77 -> Arsip | O77: =SUM(O78:O79) -> 15625000 | P77: 1 | Q77: =N77 -> Arsip | R77: =SUM(R78:R79) -> 0 | S77: 1 | T77: =Q77 -> Arsip | U77: =SUM(U78:U79) -> 0 | W77: =T77 -> Arsip | X77: =SUM(X78:X79) -> 4531250 | Z77: =W77 -> Arsip | AA77: =SUM(AA78:AA79) -> 0 | AB77: =P77+S77+V77+Y77 -> 2 | AC77: =Q77 -> Arsip | AD77: =R77+U77+X77+AA77 -> 4531250 | AE77: =AB77/M77*100 -> 50 | AF77: =AD77/O77*100 -> 29 | AG77: =J77+AB77 -> 6 | AH77: =AC77 -> Arsip | AI77: =L77+AD77 -> 43579128 | AJ77: =AG77/G77*100 -> 6 | AK77: =AI77/I77*100 -> 15.846956 | AL77: ARPUS
D78: 2.24.03.2.01.04 | E78: Pelaksanaan Pemusnahan Arsip yang Memiliki Retensi di Bawah 10 Tahun | F78: Jumlah Arsip yang Memiliki Retensi Di Bawah 10 Tahun yang Dimusnahkan II Berkas | G78: 400 | H78: Arsip | I78: 150000000 | J78: 50 | K78: Arsip | L78: 19765000 | M78: 60 | N78: Berkas | O78: 6625000 | P78: 12 | Q78: =N78 -> Berkas | R78: 0 | S78: 17 | T78: =Q78 -> Berkas | U78: 0 | V78: 15 | W78: =T78 -> Berkas | Z78: =W78 -> Berkas | AB78: =P78+S78+V78+Y78 -> 44 | AC78: =Q78 -> Berkas | AD78: =R78+U78+X78+AA78 -> 0 | AE78: =AB78/M78*100 -> 73.333333 | AF78: =AD78/O78*100 -> 0 | AG78: =J78+AB78 -> 94 | AH78: =AC78 -> Berkas | AI78: =L78+AD78 -> 19765000 | AJ78: =AG78/G78*100 -> 23.5 | AK78: =AI78/I78*100 -> 13.176667 | AL78: ARPUS
D79: 2.24.03.2.01.03 | E79: Penilaian, Penetapan dan Pelaksanaan Pemusnahan Arsip yang Memiliki Retensi di Bawah 10 (Sepuluh) Tahun | F79: Jumlah Arsip yang Dilakukan Penilaian, Penetapan dan Pelaksanaan Pemusnahan Arsip yang Memiliki Retensi di Bawah 10 (Sepuluh) Tahun II Arsip | G79: 450 | H79: Berkas | I79: 125000000 | J79: 50 | K79: Berkas | L79: 19282878 | M79: 70 | N79: Arsip | O79: 9000000 | P79: 25 | Q79: =N79 -> Arsip | R79: 0 | S79: 15 | T79: =Q79 -> Arsip | V79: 20 | W79: =T79 -> Arsip | X79: 4531250 | Z79: =W79 -> Arsip | AB79: =P79+S79+V79+Y79 -> 60 | AC79: =Q79 -> Arsip | AD79: =R79+U79+X79+AA79 -> 4531250 | AE79: =AB79/M79*100 -> 85.714286 | AF79: =AD79/O79*100 -> 50.347222 | AG79: =J79+AB79 -> 110 | AH79: =AC79 -> Arsip | AI79: =L79+AD79 -> 23814128 | AJ79: =AG79/G79*100 -> 24.444444 | AK79: =AI79/I79*100 -> 19.051302 | AL79: ARPUS
I80: =SUM(I76,I13,I38,I66,I53) -> 33404060630 | L80: =SUM(L76,L13,L38,L66,L53) -> 6168381059 | O80: =SUM(O76,O12,O38,O66,O53) -> 6588962916 | R80: =R76+R66+R53+R38+R12 -> 1036438715 | U80: =U76+U66+U53+U38+U12 -> 1477924505 | X80: =X76+X66+X53+X38+X12 -> 1866930836 | AA80: =SUM(AA12,AA38,AA66) -> 0 | AD80: =AD76+AD66+AD53+AD38+AD12 -> 4381294056 | AE80: =IFERROR(AVERAGE(AE14,AE17,AE22,AE30,AE34,AE40,AE48,AE67,AE73,AE77,AE71,AE57,AE54),"0") -> 75.487748 | AF80: =AD80/O80*100 -> 66.494441 | AI80: =SUM(AI12,AI38,AI66) -> 10441617473 | AJ80: =IFERROR(AVERAGE(AJ14,AJ17,AJ22,AJ30,AJ34,AJ40,AJ48,AJ67,AJ73,AJ77,AJ71,AJ57,AJ54),"0") -> 57.619014 | AK80: =AI80/I80*100 -> 31.258527 | AL80: ARPUS
AH82: Magetan, 2 Oktober 2026
AH83: Kepala Dinas Kearsipan dan Perpustakaan
AH84: Kab. Magetan
AG87: Dra. ENDANG AMBARWATI, MM
AG88: Pembina Utama Muda / IV/c
AG89: NIP. 196906061998032003

Sheet Sheet2
D5: 3 | E5: 4 | F5: 5 | G5: 6 | H5: 7 | I5: 8 | J5: 9 | K5: 10
D6: 9 | E6: 3 | J6: =E6+G6+I6 -> 3 | K6: =J6/D6*100 -> 33.333333
D7: 86000 | E7: 84696 | J7: =E7+G7+I7 -> 84696 | K7: =J7/D7*100 -> 98.483721
D8: 41 | E8: 34 | J8: =E8+G8+I8 -> 34 | K8: =J8/D8*100 -> 82.926829
D9: 180 | E9: 60 | J9: =E9+G9+I9 -> 60 | K9: =J9/D9*100 -> 33.333333
D10: 2 | E10: - | J10: =E10+G10+I10 -> #VALUE! | K10: =J10/D10*100 -> #VALUE!
D11: 225 | E11: 75 | J11: =E11+G11+I11 -> 75 | K11: =J11/D11*100 -> 33.333333
D12: 20 | E12: 10 | J12: =E12+G12+I12 -> 10 | K12: =J12/D12*100 -> 50
D13: 90 | E13: 54 | J13: =E13+G13+I13 -> 54 | K13: =J13/D13*100 -> 60
D14: 11500 | E14: 10500 | J14: =E14+G14+I14 -> 10500 | K14: =J14/D14*100 -> 91.304348
D15: 3 | E15: 1 | J15: =E15+G15+I15 -> 1 | K15: =J15/D15*100 -> 33.333333
D16: 30 | E16: 6 | J16: =E16+G16+I16 -> 6 | K16: =J16/D16*100 -> 20
D17: 1500 | E17: 500 | J17: =E17+G17+I17 -> 500 | K17: =J17/D17*100 -> 33.333333
D18: 38 | E18: 38 | J18: =E18+G18+I18 -> 38 | K18: =J18/D18*100 -> 100
D19: 54 | E19: 18 | J19: =E19+G19+I19 -> 18 | K19: =J19/D19*100 -> 33.333333
J20: =E20+G20+I20 -> 0 | K20: =J20/D20*100 -> #DIV/0!
J21: =E21+G21+I21 -> 0 | K21: =J21/D21*100 -> #DIV/0!
J22: =E22+G22+I22 -> 0 | K22: =J22/D22*100 -> #DIV/0!
J23: =E23+G23+I23 -> 0 | K23: =J23/D23*100 -> #DIV/0!
J24: =E24+G24+I24 -> 0 | K24: =J24/D24*100 -> #DIV/0!
J25: =E25+G25+I25 -> 0 | K25: =J25/D25*100 -> #DIV/0!
J26: =E26+G26+I26 -> 0 | K26: =J26/D26*100 -> #DIV/0!
J27: =E27+G27+I27 -> 0 | K27: =J27/D27*100 -> #DIV/0!
J28: =E28+G28+I28 -> 0 | K28: =J28/D28*100 -> #DIV/0!
J29: =E29+G29+I29 -> 0 | K29: =J29/D29*100 -> #DIV/0!
J30: =E30+G30+I30 -> 0 | K30: =J30/D30*100 -> #DIV/0!

Sheet HIT
B8: =ARPUS!AA79 -> 0
C9: =OLE_LINK1-B8 -> 0
D11: induk | E11: JAN | G11: FEB | I11: realisasi renja TW I | O11: induk | P11: APR | Y11: MEI | AB11: realisasi renja TW II | AF11: induk | AG11: penjabaran | AP11: s/d september | AS11: realisasi renja TW III | AT11: realisasi renja s/d desember | AU11: realisasi renja TW 4
B12: DINAS KEARSIPAN DAN PERPUSTAKAAN | D12: =D13+D44+D60+D68+D81 -> 6469102116 | E12: =E13+E44+E60+E68+E81 -> 175003187 | F12: =E12/D12*100 -> 2.705216 | G12: =G13+G44+G60+G68+G81 -> 519744688 | H12: =H13+H17+H21+H24+H33+H38 -> 38.184391 | M12: DINAS KEARSIPAN DAN PERPUSTAKAAN | O12: 6469102116 | AD12: DINAS KEARSIPAN DAN PERPUSTAKAAN | AF12: 6469102116
B13: PROGRAM PENUNJANG URUSAN PEMERINTAHAN DAERAH KABUPATEN/KOTA | D13: =D14+D18+D22+D25+D34+D39 -> 5282183616 | E13: =E14+E18+E22+E25+E34+E39 -> 175003187 | F13: =E13/D13*100 -> 3.3130841 | G13: =G14+G18+G22+G25+G34+G39 -> 485920411 | H13: =H14+H18+H22+H25+H34+H39 -> 38.184391 | M13: PROGRAM PENUNJANG URUSAN PEMERINTAHAN DAERAH KABUPATEN/KOTA | O13: 5282183616 | AD13: PROGRAM PENUNJANG URUSAN PEMERINTAHAN DAERAH KABUPATEN/KOTA | AF13: 5282183616
B14: Perencanaan, Penganggaran dan Evaluasi Kinerja Perangkat Daerah | D14: =SUM(D15:D16) -> 31250000 | E14: =SUM(E15:E16) -> 0 | G14: =SUM(G15:G16) -> 4176000 | H14: =G14/D14*100 -> 13.3632 | I14: =SUM(I15:I16) -> 8136000 | J14: =I14/D14*100 -> 26.0352 | M14: Perencanaan, Penganggaran dan Evaluasi Kinerja Perangkat Daerah | O14: 20000000 | AD14: Perencanaan, Penganggaran dan Evaluasi Kinerja Perangkat Daerah | AE14: LAIN-LAIN PENDAPATAN DAERAH YANG SAH | AF14: 20000000
B15: Penyusunan Dokumen Perencanaan Perangkat Daerah | C15: Dana Transfer Umum-Dana Alokasi Umum | D15: 15625000 | I15: 3960000 | J15: =I15/D15*100 -> 25.344 | M15: Penyusunan Dokumen Perencanaan Perangkat Daerah | N15: Dana Transfer Umum-Dana Alokasi Umum | O15: 20000000 | AD15: Penyusunan Dokumen Perencanaan Perangkat Daerah | AE15: LAIN-LAIN PENDAPATAN DAERAH YANG SAH | AF15: 20000000 | AS15: =AP15-Y15 -> 0 | AT15: 18035348 | AU15: =AT15-AP15 -> 18035348
B16: Evaluasi Kinerja Perangkat Daeah | D16: 15625000 | G16: 4176000 | H16: =G16/D16*100 -> 26.7264 | I16: 4176000 | J16: =I16/D16*100 -> 26.7264 | M16: Evaluasi Kinerja Perangkat Daeah | AD16: Evaluasi Kinerja Perangkat Daeah
B18: Administrasi Keuangan Perangkat Daerah | D18: =SUM(D19:D20) -> 3901818548 | E18: =SUM(E19:E20) -> 161509862 | G18: =SUM(G19:G20) -> 406370528 | H18: =G18/D18*100 -> 10.414901 | I18: =SUM(I19:I20) -> 809990889 | J18: =I18/D18*100 -> 20.759317 | M18: Administrasi Keuangan Perangkat Daerah | O18: =SUM(O19:O20) -> 3901818548 | AD18: Administrasi Keuangan Perangkat Daerah | AE18: LAIN-LAIN PENDAPATAN DAERAH YANG SAH | AF18: =SUM(AF19:AF20) -> 3901818548
B19: Penyediaan Gaji dan Tunjangan ASN | C19: LAIN-LAIN PENDAPATAN DAERAH YANG SAH | D19: 3886192648 | E19: 161509862 | F19: =E19/D19*100 -> 4.1559922 | G19: 406370528 | H19: =G19/D19*100 -> 10.456778 | I19: 806174889 | J19: =I19/D19*100 -> 20.744594 | M19: Penyediaan Gaji dan Tunjangan ASN | N19: LAIN-LAIN PENDAPATAN DAERAH YANG SAH | O19: 3886192648 | AD19: Penyediaan Gaji dan Tunjangan ASN | AE19: LAIN-LAIN PENDAPATAN DAERAH YANG SAH | AF19: 3886192648 | AS19: =AP19-Y19 -> 0 | AT19: 24846550 | AU19: =AT19-AP19 -> 24846550
B20: Koordinasi dan Penyusunan Laporan Keuangan Bulanan/ Triwulanan/ Semesteran SKPD | C20: Dana Transfer Umum-Dana Alokasi Umum | D20: 15625900 | I20: 3816000 | J20: =I20/D20*100 -> 24.420993 | M20: Koordinasi dan Penyusunan Laporan Keuangan Bulanan/ Triwulanan/ Semesteran SKPD | N20: Dana Transfer Umum-Dana Alokasi Umum | O20: 15625900 | AD20: Koordinasi dan Penyusunan Laporan Keuangan Bulanan/ Triwulanan/ Semesteran SKPD | AE20: LAIN-LAIN PENDAPATAN DAERAH YANG SAH | AF20: 15625900 | AS20: =AP20-Y20 -> 0 | AT20: 3322545797 | AU20: =AT20-AP20 -> 3322545797
B22: Administrasi Kepegawaian Perangkat Daerah | D22: =D23 -> 10000000 | E22: =E23 -> 0 | G22: =G23 -> 0 | I22: =I23 -> 0 | M22: Administrasi Umum Perangkat Daerah | O22: =O23 -> 10000000 | AD22: Administrasi Umum Perangkat Daerah | AE22: LAIN-LAIN PENDAPATAN DAERAH YANG SAH | AF22: =AF23 -> 10000000 | AT22: =SUM(AT23:AT29) -> 642478920 | AU22: =SUM(AU23:AU29) -> 642478920
B23: Bimbingan Teknis Implementasi Peraturan Perundang-undangan | C23: Pendapatan Hibah dari Pemerintah Pusat | D23: 10000000 | M23: Penyediaan Bahan Bacaan dan Peraturan Perundang-undangan | N23: Pendapatan Hibah dari Pemerintah Pusat | O23: 10000000 | AD23: Penyediaan Bahan Bacaan dan Peraturan Perundang-undangan | AE23: LAIN-LAIN PENDAPATAN DAERAH YANG SAH | AF23: 10000000 | AS23: =AP23-Y23 -> 0 | AT23: 14972850 | AU23: =AT23-AP23 -> 14972850
AS24: =AP24-Y24 -> 0 | AT24: 58396700 | AU24: =AT24-AP24 -> 58396700
B25: Administrasi Umum Perangkat Daerah | C25: Pendapatan Hibah dari Pemerintah Pusat | D25: =SUM(D26:D32) -> 336191500 | E25: =SUM(E26:E32) -> 0 | G25: =SUM(G26:G32) -> 11425479 | H25: =G25/D25*100 -> 3.3985032 | I25: =SUM(I26:I32) -> 15095479 | J25: =I25/D25*100 -> 4.490143 | M25: Administrasi Umum Perangkat Daerah | N25: Pendapatan Hibah dari Pemerintah Pusat | O25: =SUM(O26:O32) -> 336191500 | AD25: Administrasi Umum Perangkat Daerah | AE25: LAIN-LAIN PENDAPATAN DAERAH YANG SAH | AF25: =SUM(AF26:AF32) -> 336191500 | AS25: =AP25-Y25 -> 0 | AT25: 48677300 | AU25: =AT25-AP25 -> 48677300
B26: Penyediaan Komponen Instalasi Listrik/Penerangan Bangunan Kantor | C26: Pendapatan Hibah dari Pemerintah Pusat | D26: 32500000 | I26: 0 | M26: Penyediaan Komponen Instalasi Listrik/Penerangan Bangunan Kantor | N26: Pendapatan Hibah dari Pemerintah Pusat | O26: 32500000 | AD26: Penyediaan Komponen Instalasi Listrik/Penerangan Bangunan Kantor | AE26: LAIN-LAIN PENDAPATAN DAERAH YANG SAH | AF26: 32500000 | AS26: =AP26-Y26 -> 0 | AT26: 44543950 | AU26: =AT26-AP26 -> 44543950
B27: Penyediaan Peralatan dan Perlengkapan Kantor | C27: Pendapatan Hibah dari Pemerintah Pusat | D27: 176641300 | G27: 700000 | H27: =G27/D27*100 -> 0.39628332 | I27: 700000 | J27: =I27/D27*100 -> 0.39628332 | M27: Penyediaan Peralatan dan Perlengkapan Kantor | N27: Pendapatan Hibah dari Pemerintah Pusat | O27: 176641300 | AD27: Penyediaan Peralatan dan Perlengkapan Kantor | AE27: LAIN-LAIN PENDAPATAN DAERAH YANG SAH | AF27: 176641300 | AS27: =AP27-Y27 -> 0 | AT27: 341671400 | AU27: =AT27-AP27 -> 341671400
B28: Penyediaan Peralatan Rumah Tangga | C28: Pendapatan Hibah dari Pemerintah Pusat | D28: 28750000 | M28: Penyediaan Peralatan Rumah Tangga | N28: Pendapatan Hibah dari Pemerintah Pusat | O28: 28750000 | AD28: Penyediaan Peralatan Rumah Tangga | AE28: LAIN-LAIN PENDAPATAN DAERAH YANG SAH | AF28: 28750000 | AS28: =AP28-Y28 -> 0 | AT28: 39445010 | AU28: =AT28-AP28 -> 39445010
B29: Penyediaan Bahan Logistik Kantor | C29: Pendapatan Hibah dari Pemerintah Pusat | D29: 29863050 | G29: 2674000 | H29: =G29/D29*100 -> 8.9542093 | I29: 5719000 | J29: =-I29/D29*100 -> -19.150757 | M29: Penyediaan Bahan Logistik Kantor | N29: Pendapatan Hibah dari Pemerintah Pusat | O29: 29863050 | AD29: Penyediaan Bahan Logistik Kantor | AE29: LAIN-LAIN PENDAPATAN DAERAH YANG SAH | AF29: 29863050 | AS29: =AP29-Y29 -> 0 | AT29: 94771710 | AU29: =AT29-AP29 -> 94771710
B30: Penyediaan Barang Cetakan dan Penggandaan | D30: 15651000 | G30: 1900875 | H30: =G30/D30*100 -> 12.14539 | I30: 1900875 | J30: =I30/D30*100 -> 12.14539 | M30: Penyediaan Barang Cetakan dan Penggandaan | O30: 15651000 | AD30: Penyediaan Barang Cetakan dan Penggandaan | AE30: LAIN-LAIN PENDAPATAN DAERAH YANG SAH | AF30: 15651000
B31: Penyedian Bahan Bacaan dan Peraturan Perundang-undangan | D31: 12786150 | G31: 625000 | H31: =G31/D31*100 -> 4.8881016 | I31: 1250000 | J31: =I31/D31*100 -> 9.7762032 | M31: Penyedian Bahan Bacaan dan Peraturan Perundang-undangan | O31: 12786150 | AD31: Penyedian Bahan Bacaan dan Peraturan Perundang-undangan | AE31: LAIN-LAIN PENDAPATAN DAERAH YANG SAH | AF31: 12786150
B32: Penyelenggaraan Rapat Koordinasi dan Konsultasi SKPD | C32: Pendapatan Hibah dari Pemerintah Pusat | D32: 40000000 | G32: 5525604 | H32: =G32/D32*100 -> 13.81401 | I32: 5525604 | J32: =I32/D32*100 -> 13.81401 | M32: Penyelenggaraan Rapat Koordinasi dan Konsultasi SKPD | N32: Pendapatan Hibah dari Pemerintah Pusat | O32: 40000000 | AD32: Penyelenggaraan Rapat Koordinasi dan Konsultasi SKPD | AE32: LAIN-LAIN PENDAPATAN DAERAH YANG SAH | AF32: 40000000 | AS32: =AP32-Y32 -> 0 | AT32: 69042250 | AU32: =AT32-AP32 -> 69042250
B34: Penyediaan Jasa Penunjang Urusan Pemerintahan Daerah | C34: Pendapatan Hibah dari Pemerintah Pusat | D34: =SUM(D35:D37) -> 830436368 | E34: =SUM(E35:E41) -> 13493325 | G34: =SUM(G35:G37) -> 56748404 | H34: =G34/D34*100 -> 6.8335644 | I34: =SUM(I35:I37) -> 117574371 | J34: =I34/D34*100 -> 14.158143 | M34: Penyediaan Jasa Penunjang Urusan Pemerintahan Daerah | N34: Pendapatan Hibah dari Pemerintah Pusat | O34: =SUM(O35:O37) -> 830436368 | AD34: Penyediaan Jasa Penunjang Urusan Pemerintahan Daerah | AE34: LAIN-LAIN PENDAPATAN DAERAH YANG SAH | AF34: =SUM(AF35:AF37) -> 830436368 | AS34: =AP34-Y34 -> 0 | AT34: 48449820 | AU34: =AT34-AP34 -> 48449820
B35: Penyediaan Jasa Komunikasi, Sumber Daya Air dan Listrik | C35: Pendapatan Hibah dari Pemerintah Pusat | D35: 198478900 | E35: 13093325 | F35: =E35/D35*100 -> 6.5968347 | G35: 28595004 | H35: =G35/D35*100 -> 14.407075 | I35: 42573801 | J35: =I35/D35*100 -> 21.450039 | M35: Penyediaan Jasa Komunikasi, Sumber Daya Air dan Listrik | N35: Pendapatan Hibah dari Pemerintah Pusat | O35: 198478900 | AD35: Penyediaan Jasa Komunikasi, Sumber Daya Air dan Listrik | AE35: LAIN-LAIN PENDAPATAN DAERAH YANG SAH | AF35: 198478900 | AS35: =AP35-Y35 -> 0 | AT35: 93473400 | AU35: =AT35-AP35 -> 93473400
B36: Penyediaan Jasa Peralatan dan Perlengkapan Kantor | D36: 31260500 | E36: 400000 | F36: =E36/D36*100 -> 1.2795701 | I36: 12454200 | J36: =I36/D36*100 -> 39.840054 | M36: Penyediaan Jasa Peralatan dan Perlengkapan Kantor | O36: 31260500 | AD36: Penyediaan Jasa Peralatan dan Perlengkapan Kantor | AE36: LAIN-LAIN PENDAPATAN DAERAH YANG SAH | AF36: 31260500
B37: Penyediaan Jasa Pelayanan Umum Kantor | D37: 600696968 | G37: 28153400 | H37: =G37/D37*100 -> 4.6867891 | I37: 62546370 | J37: =I37/D37*100 -> 10.4123 | M37: Penyediaan Jasa Pelayanan Umum Kantor | O37: 600696968 | AD37: Penyediaan Jasa Pelayanan Umum Kantor | AE37: LAIN-LAIN PENDAPATAN DAERAH YANG SAH | AF37: 600696968
B39: Pemeliharaan Barang Milik Daerah Penunjang Urusan Pemerintahan Daerah | C39: Pendapatan Hibah dari Pemerintah Pusat | D39: =SUM(D40:D42) -> 172487200 | E39: =SUM(E40:E46) -> 0 | G39: =SUM(G40:G42) -> 7200000 | H39: =G39/D39*100 -> 4.1742228 | I39: =SUM(I40:I42) -> 40508990 | J39: =I39/D39*100 -> 23.485215 | M39: Pemeliharaan Barang Milik Daerah Penunjang Urusan Pemerintahan Daerah | N39: Pendapatan Hibah dari Pemerintah Pusat | O39: =SUM(O40:O42) -> 172487200 | AD39: Pemeliharaan Barang Milik Daerah Penunjang Urusan Pemerintahan Daerah | AE39: Pendapatan Hibah dari Pemerintah Pusat | AF39: =SUM(AF40:AF42) -> 172487200 | AS39: =AP39-Y39 -> 0 | AT39: 618000110 | AU39: =AT39-AP39 -> 618000110
B40: Penyediaan Jasa Pemeliharaan, Biaya Pemeliharaan, dan Pajak Kendaraan Perorangan Dinas atau Kendaraan Dinas Jabatan | C40: Pendapatan Hibah dari Pemerintah Pusat | D40: 39000000 | G40: 2200000 | H40: =G40/D40*100 -> 5.6410256 | I40: 4669990 | J40: =I40/D40*100 -> 11.974333 | M40: Penyediaan Jasa Pemeliharaan, Biaya Pemeliharaan, dan Pajak Kendaraan Perorangan Dinas atau Kendaraan Dinas Jabatan | N40: Pendapatan Hibah dari Pemerintah Pusat | O40: 39000000 | AD40: Penyediaan Jasa Pemeliharaan, Biaya Pemeliharaan, dan Pajak Kendaraan Perorangan Dinas atau Kendaraan Dinas Jabatan | AE40: Pendapatan Hibah dari Pemerintah Pusat | AF40: 39000000 | AS40: =AP40-Y40 -> 0 | AT40: 49847400 | AU40: =AT40-AP40 -> 49847400
B41: Penyediaan Jasa Pemeliharaan, Biaya Pemeliharaan, Pajak dan Perizinan Kendaraan Dinas Operasional atau Lapangan | D41: 76987200 | G41: 5000000 | H41: =G41/D41*100 -> 6.4945861 | I41: 13277000 | J41: =I41/D41*100 -> 17.245724 | M41: Penyediaan Jasa Pemeliharaan, Biaya Pemeliharaan, Pajak dan Perizinan Kendaraan Dinas Operasional atau Lapangan | O41: 76987200 | AD41: Penyediaan Jasa Pemeliharaan, Biaya Pemeliharaan, Pajak dan Perizinan Kendaraan Dinas Operasional atau Lapangan | AF41: 76987200
B42: Pemeliharaan/Rehabilitasi Gedung Kantor dan Bangunan Lainnya | D42: 56500000 | I42: 22562000 | J42: =I42/D42*100 -> 39.932743 | M42: Pemeliharaan/Rehabilitasi Gedung Kantor dan Bangunan Lainnya | O42: 56500000 | AD42: Pemeliharaan/Rehabilitasi Gedung Kantor dan Bangunan Lainnya | AF42: 56500000
B44: PROGRAM PEMBINAAN PERPUSTAKAAN | C44: Pendapatan Hibah dari Pemerintah Pusat | D44: =D45+D54 -> 1041626350 | G44: =G45+G54 -> 21752283 | H44: =G44/D44*100 -> 2.0883 | I44: =I45 -> 25670722 | M44: PROGRAM PEMBINAAN PERPUSTAKAAN | O44: =O45 -> 551543750 | AD44: PROGRAM PEMBINAAN PERPUSTAKAAN | AE44: LAIN-LAIN PENDAPATAN DAERAH YANG SAH | AF44: =AF45 -> 551543750 | AS44: =AP44-Y44 -> 0 | AT44: 24949900 | AU44: =AT44-AP44 -> 24949900
B45: Pengelolaan Perpustakaan Tingkat Daerah Kabupaten/Kota | D45: =SUM(D46:D52) -> 551543750 | E45: =SUM(E46:E52) -> 0 | G45: =SUM(G46:G52) -> 16589783 | H45: =G45/D45*100 -> 3.0078816 | I45: =SUM(I46:I52) -> 25670722 | J45: =I45/D45*100 -> 4.6543401 | M45: Pengelolaan Perpustakaan Tingkat Daerah Kabupaten/Kota | O45: =SUM(O46:O52) -> 551543750 | AD45: Pengelolaan Perpustakaan Tingkat Daerah Kabupaten/Kota | AE45: LAIN-LAIN PENDAPATAN DAERAH YANG SAH | AF45: =SUM(AF46:AF52) -> 551543750
B46: Pembinaan Perpustakaan pada Satuan Pendidikan Dasar di Seluruh Wilayah Kabupaten/Kota Sesuai dengan Standar Nasional Perpustakaan | D46: 34083950 | I46: 1054300 | J46: =I46/D46*100 -> 3.0932448 | M46: Pembinaan Perpustakaan pada Satuan Pendidikan Dasar di Seluruh Wilayah Kabupaten/Kota Sesuai dengan Standar Nasional Perpustakaan | N46: LAIN-LAIN PENDAPATAN DAERAH YANG SAH | O46: 34083950 | AD46: Pembinaan Perpustakaan pada Satuan Pendidikan Dasar di Seluruh Wilayah Kabupaten/Kota Sesuai dengan Standar Nasional Perpustakaan | AE46: LAIN-LAIN PENDAPATAN DAERAH YANG SAH | AF46: 34083950
B47: Pengembangan Perpustakaan di Tingkat Daerah Kabupaten/Kota | D47: 116307550 | I47: 7245199 | J47: =I47/D47*100 -> 6.2293454 | M47: Pengembangan Perpustakaan di Tingkat Daerah Kabupaten/Kota | N47: LAIN-LAIN PENDAPATAN DAERAH YANG SAH | O47: 116307550 | AD47: Pengembangan Perpustakaan di Tingkat Daerah Kabupaten/Kota | AE47: LAIN-LAIN PENDAPATAN DAERAH YANG SAH | AF47: 116307550
B48: Pembinaan Perpustakaan Umum dan Khusus Tingkat Kabupaten/Kota | C48: LAIN-LAIN PENDAPATAN DAERAH YANG SAH | D48: 28450000 | M48: Pembinaan Perpustakaan Umum dan Khusus Tingkat Kabupaten/Kota | N48: LAIN-LAIN PENDAPATAN DAERAH YANG SAH | O48: 28450000 | AD48: Pembinaan Perpustakaan Umum dan Khusus Tingkat Kabupaten/Kota | AE48: LAIN-LAIN PENDAPATAN DAERAH YANG SAH | AF48: 28450000 | AS48: =AP48-Y48 -> 0 | AT48: 29409129 | AU48: =AT48-AP48 -> 29409129
B49: Penyusunan Data dan Informasi Perpustakaan | C49: LAIN-LAIN PENDAPATAN DAERAH YANG SAH | D49: 14000000 | M49: Penyusunan Data dan Informasi Perpustakaan | N49: LAIN-LAIN PENDAPATAN DAERAH YANG SAH | O49: 14000000 | AD49: Penyusunan Data dan Informasi Perpustakaan | AE49: LAIN-LAIN PENDAPATAN DAERAH YANG SAH | AF49: 14000000 | AS49: =AP49-Y49 -> 0 | AT49: 29193150 | AU49: =AT49-AP49 -> 29193150
B50: Pengelolaan dan Pengembangan Bahan Perpustakaan | C50: LAIN-LAIN PENDAPATAN DAERAH YANG SAH | D50: 134422300 | M50: Pengelolaan dan Pengembangan Bahan Perpustakaan | N50: LAIN-LAIN PENDAPATAN DAERAH YANG SAH | O50: 134422300 | AD50: Pengelolaan dan Pengembangan Bahan Perpustakaan | AE50: LAIN-LAIN PENDAPATAN DAERAH YANG SAH | AF50: 134422300 | AS50: =AP50-Y50 -> 0 | AT50: 34741421 | AU50: =AT50-AP50 -> 34741421
B51: Pengembangan Kekhasan Koleksi Perpustakaan Daerah Tingkat Kabupaten/Kota | D51: 208269700 | G51: 8261841 | H51: =G51/D51*100 -> 3.9668953 | I51: 9043281 | J51: =I51/D51*100 -> 4.3421011 | M51: Pengembangan Kekhasan Koleksi Perpustakaan Daerah Tingkat Kabupaten/Kota | N51: LAIN-LAIN PENDAPATAN DAERAH YANG SAH | O51: 208269700 | AD51: Pengembangan Kekhasan Koleksi Perpustakaan Daerah Tingkat Kabupaten/Kota | AF51: 208269700
B52: Pengembangan dan Pemeliharaan Layanan Perpustakaan Elektronik | D52: 16010250 | G52: 8327942 | H52: =G52/D52*100 -> 52.016315 | I52: 8327942 | J52: =I52/D52*100 -> 52.016315 | M52: Pengembangan dan Pemeliharaan Layanan Perpustakaan Elektronik | N52: LAIN-LAIN PENDAPATAN DAERAH YANG SAH | O52: 16010250 | AD52: Pengembangan dan Pemeliharaan Layanan Perpustakaan Elektronik | AE52: LAIN-LAIN PENDAPATAN DAERAH YANG SAH | AF52: 16010250
B54: Pembudayaan Gemar Membaca Tingkat Daerah Kabupaten/Kota | D54: =SUM(D55:D58) -> 490082600 | E54: =SUM(E55:E58) -> 0 | G54: =SUM(G55:G58) -> 5162500 | H54: =G54/D54*100 -> 1.0533939 | I54: =SUM(I55:I58) -> 5162500 | J54: =I54/D54*100 -> 1.0533939 | M54: Pembudayaan Gemar Membaca Tingkat Daerah Kabupaten/Kota | O54: =SUM(O55:O58) -> 490082600 | AD54: Pembudayaan Gemar Membaca Tingkat Daerah Kabupaten/Kota | AE54: LAIN-LAIN PENDAPATAN DAERAH YANG SAH | AF54: =SUM(AF55:AF58) -> 490082600
B55: Pemilihan Duta Baca/Bunda Baca/Bunda Literasi Tingkat Daerah Kabupaten/Kota | D55: 13167200 | M55: Pemilihan Duta Baca/Bunda Baca/Bunda Literasi Tingkat Daerah Kabupaten/Kota | O55: 13167200 | AD55: Pemilihan Duta Baca/Bunda Baca/Bunda Literasi Tingkat Daerah Kabupaten/Kota | AE55: LAIN-LAIN PENDAPATAN DAERAH YANG SAH | AF55: 13167200
B56: Pengembangan Literasi Berbasis Inklusi Sosial | C56: LAIN-LAIN PENDAPATAN DAERAH YANG SAH | D56: 23793100 | I56: 0 | M56: Pengembangan Literasi Berbasis Inklusi Sosial | N56: LAIN-LAIN PENDAPATAN DAERAH YANG SAH | O56: 23793100 | AD56: Pengembangan Literasi Berbasis Inklusi Sosial | AE56: LAIN-LAIN PENDAPATAN DAERAH YANG SAH | AF56: 23793100 | AS56: =AP56-Y56 -> 0 | AT56: 56496438 | AU56: =AT56-AP56 -> 56496438
B57: Pemberian Penghargaan Gerakan Budaya Gemar Membaca | C57: LAIN-LAIN PENDAPATAN DAERAH YANG SAH | D57: 182818700 | M57: Pemberian Penghargaan Gerakan Budaya Gemar Membaca | N57: LAIN-LAIN PENDAPATAN DAERAH YANG SAH | O57: 182818700 | AD57: Pemberian Penghargaan Gerakan Budaya Gemar Membaca | AE57: LAIN-LAIN PENDAPATAN DAERAH YANG SAH | AF57: 182818700 | AS57: =AP57-Y57 -> 0 | AT57: 48271132 | AU57: =AT57-AP57 -> 48271132
B58: Sosialisasi Budaya Baca dan Literasi pada Satuan Pendidikan Dasar dan Masyarakat | D58: 270303600 | G58: 5162500 | H58: =G58/D58*100 -> 1.9098895 | I58: 5162500 | J58: =I58/D58*100 -> 1.9098895 | M58: Sosialisasi Budaya Baca dan Literasi pada Satuan Pendidikan Dasar dan Masyarakat | O58: 270303600 | AD58: Sosialisasi Budaya Baca dan Literasi pada Satuan Pendidikan Dasar dan Masyarakat | AE58: LAIN-LAIN PENDAPATAN DAERAH YANG SAH | AF58: 270303600
B60: PROGRAM PELESTARIAN KOLEKSI NASIONAL DAN NASKAH KUNO | D60: =D61+D65 -> 23117400 | E60: =E61+E65 -> 0 | G60: =G61+G65 -> 0 | I60: =I61+I65 -> 1459650 | J60: =I60/D60*100 -> 6.3140751 | M60: PROGRAM PELESTARIAN KOLEKSI NASIONAL DAN NASKAH KUNO | O60: =O61+O65 -> 23117400 | AD60: PROGRAM PELESTARIAN KOLEKSI NASIONAL DAN NASKAH KUNO | AE60: LAIN-LAIN PENDAPATAN DAERAH YANG SAH | AF60: =AF61+AF65 -> 23117400
B61: Pelestarian Naskah Kuno Milik Daerah Kabupaten/Kota | C61: LAIN-LAIN PENDAPATAN DAERAH YANG SAH | D61: =SUM(D62:D63) -> 15254900 | E61: =SUM(E62:E63) -> 0 | G61: =SUM(G62:G63) -> 0 | I61: =SUM(I62:I63) -> 1459650 | J61: =I61/D61*100 -> 9.568401 | M61: Pelestarian Naskah Kuno Milik Daerah Kabupaten/Kota | N61: LAIN-LAIN PENDAPATAN DAERAH YANG SAH | O61: =SUM(O62:O63) -> 15254900 | AD61: Pelestarian Naskah Kuno Milik Daerah Kabupaten/Kota | AE61: LAIN-LAIN PENDAPATAN DAERAH YANG SAH | AF61: =SUM(AF62:AF63) -> 15254900 | AS61: =AP61-Y61 -> 0 | AT61: 19282878 | AU61: =AT61-AP61 -> 19282878
B62: Peningkatan Peran Serta Masyarakat dalam Penyimpanan, Perawatan, Pelestarian, dan Pendaftaran Naskah Kuno | C62: LAIN-LAIN PENDAPATAN DAERAH YANG SAH | D62: 7648550 | I62: 1459650 | J62: =I62/D62*100 -> 19.084009 | M62: Peningkatan Peran Serta Masyarakat dalam Penyimpanan, Perawatan, Pelestarian, dan Pendaftaran Naskah Kuno | N62: LAIN-LAIN PENDAPATAN DAERAH YANG SAH | O62: 7648550 | AD62: Peningkatan Peran Serta Masyarakat dalam Penyimpanan, Perawatan, Pelestarian, dan Pendaftaran Naskah Kuno | AE62: LAIN-LAIN PENDAPATAN DAERAH YANG SAH | AF62: 7648550 | AS62: =AP62-Y62 -> 0 | AT62: 19765000 | AU62: =AT62-AP62 -> 19765000
B63: Pengembangan, pengolahan dan pengalihmediaan Naskah Kuno yang Dimiliki oleh Masyarakat untuk dilestarikan dan didayagunakan | D63: 7606350 | M63: Pengembangan, pengolahan dan pengalihmediaan Naskah Kuno yang Dimiliki oleh Masyarakat untuk dilestarikan dan didayagunakan | O63: 7606350 | AD63: Pengembangan, pengolahan dan pengalihmediaan Naskah Kuno yang Dimiliki oleh Masyarakat untuk dilestarikan dan didayagunakan | AE63: LAIN-LAIN PENDAPATAN DAERAH YANG SAH | AF63: 7606350
B65: Pengembangan Koleksi Budaya Etnis Nusantara yang Ditemukan oleh Pemerintah Daerah Kabupaten/Kota | D65: =D66 -> 7862500 | E65: =E66 -> 0 | G65: =G66 -> 0 | I65: =I66 -> 0 | M65: Pengembangan Koleksi Budaya Etnis Nusantara yang Ditemukan oleh Pemerintah Daerah Kabupaten/Kota | O65: =O66 -> 7862500 | AD65: Pengembangan Koleksi Budaya Etnis Nusantara yang Ditemukan oleh Pemerintah Daerah Kabupaten/Kota | AE65: LAIN-LAIN PENDAPATAN DAERAH YANG SAH | AF65: =AF66 -> 7862500 | AS65: =AP65-Y65 -> 0
B66: Seleksi dan Pengadaan Koleksi Budaya Etnis Nusantara | C66: LAIN-LAIN PENDAPATAN DAERAH YANG SAH | D66: 7862500 | M66: Seleksi dan Pengadaan Koleksi Budaya Etnis Nusantara | N66: LAIN-LAIN PENDAPATAN DAERAH YANG SAH | O66: 7862500 | AD66: Seleksi dan Pengadaan Koleksi Budaya Etnis Nusantara | AE66: LAIN-LAIN PENDAPATAN DAERAH YANG SAH | AF66: 7862500 | AS66: =AP66-Y66 -> 0 | AT66: 148816217 | AU66: =AT66-AP66 -> 148816217
B68: PROGRAM PENGELOLAAN ARSIP | C68: LAIN-LAIN PENDAPATAN DAERAH YANG SAH | D68: =D69+D74+D77 -> 106549750 | E68: =E69+E74+E77 -> 0 | G68: =G69+G74+G77 -> 12071994 | H68: =G68/D68*100 -> 11.329913 | I68: =I69+I74+I77 -> 12840114 | J68: =I68/D68*100 -> 12.050816 | M68: PROGRAM PENGELOLAAN ARSIP | N68: LAIN-LAIN PENDAPATAN DAERAH YANG SAH | O68: =O69+O74+O77 -> 106549750 | AD68: PROGRAM PENGELOLAAN ARSIP | AE68: LAIN-LAIN PENDAPATAN DAERAH YANG SAH | AF68: =AF69+AF74+AF77 -> 106549750 | AS68: =AP68-Y68 -> 0 | AT68: 48464400 | AU68: =AT68-AP68 -> 48464400
B69: Pengelolaan Arsip Dinamis Daerah Kabupaten/Kota | C69: LAIN-LAIN PENDAPATAN DAERAH YANG SAH | D69: =SUM(D70:D72) -> 59000000 | E69: =SUM(E70:E72) -> 0 | G69: =SUM(G70:G72) -> 12071994 | H69: =G69/D69*100 -> 20.461007 | I69: =SUM(I70:I72) -> 12071994 | J69: =I69/D69*100 -> 20.461007 | M69: Pengelolaan Arsip Dinamis Daerah Kabupaten/Kota | N69: LAIN-LAIN PENDAPATAN DAERAH YANG SAH | O69: =SUM(O70:O72) -> 59000000 | AD69: Pengelolaan Arsip Dinamis Daerah Kabupaten/Kota | AE69: LAIN-LAIN PENDAPATAN DAERAH YANG SAH | AF69: =SUM(AF70:AF72) -> 59000000 | AS69: =AP69-Y69 -> 0 | AT69: 72204502 | AU69: =AT69-AP69 -> 72204502
B70: Penciptaan dan Penggunaan Arsip Dinamis | C70: LAIN-LAIN PENDAPATAN DAERAH YANG SAH | D70: 13000000 | G70: 294894 | H70: =G70/D70*100 -> 2.2684154 | I70: 294894 | J70: =I70/D70*100 -> 2.2684154 | M70: Penciptaan dan Penggunaan Arsip Dinamis | O70: 13000000 | AD70: Penciptaan dan Penggunaan Arsip Dinamis | AE70: LAIN-LAIN PENDAPATAN DAERAH YANG SAH | AF70: 13000000
B71: Pemeliharaan dan Penyusutan Arsip Dinamis | C71: LAIN-LAIN PENDAPATAN DAERAH YANG SAH | D71: 18000000 | G71: 11777100 | H71: =G71/D71*100 -> 65.428333 | I71: 11777100 | J71: =I71/D71*100 -> 65.428333 | M71: Pemeliharaan dan Penyusutan Arsip Dinamis | O71: 18000000 | AD71: Pemeliharaan dan Penyusutan Arsip Dinamis | AE71: LAIN-LAIN PENDAPATAN DAERAH YANG SAH | AF71: 18000000
B72: Pengawasan Arsip Dinamis Kabupaten/Kota | C72: LAIN-LAIN PENDAPATAN DAERAH YANG SAH | D72: 28000000 | M72: Pengawasan Arsip Dinamis Kabupaten/Kota | N72: LAIN-LAIN PENDAPATAN DAERAH YANG SAH | O72: 28000000 | AD72: Pengawasan Arsip Dinamis Kabupaten/Kota | AE72: LAIN-LAIN PENDAPATAN DAERAH YANG SAH | AF72: 28000000 | AS72: =AP72-Y72 -> 0 | AT72: 49607650 | AU72: =AT72-AP72 -> 49607650
B74: Pengelolaan Arsip Statis Daerah Kabupaten/Kota | C74: LAIN-LAIN PENDAPATAN DAERAH YANG SAH | D74: =D75 -> 16000000 | E74: =E75 -> 0 | G74: =G75 -> 0 | I74: =I75 -> 0 | M74: Pengelolaan Arsip Statis Daerah Kabupaten/Kota | N74: LAIN-LAIN PENDAPATAN DAERAH YANG SAH | O74: =O75 -> 16000000 | AD74: Pengelolaan Arsip Statis Daerah Kabupaten/Kota | AE74: LAIN-LAIN PENDAPATAN DAERAH YANG SAH | AF74: =AF75 -> 16000000 | AS74: =AP74-Y74 -> 0 | AT74: 44548872 | AU74: =AT74-AP74 -> 44548872
B75: Akuisisi, Pengolahan, Preservasi, dan Akses Arsip Statis | C75: LAIN-LAIN PENDAPATAN DAERAH YANG SAH | D75: 16000000 | M75: Akuisisi, Pengolahan, Preservasi, dan Akses Arsip Statis | N75: LAIN-LAIN PENDAPATAN DAERAH YANG SAH | O75: 16000000 | AD75: Akuisisi, Pengolahan, Preservasi, dan Akses Arsip Statis | AE75: LAIN-LAIN PENDAPATAN DAERAH YANG SAH | AF75: 16000000 | AS75: =AP75-Y75 -> 0 | AT75: 124336450 | AU75: =AT75-AP75 -> 124336450
B77: Pengelolaan Simpul Jaringan Informasi Kearsipan Nasional Tingkat Kabupaten/Kota | C77: LAIN-LAIN PENDAPATAN DAERAH YANG SAH | D77: =SUM(D78:D79) -> 31549750 | E77: =SUM(E78:E79) -> 0 | G77: =SUM(G78:G79) -> 0 | I77: =SUM(I78:I79) -> 768120 | J77: =I77/D77*100 -> 2.434631 | M77: Pengelolaan Simpul Jaringan Informasi Kearsipan Nasional Tingkat Kabupaten/Kota | N77: LAIN-LAIN PENDAPATAN DAERAH YANG SAH | O77: =SUM(O78:O79) -> 31549750 | AD77: Pengelolaan Simpul Jaringan Informasi Kearsipan Nasional Tingkat Kabupaten/Kota | AE77: LAIN-LAIN PENDAPATAN DAERAH YANG SAH | AF77: =SUM(AF78:AF79) -> 31549750 | AS77: =AP77-Y77 -> 0 | AT77: 49239160 | AU77: =AT77-AP77 -> 49239160
B78: Penyediaan Informasi, Akses dan Layanan Kearsipan Tingkat Daerah Kabuapten/Kota Melalui JIKN | C78: LAIN-LAIN PENDAPATAN DAERAH YANG SAH | D78: 15725050 | I78: 244200 | J78: =I78/D78*100 -> 1.5529362 | M78: Penyediaan Informasi, Akses dan Layanan Kearsipan Tingkat Daerah Kabuapten/Kota Melalui JIKN | N78: LAIN-LAIN PENDAPATAN DAERAH YANG SAH | O78: 15725050 | AD78: Penyediaan Informasi, Akses dan Layanan Kearsipan Tingkat Daerah Kabuapten/Kota Melalui JIKN | AE78: LAIN-LAIN PENDAPATAN DAERAH YANG SAH | AF78: 15725050 | AS78: =AP78-Y78 -> 0 | AT78: 88456700 | AU78: =AT78-AP78 -> 88456700
B79: Pemberdayaan Kapasitas Unit Kearsipan dan Lembaga Kearsipan Daerah Kabupaten/Kota | C79: LAIN-LAIN PENDAPATAN DAERAH YANG SAH | D79: 15824700 | G79: 0 | I79: 523920 | J79: =I79/D79*100 -> 3.3107737 | M79: Pemberdayaan Kapasitas Unit Kearsipan dan Lembaga Kearsipan Daerah Kabupaten/Kota | N79: LAIN-LAIN PENDAPATAN DAERAH YANG SAH | O79: 15824700 | AD79: Pemberdayaan Kapasitas Unit Kearsipan dan Lembaga Kearsipan Daerah Kabupaten/Kota | AE79: LAIN-LAIN PENDAPATAN DAERAH YANG SAH | AF79: 15824700 | AS79: =AP79-Y79 -> 0 | AT79: 24411950 | AU79: =AT79-AP79 -> 24411950
B81: PROGRAM PERLINDUNGAN DAN PENYELAMATAN ARSIP | D81: =D82 -> 15625000 | E81: =E82 -> 0 | G81: =G82 -> 0 | I81: =I82 -> 0 | M81: PROGRAM PERLINDUNGAN DAN PENYELAMATAN ARSIP | O81: =O82 -> 15625000 | AD81: PROGRAM PERLINDUNGAN DAN PENYELAMATAN ARSIP | AE81: LAIN-LAIN PENDAPATAN DAERAH YANG SAH | AF81: =AF82 -> 15625000
B82: Pemusnahan Arsip Dilingkungan Pemerintah Daerah Kabupaten/Kota yang Memiliki Retensi di Bawah 10 (Sepuluh) Tahun | D82: =SUM(D83:D84) -> 15625000 | E82: =SUM(E83:E84) -> 0 | G82: =SUM(G83:G84) -> 0 | I82: =SUM(I83:I84) -> 0 | M82: Pemusnahan Arsip Dilingkungan Pemerintah Daerah Kabupaten/Kota yang Memiliki Retensi di Bawah 10 (Sepuluh) Tahun | O82: =SUM(O83:O84) -> 15625000 | AD82: Pemusnahan Arsip Dilingkungan Pemerintah Daerah Kabupaten/Kota yang Memiliki Retensi di Bawah 10 (Sepuluh) Tahun | AE82: LAIN-LAIN PENDAPATAN DAERAH YANG SAH | AF82: =SUM(AF83:AF84) -> 15625000 | AS82: =AP82-Y82 -> 0
B83: Pelaksanaan Pemusnahan Arsip yang Memiliki Retensi di Bawah 10 Tahun | C83: LAIN-LAIN PENDAPATAN DAERAH YANG SAH | D83: 6625000 | M83: Pelaksanaan Pemusnahan Arsip yang Memiliki Retensi di Bawah 10 Tahun | N83: LAIN-LAIN PENDAPATAN DAERAH YANG SAH | O83: 6625000 | AD83: Pelaksanaan Pemusnahan Arsip yang Memiliki Retensi di Bawah 10 Tahun | AE83: LAIN-LAIN PENDAPATAN DAERAH YANG SAH | AF83: 6625000 | AS83: =AP83-Y83 -> 0 | AT83: 14946150 | AU83: =AT83-AP83 -> 14946150
B84: Penilaian, Penetapan dan Pelaksanaan Pemusnahan Arsip yang Memiliki Retensi di Bawah 10 (Sepuluh) Tahun | C84: LAIN-LAIN PENDAPATAN DAERAH YANG SAH | D84: 9000000 | M84: Penilaian, Penetapan dan Pelaksanaan Pemusnahan Arsip yang Memiliki Retensi di Bawah 10 (Sepuluh) Tahun | N84: LAIN-LAIN PENDAPATAN DAERAH YANG SAH | O84: 9000000 | AD84: Penilaian, Penetapan dan Pelaksanaan Pemusnahan Arsip yang Memiliki Retensi di Bawah 10 (Sepuluh) Tahun | AE84: LAIN-LAIN PENDAPATAN DAERAH YANG SAH | AF84: 9000000 | AS84: =AP84-Y84 -> 0 | AT84: 19664500 | AU84: =AT84-AP84 -> 19664500

Sheet Sheet3
C5: Urusan/Bidang Urusan Pemerintahan Daerah dan Program/Kegiatan | D5: Indikator Kinerja Program (outcome)/ Kegiatan (output) | E5: Target Kinerja Capaian Program (Renstra Perangkat Daerah) Tahun 2018-2023) | F5: Realisasi Target Kinerja Hasil Program dan Keluaran Kegiatan s/d Tahun 2023 | G5: Target dan Realisasi Kinerja Program dan Kegiatan Tahun Lalu (2023) | J5: Target Program dan Kegiatan Tahun Berjalan (Renja Perangkat Daerah Tahun 2024) | K5: Tingkat Capaian Kinerja dan Realisasi Anggaran Renstra SKPD s/d tahun 2024 (%)
G6: Target Renja Perangkat Daerah Tahun 2023 | H6: Realisasi Renja Perangkat Daerah Tahun 2023 | I6: Tingkat Realisasi (%) | K6: Realisasi Capaian Program Dan Kegiatan s/d Tahun Berjalan (Tahun 2024) | L6: Tingkat Capaian Realisasi Target Renstra (%)
C16: 1757080696 | E16: Realisasi sampai dengan bulan juni - realisasi triwulan 1 maret | L16: 15209871 | N16: 5940000
C17: =C16-ARPUS!R18 -> 950905807 | E17: hasile dadi realisasi triwulan 2 | L17: 5940000 | N17: 3960000
L18: =L16-L17 -> 9269871 | N18: =N16-N17 -> 1980000
C20: 9449595 | L20: 11203226
C21: =C20-ARPUS!R27 -> 7548720 | L21: 4176000 | N21: 4176000
L22: =L20-L21 -> 7027226 | N22: 4176000
C23: 3125000
C24: =C23-ARPUS!R28 -> 1875000 | L24: 2651613668 | N24: 1885020557
L25: 1885020557 | N25: 806174889
C26: 44160365 | L26: =L24-L25 -> 766593111 | N26: =N24-N25 -> 1078845668
C27: =C26-ARPUS!R29 -> 38634761
L28: 13434915 | N28: 3816000
C29: 73945947 | L29: 3816000 | N29: 3816000
C30: =C29-ARPUS!R31 -> 31372146 | L30: =L28-L29 -> 9618915 | N30: =N28-N29 -> 0
N31: 1400000
C32: 11546200 | L32: 20521680 | N32: 700000
C33: =C32-ARPUS!R35 -> 6876210 | L33: 12742800 | N33: =N31-N32 -> 700000
L34: =L32-L33 -> 7778880
C35: 35528300 | N35: 12582350
C36: =C35-ARPUS!R36 -> 22251300 | L36: 14150850
L37: 1400000 | N37: 14623750
C38: 30841750 | L38: =L36-L37 -> 12750850 | N38: 5719000
N39: =N37-N38 -> 8904750
C40: 77652192 | L40: 20592832
C41: =C40-ARPUS!R41 -> 76597892 | L41: 12582350 | N41: 2200875
L42: =L40-L41 -> 8010482 | N42: 1900875
N43: =N41-N42 -> 300000
C44: 16718978 | L44: 26046250
C45: =C44-ARPUS!R42 -> 9473779 | L45: 14623750 | N45: 3125000
L46: =L44-L45 -> 11422500 | N46: 1250000
C47: 129880680 | N47: =N45-N46 -> 1875000
C48: =C47-ARPUS!R49 -> 129880680 | L48: 8229425
L49: 2200875 | N49: 19991055
C50: 16831765 | L50: =L48-L49 -> 6028550 | N50: 5525604
C51: =C50-ARPUS!R50 -> 16831765 | N51: =N49-N50 -> 14465451
L52: 7784435
C53: 131190799 | L53: 3125000 | N53: 90117129
C54: =C53-ARPUS!R51 -> 131190799 | L54: =L52-L53 -> 4659435 | N54: 42573801
N55: =N53-N54 -> 47543328
L56: 261255480
C57: 3607840 | L57: 168649520 | N57: 12454200
C58: =C57-ARPUS!R68 -> 3312946 | L58: =L56-L57 -> 92605960 | N58: 12454200
N59: =N57-N58 -> 0
C60: 7572028 | L60: 126998129 | N60: 168649520
C61: =C60-ARPUS!R74 -> 7327828 | L61: 90117129 | N61: 62546370
L62: =L60-L61 -> 36881000 | N62: =N60-N61 -> 106103150
C63: 6786800
C64: =C63-ARPUS!R75 -> 6262880 | L64: 28790070 | N64: 16344890
L65: 12454200 | N65: 4669990
L66: =L64-L65 -> 16335870 | N66: =N64-N65 -> 11674900
L68: 16766208 | N68: 35777000
C69: 7872000 | L69: =L68-ARPUS!U75 -> 10267568 | N69: 13277000
C70: 1000000 | N70: =N68-N69 -> 22500000
L71: 9345293
C72: =C69-C70 -> 6872000 | N72: 22562000
N73: 22562000
C74: 13556740 | L74: 8874915 | N74: =N72-N73 -> 0
C75: 5472000 | L75: 3816000
C76: =C74-C75 -> 8084740 | L76: =L74-L75 -> 5058915 | N76: 5860650
L77: 20521680 | N77: 1054300
C78: 11196690 | L78: 12742800 | N78: =N76-N77 -> 4806350
C79: 3612200 | L79: =L77-L78 -> 7778880
C80: =C78-C79 -> 7584490 | N80: 13705199
L81: 13750850 | N81: 7245199
C82: 18518168 | L82: 1400000 | N82: =N80-N81 -> 6460000
C83: 12768168 | L83: =L81-L82 -> 12350850
C84: =C82-C83 -> 5750000 | N84: 17133281
L85: 12582350 | N85: 9043281
C86: 25465216 | L86: 20592832 | N86: =N84-N85 -> 8090000
C87: 14426216 | L87: =L86-L85 -> 8010482
C88: =C86-C87 -> 11039000 | N88: 11444106
L89: 26046250 | N89: 8327942
C90: 30072532 | L90: 14623750 | N90: =N88-N89 -> 3116164
C91: 11916510 | L91: =L89-L90 -> 11422500
C92: =C90-C91 -> 18156022 | N92: 59944155
L93: 5952935
C94: 19438208 | L94: 3125000 | N94: 24547500
C95: 10146208 | L95: =L93-L94 -> 2827935 | N95: 5162500
C96: =C94-C95 -> 9292000 | N96: =N94-N95 -> 19385000
C98: 11274793 | N98: 1459650
L99: 2200875 | N99: 1459650
C100: =C98-C99 -> #VALUE! | L100: 7324775 | N100: =N98-N99 -> 0
L101: =L100-L99 -> 5123900 | N101: 12704894
C102: 8760175 | N102: 294894
L103: 31164055 | N103: =N101-N102 -> 12410000
L104: 19991055
L105: =L103-L104 -> 11173000 | N105: 12788299
N106: 11777100
L107: 90117129 | N107: =N105-N106 -> 1011199
L108: 116697962
L109: =L108-L107 -> 26580833 | N109: 8395000
N110: 244200
N111: =N109-N110 -> 8150800
L112: 32219977
L113: 16344890 | N113: 7022560
L114: =L112-L113 -> 15875087 | N114: 523920
N115: =N113-N114 -> 6498640
L116: 61856500
...
