Workbook
Name OLE_LINK1: HIT!$E$7
Name OLE_LINK3: HIT!$E$7

Sheet ARPUS
B2: Evaluasi Terhadap Hasil Renja Perangkat Daerah Lingkup Kabupaten/kota
B3: Renja Perangkat Daerah Dinas Kearsipan Dan Perpustakaan Kabupaten Magetan
B4: Periode Pelaksanaan: Tribulan I Tahun 2026
A6: NO | B6: Tujuan | C6: Sasaran | D6: Kode | E6: Program, Kegiatan, Sub Kegiatan | F6: Indikator Kinerja, Program(outcome),Kegiatan (output), Sub Kegiatan | G6: Target Renstra Perangkat Daerah pada Tahun 2026 (Akhir Periode Renstra Perangkat Daerah) | J6: Realisasi Capaian Kinerja Renstra Perangkat Daerah sampai dengan Renja Perangkat Daerah Tahun Lalu (n-2) | M6: Target Kinerja dan Anggaran Renja Perangkat Daerah Tahun berjalan Setelah Efisiensi yang dievaluasi (Tahun 2026) | P6: Realisasi Kinerja Pada Triwulan | AB6: Realisasi Capaian Kinerja dan Anggaran Renja PD yang dievaluasi | AE6: Tingkat Capaian Kinerja dan Realisasi Anggaran Renja yang dievaluasi (%) | AG6: Realisasi Kinerja dan Anggaran Renstra Perangkat Daerah s/d tahun 2026 (Akhir Tahun Pelaksanaan Renja Perangkat Daerah Tahun | AJ6: Tingkat Capaian Kinerja Dan Realisasi Anggaran Renstra Perangkat Daerah s/d tahun 2025 (%) | AL6: Unit OPD Penanggung Jawab
P7: I | S7: II | V7: III | Y7: IV
A8: 1 | B8: 2 | C8: 3 | D8: 4 | E8: 5 | F8: 6 | G8: 7 | J8: 8 | M8: 9 | P8: 10 | S8: 11 | V8: 12 | Y8: 13 | AB8: 14 =10+11+12+13 | AE8: 15 = 14/9x100 | AG8: 16 = 8 + 14 | AJ8: 17 = 16/7 x100 | AL8: 18 | AM8: =AI12/I13*100 -> 29.962609
G9: K | I9: Rp | J9: K | L9: Rp | M9: K | O9: Rp | P9: K | R9: Rp | S9: K | U9: Rp | V9: K | X9: Rp | Y9: K | AA9: Rp | AB9: K | AD9: Rp | AE9: K | AF9: Rp | AG9: K | AI9: Rp | AJ9: K | AK9: Rp
G10: Volume | H10: Satuan | J10: Volume | K10: Satuan | M10: Volume | N10: Satuan | P10: Volume | Q10: Satuan | S10: Volume | T10: Satuan | V10: Volume | W10: Satuan | Y10: Volume | Z10: Satuan | AB10: Volume | AC10: Satuan | AG10: Volume | AH10: Satuan
A11: 1 | B11: -1 | C11: -2 | D11: -3 | E11: -4 | F11: -5 | I11: -18 | M11: -7 | O11: -8 | AL11: -19
A12: 1 | B12: Meningkatkan Kualitas Pelayanan Publik pada Urusan Kearsipan dan Urusan Perpustakaan | C12: Meningkatnya Akuntabilitas dan Pelayanan Publik PenyelenggaraanP emerintah Daerah Pada Dinas Kearsipan dan Perpustakaan | D12: 2.23.01 | E12: PROGRAM PENUNJANG URUSAN PEMERINTAHAN DAERAH KABUPATEN/ KOTA | F12: Indeks Kepuasan Layanan Kesekretariatan II Indeks | G12: 88,10 | H12: Indeks | I12: =I14+I17+I20+I22+I30+I34 -> 28254975280 | J12: 86,89 | K12: indeks | L12: =L13+L16+L19+L21+L29+L33 -> 5864429256 | M12: 87.5 | N12: =H13 -> Persen | O12: =O14+O17+O20+O22+O30+O34 -> 5402044416 | P12: 21.88 | Q12: =N12 -> Persen | R12: =R14+R17+R20+R22+R30+R34 -> 991305729 | S12: 21.87 | T12: =Q12 -> Persen | U12: =U14+U17+U20+U22+U30+U34 -> 1320217397 | V12: 21.87 | W12: =T12 -> Persen | X12: =X14+X17+X20+X22+X30+X34 -> 1070615467 | Z12: =W12 -> Persen | AA12: =AA14+AA17+AA20+AA22+AA30+AA34 -> 0 | AB12: =P12+S12+V12+Y12 -> 65.62 | AC12: =Q12 -> Persen | AD12: =R12+U12+X12+AA12 -> 3382138593 | AE12: =AB12/M12*100 -> 74.994286 | AF12: =AD12/O12*100 -> 62.608493 | AG12: =J13+AB12 -> 152.02 | AH12: =AC12 -> Persen | AI12: =L13+AD12 -> 8465927881 | AJ12: =AG12/G12*100 -> 172.55392 | AK12: =AI12/I13*100 -> 29.962609 | AL12: ARPUS
F13: Persentase Capaian Kinerja dan Anggaran II Persen | G13: 97.98 | H13: Persen | I13: =I14+I17+I20+I22+I30+I34 -> 28254975280 | J13: 86,40 | K13: Persen | L13: =L14+L17+L20+L22+L30+L34 -> 5083789288 | M13: 97.94 | N13: Persen | O13: =O15+O18+O21+O23+O31+O35 -> 4301657348 | P13: 24.49 | Q13: Persen | R13: =R15+R18+R21+R23+R31+R35 -> 857378680 | S13: 24.49 | T13: Persen | U13: =U15+U18+U21+U23+U31+U35 -> 1152786696 | V13: 24.49 | W13: Persen | X13: =X15+X18+X21+X23+X31+X35 -> 836397949 | Z13: Persen | AA13: =AA15+AA18+AA21+AA23+AA31+AA35 -> 0 | AB13: =P13+S13+V13+Y13 -> 73.47 | AC13: Persen | AD13: =R13+U13+X13+AA13 -> 2846563325 | AE13: =AB13/M13*100 -> 75.015315 | AF13: =AD13/O13*100 -> 66.173642 | AG13: =J13+AB13 -> 159.87 | AH13: Persen | AI13: =L14+AD13 -> 2896499475 | AJ13: =AG13/G14*100 -> 192.61446 | AK13: =AI13/I14*100 -> 1072.7776 | AL13: ARPUS | AM13: 4966485764 | AN13: =AM13-AD12 -> 1584347171 | AO13: =AB12/G13*100 -> #VALUE! | AQ13: =(86.6+86.4+86.5) -> 259.5
D14: 2.23.01.2.01 | E14: Perencanaan, Penganggaran, dan Evaluasi Kinerja Perangkat Daerah | F14: Jumlah Dokumen Perencanaan, Kinerja dan Keuangan Yang Disusun Tepat Waktu | G14: 83 | H14: Dokumen | I14: =SUM(I15:I16) -> 270000000 | J14: 11 | K14: Dokumen | L14: =SUM(L15:L16) -> 49936150 | M14: 11 | N14: =H14 -> Dokumen | O14: =SUM(O15:O16) -> 31250000 | P14: 3 | Q14: =N14 -> Dokumen | R14: =SUM(R15:R16) -> 8136000 | S14: 2 | T14: =Q14 -> Dokumen | U14: =SUM(U15:U16) -> 1980000 | V14: 3 | W14: =T14 -> Dokumen | X14: =SUM(X15:X16) -> 16297097 | Z14: =W14 -> Dokumen | AA14: =SUM(AA15:AA16) -> 0 | AB14: =P14+S14+V14+Y14 -> 8 | AC14: =Q14 -> Dokumen | AD14: =R14+U14+X14+AA14 -> 26413097 | AE14: =AB14/M14*100 -> 72.727273 | AF14: =AD14/O14*100 -> 84.52191 | AG14: =J14+AB14 -> 19 | AH14: =AC14 -> Dokumen | AI14: =L14+AD14 -> 76349247 | AJ14: =AG14/G14*100 -> 22.891566 | AK14: =AI14/I14*100 -> 28.277499 | AL14: ARPUS | AO14: =AB14/G14*100 -> 9.6385542
D15: 2.23.01.2.01.01 | E15: Penyusunan Dokumen Perencanaan Perangkat Daerah | F15: Jumlah dokumen perencanaan perangkat daerah II dokumen | G15: 50 | H15: Dokumen | I15: 135000000 | J15: 6 | K15: Dokumen | L15: 24949900 | M15: 6 | N15: =H15 -> Dokumen | O15: 15625000 | P15: 2 | Q15: =N15 -> Dokumen | R15: 3960000 | S15: 2 | T15: =Q15 -> Dokumen | U15: 1980000 | V15: 2 | W15: =T15 -> Dokumen | X15: 9269871 | Z15: =W15 -> Dokumen | AB15: =P15+S15+V15+Y15 -> 6 | AC15: =Q15 -> Dokumen | AD15: =R15+U15+X15+AA15 -> 15209871 | AE15: =AB15/M15*100 -> 100 | AF15: =AD15/O15*100 -> 97.343174 | AG15: =J15+AB15 -> 12 | AH15: =AC15 -> Dokumen | AI15: =L15+AD15 -> 40159771 | AJ15: =AG15/G15*100 -> 24 | AK15: =AI15/I15*100 -> 29.747979 | AL15: ARPUS
D16: 2.23.01.2.01.07 | E16: Evaluasi Kinerja Perangkat Daerah | F16: Jumlah laporan evaluasi kinerja perangkat daerah II dokumen | G16: 33 | H16: Dokumen | I16: 135000000 | J16: 5 | K16: Dokumen | L16: 24986250 | M16: 4 | N16: Dokumen | O16: 15625000 | P16: 1 | Q16: =N16 -> Dokumen | R16: 4176000 | S16: 1 | T16: =Q16 -> Dokumen | U16: 0 | V16: 1 | W16: =T16 -> Dokumen | X16: 7027226 | Z16: =W16 -> Dokumen | AB16: =P16+S16+V16+Y16 -> 3 | AC16: =Q16 -> Dokumen | AD16: =R16+U16+X16+AA16 -> 11203226 | AE16: =AB16/M16*100 -> 75 | AF16: =AD16/O16*100 -> 71.700646 | AG16: =J16+AB16 -> 8 | AH16: =AC16 -> Dokumen | AI16: =L16+AD16 -> 36189476 | AJ16: =AG16/G16*100 -> 24.242424 | AK16: =AI16/I16*100 -> 26.807019 | AL16: ARPUS
D17: 2.23.01.2.02 | E17: Administrasi Keuangan Perangkat Daerah | F17: Persentase Serapan Anggaran Perangkat Daerah II % | G17: 100 | H17: % | I17: =SUM(I18:I19) -> 19962590440 | J17: 100 | K17: % | L17: =SUM(L18:L19) -> 3347392347 | M17: 100 | N17: =H17 -> % | O17: =SUM(O18:O19) -> 4021679348 | P17: 25 | Q17: =N17 -> % | R17: =SUM(R18:R19) -> 809990889 | S17: 25 | T17: =Q17 -> % | U17: =SUM(U18:U19) -> 1078845668 | V17: 25 | W17: =T17 -> % | X17: =SUM(X18:X19) -> 776212026 | Z17: =W17 -> % | AA17: =SUM(AA18:AA19) -> 0 | AB17: =P17+S17+V17+Y17 -> 75 | AC17: =Q17 -> % | AD17: =R17+U17+X17+AA17 -> 2665048583 | AE17: =AB17/M17*100 -> 75 | AF17: =AD17/O17*100 -> 66.267058 | AG17: =J17+AB17 -> 175 | AH17: =AC17 -> % | AI17: =L17+AD17 -> 6012440930 | AJ17: =AG17/G17*100 -> 175 | AK17: =AI17/I17*100 -> 30.118541 | AL17: ARPUS
D18: 2.23.01.2.02.01 | E18: Penyediaan Gaji dan Tunjangan ASN | F18: Jumlah orang yang menerima gaji dan tunjangan ASN II Orang/Bulan | G18: 1960 | H18: Orang/Bulan | I18: 19827590440 | J18: 392 | K18: Orang/bulan | L18: 3322545797 | M18: 392 | N18: =H18 -> Orang/Bulan | O18: 4006053448 | P18: 98 | Q18: =N18 -> Orang/Bulan | R18: 806174889 | S18: 98 | T18: =Q18 -> Orang/Bulan | U18: 1078845668 | V18: 98 | W18: =T18 -> Orang/Bulan | X18: 766593111 | Z18: =W18 -> Orang/Bulan | AB18: =P18+S18+V18+Y18 -> 294 | AC18: =Q18 -> Orang/Bulan | AD18: =R18+U18+X18+AA18 -> 2651613668 | AE18: =AB18/M18*100 -> 75 | AF18: =AD18/O18*100 -> 66.190172 | AG18: =J18+AB18 -> 686 | AH18: =AC18 -> Orang/Bulan | AI18: =L18+AD18 -> 5974159465 | AJ18: =AG18/G18*100 -> 35 | AK18: =AI18/I18*100 -> 30.130537 | AL18: ARPUS
D19: 2.23.01.2.02.07 | E19: Koordinasi dan Penyusunan Laporan Keuangan Bulanan/Triwulanan/Semesteran SKPD | F19: Jumlah Laporan KeuanganBulanan/ Triwulanan/ Semesteran SKPD dan Laporan Koordinasi Penyusunan Laporan Keuangan Bulanan/Triwulanan/Semesteran SKPD II Laporan | G19: 14 | H19: Laporan | I19: 135000000 | J19: 2 | K19: Laporan | L19: 24846550 | M19: 2 | N19: =H19 -> Laporan | O19: 15625900 | P19: 1 | Q19: =N19 -> Laporan | R19: 3816000 | S19: 0 | T19: =Q19 -> Laporan | U19: 0 | V19: 1 | W19: =T19 -> Laporan | X19: 9618915 | Z19: =W19 -> Laporan | AB19: =P19+S19+V19+Y19 -> 2 | AC19: =Q19 -> Laporan | AD19: =R19+U19+X19+AA19 -> 13434915 | AE19: =AB19/M19*100 -> 100 | AF19: =AD19/O19*100 -> 85.978504 | AG19: =J19+AB19 -> 4 | AH19: =AC19 -> Laporan | AI19: =L19+AD19 -> 38281465 | AJ19: =AG19/G19*100 -> 28.571429 | AK19: =AI19/I19*100 -> 28.356641 | AL19: ARPUS
D20: 2.23.01.2.05 | E20: Administrasi Kepegawaian Perangkat Daerah | F20: Jumlah Pegawai yang Menerima Pelayanan Kepegawaian sesuai Prosedur || Orang | G20: 140 | H20: Orang | I20: =SUM(I21) -> 150000000 | J20: 28 | K20: Orang | L20: =SUM(L21) -> 18035348 | M20: 25 | N20: =H20 -> Orang | O20: =O21 -> 10000000 | P20: 6 | Q20: =N20 -> Orang | R20: =R21 -> 0 | S20: 6 | T20: =Q20 -> Orang | U20: =U21 -> 0 | V20: 7 | W20: =T20 -> Orang | X20: =X21 -> 0 | Z20: =W20 -> Orang | AA20: =AA21 -> 0 | AB20: =P20+S20+V20+Y20 -> 19 | AC20: =Q20 -> Orang | AD20: =R20+U20+X20+AA20 -> 0 | AE20: =AB20/M20*100 -> 76 | AF20: =AD20/O20*100 -> 0 | AG20: =J20+AB20 -> 47 | AH20: =AC20 -> Orang | AI20: =L20+AD20 -> 18035348 | AJ20: =AG20/G20*100 -> 33.571429 | AK20: =AI20/I20*100 -> 12.023565 | AL20: ARPUS
D21: 2.23.01.2.05.11 | E21: Bimbingan Teknis Implementasi Peraturan Perundang-Undangan | F21: Jumlah Orang yang Mengikuti Bimbingan Teknis Implementasi PeraturanPerundang Undangan II Orang | G21: 15 | H21: Orang | I21: 150000000 | J21: 3 | K21: Orang | L21: 18035348 | M21: 3 | N21: =H21 -> Orang | O21: 10000000 | P21: 1 | Q21: =N21 -> Orang | R21: 0 | S21: 1 | T21: =Q21 -> Orang | U21: 0 | W21: =T21 -> Orang | X21: 0 | Z21: =W21 -> Orang | AB21: =P21+S21+V21+Y21 -> 2 | AC21: =Q21 -> Orang | AD21: =R21+U21+X21+AA21 -> 0 | AE21: =AB21/M21*100 -> 66.666667 | AF21: =AD21/O21*100 -> 0 | AG21: =J21+AB21 -> 5 | AH21: =AC21 -> Orang | AI21: =L21+AD21 -> 18035348 | AJ21: =AG21/G21*100 -> 33.333333 | AK21: =AI21/I21*100 -> 12.023565 | AL21: ARPUS
D22: 2.23.01.2.06 | E22: Administrasi Umum Perangkat Daerah | F22: Jumlah Penyediaan Administrasi Umum Perangkat Daerah || Paket | G22: 60 | H22: Paket | I22: =SUM(I23:I29) -> 2620000000 | J22: 12 | K22: Paket | L22: =SUM(L23:L29) -> 642478920 | M22: 12 | N22: =H22 -> Paket | O22: =SUM(O23:O29) -> 336191500 | P22: 3 | Q22: =N22 -> Paket | R22: =SUM(R23:R29) -> 15095479 | S22: 3 | T22: =Q22 -> Paket | U22: =SUM(U23:U29) -> 51570351 | V22: 3 | W22: =T22 -> Paket | X22: =SUM(X23:X29) -> 61823697 | Z22: =W22 -> Paket | AA22: =SUM(AA23:AA29) -> 0 | AB22: =P22+S22+V22+Y22 -> 9 | AC22: =Q22 -> Paket | AD22: =R22+U22+X22+AA22 -> 128489527 | AE22: =AB22/M22*100 -> 75 | AF22: =AD22/O22*100 -> 38.219148 | AG22: =J22+AB22 -> 21 | AH22: =AC22 -> Paket | AI22: =L22+AD22 -> 770968447 | AJ22: =AG22/G22*100 -> 35 | AK22: =AI22/I22*100 -> 29.426277 | AL22: ARPUS
D23: 2.23.01.2.06.01 | E23: Penyediaan Komponen Instalasi Listrik/Penerangan Bangunan Kantor | F23: Jumlah paket komponen instalas i listrik / penerangan bangunan kantor yang disediakanII Paket | G23: 60 | H23: Paket | I23: 300000000 | J23: 12 | K23: Paket | L23: 44543950 | M23: 12 | N23: =H23 -> Paket | O23: 32500000 | P23: 3 | Q23: =N23 -> Paket | R23: 0 | S23: 3 | T23: =Q23 -> Paket | U23: 12742800 | V23: 3 | W23: =T23 -> Paket | X23: 7778880 | Z23: =W23 -> Paket | AB23: =P23+S23+V23+Y23 -> 9 | AC23: =Q23 -> Paket | AD23: =R23+U23+X23+AA23 -> 20521680 | AE23: =AB23/M23*100 -> 75 | AF23: =AD23/O23*100 -> 63.143631 | AG23: =J23+AB23 -> 21 | AH23: =AC23 -> Paket | AI23: =L23+AD23 -> 65065630 | AJ23: =AG23/G23*100 -> 35 | AK23: =AI23/I23*100 -> 21.688543 | AL23: ARPUS
D24: 2.23.01.2.06.02 | E24: Penyediaan Peralatan dan Perlengkapan Kantor | F24: Jumlah paket peralatan dan perlengkapan kantor yang disediakan II Paket | G24: 60 | H24: Paket | I24: 1210000000 | J24: 12 | K24: Paket | L24: 341671400 | M24: 12 | N24: =H24 -> Paket | O24: 176641300 | P24: 3 | Q24: =N24 -> Paket | R24: 700000 | S24: 3 | T24: =Q24 -> Paket | U24: 700000 | V24: 3 | W24: =T24 -> Paket | X24: 12750850 | Z24: =W24 -> Paket | AB24: =P24+S24+V24+Y24 -> 9 | AC24: =Q24 -> Paket | AD24: =R24+U24+X24+AA24 -> 14150850 | AE24: =AB24/M24*100 -> 75 | AF24: =AD24/O24*100 -> 8.0110654 | AG24: =J24+AB24 -> 21 | AH24: =AC24 -> Paket | AI24: =L24+AD24 -> 355822250 | AJ24: =AG24/G24*100 -> 35 | AK24: =AI24/I24*100 -> 29.406798 | AL24: ARPUS
D25: 2.23.01.2.06.03 | E25: Penyediaan Peralatan Rumah Tangga | F25: Jumlah Paket Peralatan Rumah Tangga yang Disediakan II Paket | G25: 60 | H25: Paket | I25: 250000000 | J25: 12 | K25: Paket | L25: 39445010 | M25: 12 | N25: =H25 -> Paket | O25: 28750000 | P25: 3 | Q25: =N25 -> Paket | R25: 0 | S25: 3 | T25: =Q25 -> Paket | U25: 12582350 | V25: 3 | W25: =T25 -> Paket | X25: 8010482 | Z25: =W25 -> Paket | AB25: =P25+S25+V25+Y25 -> 9 | AC25: =Q25 -> Paket | AD25: =R25+U25+X25+AA25 -> 20592832 | AE25: =AB25/M25*100 -> 75 | AF25: =AD25/O25*100 -> 71.627242 | AG25: =J25+AB25 -> 21 | AH25: =AC25 -> Paket | AI25: =L25+AD25 -> 60037842 | AJ25: =AG25/G25*100 -> 35 | AK25: =AI25/I25*100 -> 24.015137 | AL25: ARPUS
D26: 2.23.01.2.06.04 | E26: Penyediaan Bahan Logistik Kantor | F26: Jumlah Paket Bahan Logistik Kantor yang Disediakan II Paket | G26: 60 | H26: Paket | I26: 235000000 | J26: 12 | K26: Paket | L26: 58396700 | M26: 12 | N26: =H26 -> Paket | O26: 29863050 | P26: 3 | Q26: =N26 -> Paket | R26: 5719000 | S26: 3 | T26: =Q26 -> Paket | U26: 8904750 | V26: 3 | W26: =T26 -> Paket | X26: 11422500 | Z26: =W26 -> Paket | AB26: =P26+S26+V26+Y26 -> 9 | AC26: =Q26 -> Paket | AD26: =R26+U26+X26+AA26 -> 26046250 | AE26: =AB26/M26*100 -> 75 | AF26: =AD26/O26*100 -> 87.218988 | AG26: =J26+AB26 -> 21 | AH26: =AC26 -> Paket | AI26: =L26+AD26 -> 84442950 | AJ26: =AG26/G26*100 -> 35 | AK26: =AI26/I26*100 -> 35.93317 | AL26: ARPUS
D27: 2.23.01.2.06.05 | E27: Penyediaan Barang Cetakan dan Penggandaan | F27: Jumlah paket Barang Cetakan dan Penggandaan yang disediakan II paket | G27: 60 | H27: Paket | I27: 135000000 | J27: 12 | K27: Paket | L27: 48677300 | M27: 12 | N27: =H27 -> Paket | O27: 15651000 | P27: 3 | Q27: =N27 -> Paket | R27: 1900875 | S27: 3 | T27: =Q27 -> Paket | U27: 300000 | V27: 3 | W27: =T27 -> Paket | X27: 6028550 | Z27: =W27 -> Paket | AB27: =P27+S27+V27+Y27 -> 9 | AC27: =Q27 -> Paket | AD27: =R27+U27+X27+AA27 -> 8229425 | AE27: =AB27/M27*100 -> 75 | AF27: =AD27/O27*100 -> 52.580826 | AG27: =J27+AB27 -> 21 | AH27: =AC27 -> Paket | AI27: =L27+AD27 -> 56906725 | AJ27: =AG27/G27*100 -> 35 | AK27: =AI27/I27*100 -> 42.15313 | AL27: ARPUS
D28: 2.23.01.2.06.06 | E28: Penyediaan Bahan Bacaan dan Peraturan Perundang-undangan | F28: Jumlah Dokumen Bahan Bacaan dan Peraturan Perundang-Undangan yang Disediakan II Dokumen | G28: 60 | H28: Dokumen | I28: 85000000 | J28: 12 | K28: =H28 -> Dokumen | L28: 14972850 | M28: 12 | N28: =H28 -> Dokumen | O28: 12786150 | P28: 3 | Q28: =N28 -> Dokumen | R28: 1250000 | S28: 3 | T28: =Q28 -> Dokumen | U28: 1875000 | V28: 3 | W28: =T28 -> Dokumen | X28: 4659435 | Z28: =W28 -> Dokumen | AB28: =P28+S28+V28+Y28 -> 9 | AC28: =Q28 -> Dokumen | AD28: =R28+U28+X28+AA28 -> 7784435 | AE28: =AB28/M28*100 -> 75 | AF28: =AD28/O28*100 -> 60.881774 | AG28: =J28+AB28 -> 21 | AH28: =AC28 -> Dokumen | AI28: =L28+AD28 -> 22757285 | AJ28: =AG28/G28*100 -> 35 | AK28: =AI28/I28*100 -> 26.773276 | AL28: ARPUS
D29: 2.23.01.2.06.09 | E29: Penyelenggaraan Rapat Koordinasi dan Konsultasi SKPD | F29: Jumlah laporan penyelenggaraan Rapat Koordinasi danKonsultasi SKPD II Laporan | G29: 60 | H29: Laporan | I29: 405000000 | J29: 12 | K29: Laporan | L29: 94771710 | M29: 12 | N29: =H29 -> Laporan | O29: 40000000 | P29: 3 | Q29: =N29 -> Laporan | R29: 5525604 | S29: 3 | T29: =Q29 -> Laporan | U29: 14465451 | V29: 3 | W29: =T29 -> Laporan | X29: 11173000 | Z29: =W29 -> Laporan | AB29: =P29+S29+V29+Y29 -> 9 | AC29: =Q29 -> Laporan | AD29: =R29+U29+X29+AA29 -> 31164055 | AE29: =AB29/M29*100 -> 75 | AF29: =AD29/O29*100 -> 77.910138 | AG29: =J29+AB29 -> 21 | AH29: =AC29 -> Laporan | AI29: =L29+AD29 -> 125935765 | AJ29: =AG29/G29*100 -> 35 | AK29: =AI29/I29*100 -> 31.095251 | AL29: ARPUS
D30: 2.23.01.2.08 | E30: Penyediaan Jasa Penunjang Urusan Pemeerintah Daerah | F30: Jumlah laporan pelaksanaan penyediaan jasa penunjang urusan pemerintah daerah IIlaporan | G30: 60 | H30: Laporan | I30: =SUM(I31:I33) -> 4032384840 | J30: 12 | K30: Laporan | L30: =SUM(L31:L33) -> 814981053 | M30: 12 | N30: =H30 -> Laporan | O30: =SUM(O31:O33) -> 830436368 | P30: 3 | Q30: =N30 -> Laporan | R30: =SUM(R31:R33) -> 117574371 | S30: 3 | T30: =Q30 -> Laporan | U30: =SUM(U31:U33) -> 153646478 | V30: 3 | W30: =T30 -> Laporan | X30: =SUM(X31:X33) -> 145822830 | Z30: =W30 -> Laporan | AA30: =SUM(AA31:AA33) -> 0 | AB30: =P30+S30+V30+Y30 -> 9 | AC30: =Q30 -> Laporan | AD30: =R30+U30+X30+AA30 -> 417043679 | AE30: =AB30/M30*100 -> 75 | AF30: =AD30/O30*100 -> 50.219824 | AG30: =J30+AB30 -> 21 | AH30: =AC30 -> Laporan | AI30: =L30+AD30 -> 1232024732 | AJ30: =AG30/G30*100 -> 35 | AK30: =AI30/I30*100 -> 30.553253 | AL30: ARPUS
D31: 2.23.01.2.08.02 | E31: Penyediaan Jasa Komunikasi, Sumber Daya Air dan Listrik | F31: Jumlah Laporan Penyediaan Jasa Komunikasi, Sumber Daya Air dan Listrik yang Disediakan II Laporan | G31: 60 | H31: Laporan | I31: 1000000000 | J31: 12 | K31: Laporan | L31: 147133543 | M31: 12 | N31: =H31 -> Laporan | O31: 198478900 | P31: 3 | Q31: =N31 -> Laporan | R31: 42573801 | S31: 3 | T31: =Q31 -> Laporan | U31: 47543328 | V31: 3 | W31: =T31 -> Laporan | X31: 36881000 | Z31: =W31 -> Laporan | AB31: =P31+S31+V31+Y31 -> 9 | AC31: =Q31 -> Laporan | AD31: =R31+U31+X31+AA31 -> 126998129 | AE31: =AB31/M31*100 -> 75 | AF31: =AD31/O31*100 -> 63.985708 | AG31: =J31+AB31 -> 21 | AH31: =AC31 -> Laporan | AI31: =L31+AD31 -> 274131672 | AJ31: =AG31/G31*100 -> 35 | AK31: =AI31/I31*100 -> 27.413167 | AL31: ARPUS
D32: 2.23.01.2.08.03 | E32: Penyediaan Jasa Peralatan dan Perlengkapan Kantor | F32: Jumlah Laporan Penyediaan Jasa Peralatan dan Perlengkapan Kantor yang Disediakan IILaporan | G32: 36 | H32: Laporan | I32: 250000000 | J32: 12 | K32: Laporan | L32: 49847400 | M32: 12 | N32: =H32 -> Laporan | O32: 31260500 | P32: 3 | Q32: =N32 -> Laporan | R32: 12454200 | S32: 3 | T32: =Q32 -> Laporan | U32: 0 | V32: 3 | W32: =T32 -> Laporan | X32: 16335870 | Z32: =W32 -> Laporan | AB32: =P32+S32+V32+Y32 -> 9 | AC32: =Q32 -> Laporan | AD32: =R32+U32+X32+AA32 -> 28790070 | AE32: =AB32/M32*100 -> 75 | AF32: =AD32/O32*100 -> 92.097279 | AG32: =J32+AB32 -> 21 | AH32: =AC32 -> Laporan | AI32: =L32+AD32 -> 78637470 | AJ32: =AG32/G32*100 -> 58.333333 | AK32: =AI32/I32*100 -> 31.454988 | AL32: ARPUS
D33: 2.23.01.2.08.04 | E33: Penyediaan Jasa Pelayanan Umum Kantor | F33: Jumlah Laporan Penyediaan Jasa Pelayanan Umum Kantor yang Disediakan IILaporan | G33: 36 | H33: Laporan | I33: 2782384840 | J33: 12 | K33: Laporan | L33: 618000110 | M33: 12 | N33: =H33 -> Laporan | O33: 600696968 | P33: 3 | Q33: =N33 -> Laporan | R33: 62546370 | S33: 3 | T33: =Q33 -> Laporan | U33: 106103150 | V33: 3 | W33: =T33 -> Laporan | X33: 92605960 | Z33: =W33 -> Laporan | AB33: =P33+S33+V33+Y33 -> 9 | AC33: =Q33 -> Laporan | AD33: =R33+U33+X33+AA33 -> 261255480 | AE33: =AB33/M33*100 -> 75 | AF33: =AD33/O33*100 -> 43.492059 | AG33: =J33+AB33 -> 21 | AH33: =AC33 -> Laporan | AI33: =L33+AD33 -> 879255590 | AJ33: =AG33/G33*100 -> 58.333333 | AK33: =AI33/I33*100 -> 31.60079 | AL33: ARPUS
D34: 2.23.01.2.09 | E34: Pemeliharaan Barang Milik Daerah Penunjang Urusan Pemerintahan Daerah | F34: Jumlah barang milik daerah yang di pelihara II Unit | G34: 94 | H34: Unit | I34: =SUM(I35:I37) -> 1220000000 | J34: 18 | K34: Unit | L34: =SUM(L35:L37) -> 210965470 | M34: 20 | N34: =H34 -> Unit | O34: =SUM(O35:O37) -> 172487200 | P34: 5 | Q34: =N34 -> Unit | R34: =SUM(R35:R37) -> 40508990 | S34: 5 | T34: =Q34 -> Unit | U34: =SUM(U35:U37) -> 34174900 | V34: 5 | W34: =T34 -> Unit | X34: =SUM(X35:X37) -> 70459817 | Z34: =W34 -> Unit | AA34: =SUM(AA35:AA37) -> 0 | AB34: =P34+S34+V34+Y34 -> 15 | AC34: =Z34 -> Unit | AD34: =R34+U34+X34+AA34 -> 145143707 | AE34: =AB34/M34*100 -> 75 | AF34: =AD34/O34*100 -> 84.147523 | AG34: =J34+AB34 -> 33 | AH34: =AC34 -> Unit | AI34: =L34+AD34 -> 356109177 | AJ34: =AG34/G34*100 -> 35.106383 | AK34: =AI34/I34*100 -> 29.189277 | AL34: ARPUS
D35: 2.23.01.2.09.01 | E35: Penyediaan Jasa Pemeliharaan, Biaya Pemeliharaan dan Pajak Kendaraan Perorangan Dinas atau Kendaraan Dinas Jabatan | F35: Jumlah Kendaraan Perorangan Dinas atau Kendaraan Dinas Jabatan yang Dipelihara dan dibayarkan Pajaknya II Unit | G35: 5 | H35: Unit | I35: 245000000 | J35: 2 | K35: Unit | L35: 48449820 | M35: 1 | N35: =H35 -> Unit | O35: 39000000 | P35: 0 | Q35: =N35 -> Unit | R35: 4669990 | S35: 1 | T35: =Q35 -> Unit | U35: 11674900 | V35: 0 | W35: =T35 -> Unit | X35: 15875087 | Y35: 0 | Z35: =W35 -> Unit | AB35: =P35+S35+V35+Y35 -> 1 | AC35: =Q35 -> Unit | AD35: =R35+U35+X35+AA35 -> 32219977 | AE35: =AB35/M35*100 -> 100 | AF35: =AD35/O35*100 -> 82.615326 | AG35: =J35+AB35 -> 3 | AH35: =AC35 -> Unit | AI35: =L35+AD35 -> 80669797 | AJ35: =AG35/G35*100 -> 60 | AK35: =AI35/I35*100 -> 32.926448 | AL35: ARPUS
D36: 2.23.01.2.09.02 | E36: Penyediaan Jasa Pemeliharaan, Biaya Pemeliharaan, Pajak, dan Perizinan Kendaraan Dinas Operasional atau Lapangan | F36: Jumlah Kendaraan Dinas Operasional atau Lapangan yang Dipelihara dan dibayarkan Pajak dan Perizinannya II Unit | G36: 71 | H36: Unit | I36: 475000000 | J36: 15 | K36: Unit | L36: 93473400 | M36: 15 | N36: =H36 -> Unit | O36: 76987200 | P36: 3 | Q36: =N36 -> Unit | R36: 13277000 | S36: 4 | T36: =Q36 -> Unit | U36: 22500000 | V36: 4 | W36: =T36 -> Unit | X36: 26079500 | Z36: =W36 -> Unit | AB36: =P36+S36+V36+Y36 -> 11 | AC36: =Q36 -> Unit | AD36: =R36+U36+X36+AA36 -> 61856500 | AE36: =AB36/M36*100 -> 73.333333 | AF36: =AD36/O36*100 -> 80.346473 | AG36: =J36+AB36 -> 26 | AH36: =AC36 -> Unit | AI36: =L36+AD36 -> 155329900 | AJ36: =AG36/G36*100 -> 36.619718 | AK36: =AI36/I36*100 -> 32.701032 | AL36: ARPUS
D37: 2.23.01.2.09.09 | E37: Pemeliharaan/Rehabilitasi Gedung Kantor dan Bangunan Lainnya | F37: Jumlah Gedung Kantor dan Bangunan Lainnya yang Dipelihara /Direhabilitasi II Unit | G37: 15 | H37: Unit | I37: 500000000 | J37: 3 | K37: Unit | L37: 69042250 | M37: 3 | N37: =H37 -> Unit | O37: 56500000 | P37: 1 | Q37: =N37 -> Unit | R37: 22562000 | S37: 0 | T37: =Q37 -> Unit | U37: 0 | V37: 1 | W37: =T37 -> Unit | X37: 28505230 | Z37: =W37 -> Unit | AB37: =P37+S37+V37+Y37 -> 2 | AC37: =Q37 -> Unit | AD37: =R37+U37+X37+AA37 -> 51067230 | AE37: =AB37/M37*100 -> 66.666667 | AF37: =AD37/O37*100 -> 90.384478 | AG37: =J37+AB37 -> 5 | AH37: =AC37 -> Unit | AI37: =L37+AD37 -> 120109480 | AJ37: =AG37/G37*100 -> 33.333333 | AK37: =AI37/I37*100 -> 24.021896 | AL37: ARPUS
B38: Meningkatkan Pendidikan Masyarkat Melalui Pembangunan Literasi Masyarakat | C38: Meningkatnya Budaya Gemar Membaca Masyarakat | D38: 2.23.02 | E38: PROGRAM PEMBINAAN PERPUSTAKAAN | F38: Persentase perpustakaan yang di bina II % | G38: 72.5 | H38: % | I38: =I40+I48 -> 4100835350 | J38: 0 | K38: % | L38: =L40+L48 -> 754330648 | M38: 52.5 | N38: =H38 -> % | O38: =O40+O48 -> 1041626350 | P38: 13.12 | Q38: =N38 -> % | R38: =R40+R48 -> 30833222 | S38: 13.12 | T38: =Q38 -> % | U38: =U40+U48 -> 113748469 | V38: 13.12 | W38: =T38 -> % | X38: =X40+X48 -> 764515530 | Z38: =W38 -> % | AA38: =AA40+AA48 -> 0 | AB38: =P38+S38+V38+Y38 -> 39.36 | AC38: =Q38 -> % | AD38: =R38+U38+X38+AA38 -> 909097221 | AE38: =AB38/M38*100 -> 74.971429 | AF38: =AD38/O38*100 -> 87.276711 | AG38: =J38+AB38 -> 39.36 | AH38: =AC38 -> % | AI38: =L38+AD38 -> 1663427869 | AJ38: =AG38/G38*100 -> 54.289655 | AK38: =AI38/I38*100 -> 40.563147 | AL38: ARPUS | AM38: 1270760353 | AN38: =AM38-AD38 -> 361663132 | AO38: Anggaran Program Pembinaan Perpustakaan pada Renja lebih besar dari Renstra karena pada saat Perubahan Penjabaran DPA mendapat tambahan anggaran bersumber dari DAK, dan hal tersebut belum masuk dalam Renstra
F39: Tingkat Kegemaran Membaca II Nilai | G39: 71.8 | H39: Nilai | I39: =I40+I48 -> 4100835350 | J39: 78.53 | K39: Indeks | L39: =L40+L48 -> 754330648 | M39: 67.8 | N39: =H39 -> Nilai | O39: =O40+O48 -> 1041626350 | P39: 16.95 | Q39: =N39 -> Nilai | R39: =R40+R48 -> 30833222 | S39: 16.95 | T39: =Q39 -> Nilai | U39: =U40+U48 -> 113748469 | V39: 16.95 | W39: =T39 -> Nilai | X39: =X40+X48 -> 764515530 | Z39: =W39 -> Nilai | AA39: =AA40+AA48 -> 0 | AB39: =P39+S39+V39+Y39 -> 50.85 | AC39: =Q39 -> Nilai | AD39: =R39+U39+X39+AA39 -> 909097221 | AE39: =AB39/M39*100 -> 75 | AF39: =AD39/O39*100 -> 87.276711 | AG39: =J39+AB39 -> 129.38 | AH39: =AC39 -> Nilai | AI39: =L39+AD39 -> 1663427869 | AJ39: =AG39/G39*100 -> 180.19499 | AK39: =AI39/I39*100 -> 40.563147
D40: 2.23.02.2.01 | E40: Pengelolaan Perpustakaan Tingkat Daerah Kabupaten/Kota | F40: Jumlah perpustakaan yang dibina II perpustakaan | G40: 1738 | H40: Perpustakaan | I40: =SUM(I41:I47) -> 2894585350 | J40: 170 | K40: =H40 -> Perpustakaan | L40: =SUM(L41:L47) -> 484845529 | M40: 510 | N40: =H40 -> Perpustakaan | O40: =SUM(O41:O47) -> 551543750 | P40: 130 | Q40: =N40 -> Perpustakaan | R40: =SUM(R41:R47) -> 25670722 | S40: 130 | T40: =Q40 -> Perpustakaan | U40: =SUM(U41:U47) -> 22472514 | V40: 130 | W40: =T40 -> Perpustakaan | X40: =SUM(X41:X47) -> 418226241 | Z40: =W40 -> Perpustakaan | AA40: =SUM(AA41:AA47) -> 0 | AB40: =P40+S40+V40+Y40 -> 390 | AC40: =Q40 -> Perpustakaan | AD40: =R40+U40+X40+AA40 -> 466369477 | AE40: =AB40/M40*100 -> 76.470588 | AF40: =AD40/O40*100 -> 84.557114 | AG40: =J40+AB40 -> 560 | AH40: =AC40 -> Perpustakaan | AI40: =L40+AD40 -> 951215006 | AJ40: =AG40/G40*100 -> 32.220944 | AK40: =AI40/I40*100 -> 32.861875 | AL40: ARPUS
D41: 2.23.02.2.01.01 | E41: Pembinaan Perpustakaan pada Satuan Pendidikan Dasar di Seluruh Wilayah Kabupaten/Kota Sesuai dengan Standar Nasional Perpustakaan | F41: Jumlah Perpustakaan pada Satuan Pendidikan Dasar dan yang Dilakukan Pembinaan dalam Mewujudkan Standar Nasional Perpustakaan II Perpustakaan | G41: 500 | H41: layanan | I41: 274729500 | J41: 100 | K41: layanan | L41: 69075097 | M41: 100 | N41: perpustakaan | O41: 34083950 | P41: 25 | Q41: =N41 -> perpustakaan | R41: 1054300 | S41: 25 | T41: =Q41 -> perpustakaan | U41: 4806350 | V41: 25 | W41: =T41 -> perpustakaan | X41: 20450000 | Z41: =W41 -> perpustakaan | AB41: =P41+S41+V41+Y41 -> 75 | AC41: =Q41 -> perpustakaan | AD41: =R41+U41+X41+AA41 -> 26310650 | AE41: =AB41/M41*100 -> 75 | AF41: =AD41/O41*100 -> 77.193664 | AG41: =J41+AB41 -> 175 | AH41: =AC41 -> perpustakaan | AI41: =L41+AD41 -> 95385747 | AJ41: =AG41/G41*100 -> 35 | AK41: =AI41/I41*100 -> 34.719878 | AL41: ARPUS
D42: 2.23.02.2.01.02 | E42: Pengembangan Perpustakaan di Tingkat Daerah Kabupaten/Kota | F42: Jumlah Perpustakaan yang Dikembangkan di Tingkat Daerah Kabupaten/Kota Sesuai Standar Nasional Perpustakaan di Wilayah Kabupaten/Kota Sesuai Kewenangannya II Perpustakaan | G42: 500 | H42: Perpustakaan | I42: 427357000 | J42: 50 | K42: Perpustakaan | L42: 88456700 | M42: 50 | N42: =H42 -> Perpustakaan | O42: 116307550 | P42: 10 | Q42: =N42 -> Perpustakaan | R42: 7245199 | S42: 10 | T42: =Q42 -> Perpustakaan | U42: 6460000 | V42: 15 | W42: =T42 -> Perpustakaan | X42: 83067565 | Z42: =W42 -> Perpustakaan | AB42: =P42+S42+V42+Y42 -> 35 | AC42: =Q42 -> Perpustakaan | AD42: =R42+U42+X42+AA42 -> 96772764 | AE42: =AB42/M42*100 -> 70 | AF42: =AD42/O42*100 -> 83.204198 | AG42: =J42+AB42 -> 85 | AH42: =AC42 -> Perpustakaan | AI42: =L42+AD42 -> 185229464 | AJ42: =AG42/G42*100 -> 17 | AK42: =AI42/I42*100 -> 43.343028 | AL42: ARPUS
...

Sheet Sheet2
D5: 3 | E5: 4 | F5: 5 | G5: 6 | H5: 7 | I5: 8 | J5: 9 | K5: 10
D6: 9 | E6: 3 | J6: =E6+G6+I6 -> 3 | K6: =J6/D6*100 -> 33.333333
D7: 86000 | E7: 84696 | J7: =E7+G7+I7 -> 84696 | K7: =J7/D7*100 -> 98.483721
D8: 41 | E8: 34 | J8: =E8+G8+I8 -> 34 | K8: =J8/D8*100 -> 82.926829
D9: 180 | E9: 60 | J9: =E9+G9+I9 -> 60 | K9: =J9/D9*100 -> 33.333333
D10: 2 | E10: - | J10: =E10+G10+I10 -> #VALUE! | K10: =J10/D10*100 -> #VALUE!
D11: 225 | E11: 75 | J11: =E11+G11+I11 -> 75 | K11: =J11/D11*100 -> 33.333333
D12: 20 | E12: 10 | J12: =E12+G12+I12 -> 10 | K12: =J12/D12*100 -> 50
D13: 90 | E13: 54 | J13: =E13+G13+I13 -> 54 | K13: =J13/D13*100 -> 60
D14: 11500 | E14: 10500 | J14: =E14+G14+I14 -> 10500 | K14: =J14/D14*100 -> 91.304348
D15: 3 | E15: 1 | J15: =E15+G15+I15 -> 1 | K15: =J15/D15*100 -> 33.333333
D16: 30 | E16: 6 | J16: =E16+G16+I16 -> 6 | K16: =J16/D16*100 -> 20
D17: 1500 | E17: 500 | J17: =E17+G17+I17 -> 500 | K17: =J17/D17*100 -> 33.333333
D18: 38 | E18: 38 | J18: =E18+G18+I18 -> 38 | K18: =J18/D18*100 -> 100
D19: 54 | E19: 18 | J19: =E19+G19+I19 -> 18 | K19: =J19/D19*100 -> 33.333333
J20: =E20+G20+I20 -> 0 | K20: =J20/D20*100 -> #DIV/0!
J21: =E21+G21+I21 -> 0 | K21: =J21/D21*100 -> #DIV/0!
J22: =E22+G22+I22 -> 0 | K22: =J22/D22*100 -> #DIV/0!
J23: =E23+G23+I23 -> 0 | K23: =J23/D23*100 -> #DIV/0!
J24: =E24+G24+I24 -> 0 | K24: =J24/D24*100 -> #DIV/0!
J25: =E25+G25+I25 -> 0 | K25: =J25/D25*100 -> #DIV/0!
J26: =E26+G26+I26 -> 0 | K26: =J26/D26*100 -> #DIV/0!
J27: =E27+G27+I27 -> 0 | K27: =J27/D27*100 -> #DIV/0!
J28: =E28+G28+I28 -> 0 | K28: =J28/D28*100 -> #DIV/0!
J29: =E29+G29+I29 -> 0 | K29: =J29/D29*100 -> #DIV/0!
J30: =E30+G30+I30 -> 0 | K30: =J30/D30*100 -> #DIV/0!

Sheet HIT
B8: =ARPUS!AA79 -> 0
C9: =OLE_LINK1-B8 -> 0
D11: induk | E11: JAN | G11: FEB | I11: realisasi renja TW I | O11: induk | P11: APR | Y11: MEI | AB11: realisasi renja TW II | AF11: induk | AG11: penjabaran | AP11: s/d september | AS11: realisasi renja TW III | AT11: realisasi renja s/d desember | AU11: realisasi renja TW 4
B12: DINAS KEARSIPAN DAN PERPUSTAKAAN | D12: =D13+D44+D60+D68+D81 -> 6469102116 | E12: =E13+E44+E60+E68+E81 -> 175003187 | F12: =E12/D12*100 -> 2.705216 | G12: =G13+G44+G60+G68+G81 -> 519744688 | H12: =H13+H17+H21+H24+H33+H38 -> 38.184391 | M12: DINAS KEARSIPAN DAN PERPUSTAKAAN | O12: 6469102116 | AD12: DINAS KEARSIPAN DAN PERPUSTAKAAN | AF12: 6469102116
B13: PROGRAM PENUNJANG URUSAN PEMERINTAHAN DAERAH KABUPATEN/KOTA | D13: =D14+D18+D22+D25+D34+D39 -> 5282183616 | E13: =E14+E18+E22+E25+E34+E39 -> 175003187 | F13: =E13/D13*100 -> 3.3130841 | G13: =G14+G18+G22+G25+G34+G39 -> 485920411 | H13: =H14+H18+H22+H25+H34+H39 -> 38.184391 | M13: PROGRAM PENUNJANG URUSAN PEMERINTAHAN DAERAH KABUPATEN/KOTA | O13: 5282183616 | AD13: PROGRAM PENUNJANG URUSAN PEMERINTAHAN DAERAH KABUPATEN/KOTA | AF13: 5282183616
B14: Perencanaan, Penganggaran dan Evaluasi Kinerja Perangkat Daerah | D14: =SUM(D15:D16) -> 31250000 | E14: =SUM(E15:E16) -> 0 | G14: =SUM(G15:G16) -> 4176000 | H14: =G14/D14*100 -> 13.3632 | I14: =SUM(I15:I16) -> 8136000 | J14: =I14/D14*100 -> 26.0352 | M14: Perencanaan, Penganggaran dan Evaluasi Kinerja Perangkat Daerah | O14: 20000000 | AD14: Perencanaan, Penganggaran dan Evaluasi Kinerja Perangkat Daerah | AE14: LAIN-LAIN PENDAPATAN DAERAH YANG SAH | AF14: 20000000
B15: Penyusunan Dokumen Perencanaan Perangkat Daerah | C15: Dana Transfer Umum-Dana Alokasi Umum | D15: 15625000 | I15: 3960000 | J15: =I15/D15*100 -> 25.344 | M15: Penyusunan Dokumen Perencanaan Perangkat Daerah | N15: Dana Transfer Umum-Dana Alokasi Umum | O15: 20000000 | AD15: Penyusunan Dokumen Perencanaan Perangkat Daerah | AE15: LAIN-LAIN PENDAPATAN DAERAH YANG SAH | AF15: 20000000 | AS15: =AP15-Y15 -> 0 | AT15: 18035348 | AU15: =AT15-AP15 -> 18035348
B16: Evaluasi Kinerja Perangkat Daeah | D16: 15625000 | G16: 4176000 | H16: =G16/D16*100 -> 26.7264 | I16: 4176000 | J16: =I16/D16*100 -> 26.7264 | M16: Evaluasi Kinerja Perangkat Daeah | AD16: Evaluasi Kinerja Perangkat Daeah
B18: Administrasi Keuangan Perangkat Daerah | D18: =SUM(D19:D20) -> 3901818548 | E18: =SUM(E19:E20) -> 161509862 | G18: =SUM(G19:G20) -> 406370528 | H18: =G18/D18*100 -> 10.414901 | I18: =SUM(I19:I20) -> 809990889 | J18: =I18/D18*100 -> 20.759317 | M18: Administrasi Keuangan Perangkat Daerah | O18: =SUM(O19:O20) -> 3901818548 | AD18: Administrasi Keuangan Perangkat Daerah | AE18: LAIN-LAIN PENDAPATAN DAERAH YANG SAH | AF18: =SUM(AF19:AF20) -> 3901818548
B19: Penyediaan Gaji dan Tunjangan ASN | C19: LAIN-LAIN PENDAPATAN DAERAH YANG SAH | D19: 3886192648 | E19: 161509862 | F19: =E19/D19*100 -> 4.1559922 | G19: 406370528 | H19: =G19/D19*100 -> 10.456778 | I19: 806174889 | J19: =I19/D19*100 -> 20.744594 | M19: Penyediaan Gaji dan Tunjangan ASN | N19: LAIN-LAIN PENDAPATAN DAERAH YANG SAH | O19: 3886192648 | AD19: Penyediaan Gaji dan Tunjangan ASN | AE19: LAIN-LAIN PENDAPATAN DAERAH YANG SAH | AF19: 3886192648 | AS19: =AP19-Y19 -> 0 | AT19: 24846550 | AU19: =AT19-AP19 -> 24846550
B20: Koordinasi dan Penyusunan Laporan Keuangan Bulanan/ Triwulanan/ Semesteran SKPD | C20: Dana Transfer Umum-Dana Alokasi Umum | D20: 15625900 | I20: 3816000 | J20: =I20/D20*100 -> 24.420993 | M20: Koordinasi dan Penyusunan Laporan Keuangan Bulanan/ Triwulanan/ Semesteran SKPD | N20: Dana Transfer Umum-Dana Alokasi Umum | O20: 15625900 | AD20: Koordinasi dan Penyusunan Laporan Keuangan Bulanan/ Triwulanan/ Semesteran SKPD | AE20: LAIN-LAIN PENDAPATAN DAERAH YANG SAH | AF20: 15625900 | AS20: =AP20-Y20 -> 0 | AT20: 3322545797 | AU20: =AT20-AP20 -> 3322545797
B22: Administrasi Kepegawaian Perangkat Daerah | D22: =D23 -> 10000000 | E22: =E23 -> 0 | G22: =G23 -> 0 | I22: =I23 -> 0 | M22: Administrasi Umum Perangkat Daerah | O22: =O23 -> 10000000 | AD22: Administrasi Umum Perangkat Daerah | AE22: LAIN-LAIN PENDAPATAN DAERAH YANG SAH | AF22: =AF23 -> 10000000 | AT22: =SUM(AT23:AT29) -> 642478920 | AU22: =SUM(AU23:AU29) -> 642478920
B23: Bimbingan Teknis Implementasi Peraturan Perundang-undangan | C23: Pendapatan Hibah dari Pemerintah Pusat | D23: 10000000 | M23: Penyediaan Bahan Bacaan dan Peraturan Perundang-undangan | N23: Pendapatan Hibah dari Pemerintah Pusat | O23: 10000000 | AD23: Penyediaan Bahan Bacaan dan Peraturan Perundang-undangan | AE23: LAIN-LAIN PENDAPATAN DAERAH YANG SAH | AF23: 10000000 | AS23: =AP23-Y23 -> 0 | AT23: 14972850 | AU23: =AT23-AP23 -> 14972850
AS24: =AP24-Y24 -> 0 | AT24: 58396700 | AU24: =AT24-AP24 -> 58396700
B25: Administrasi Umum Perangkat Daerah | C25: Pendapatan Hibah dari Pemerintah Pusat | D25: =SUM(D26:D32) -> 336191500 | E25: =SUM(E26:E32) -> 0 | G25: =SUM(G26:G32) -> 11425479 | H25: =G25/D25*100 -> 3.3985032 | I25: =SUM(I26:I32) -> 15095479 | J25: =I25/D25*100 -> 4.490143 | M25: Administrasi Umum Perangkat Daerah | N25: Pendapatan Hibah dari Pemerintah Pusat | O25: =SUM(O26:O32) -> 336191500 | AD25: Administrasi Umum Perangkat Daerah | AE25: LAIN-LAIN PENDAPATAN DAERAH YANG SAH | AF25: =SUM(AF26:AF32) -> 336191500 | AS25: =AP25-Y25 -> 0 | AT25: 48677300 | AU25: =AT25-AP25 -> 48677300
B26: Penyediaan Komponen Instalasi Listrik/Penerangan Bangunan Kantor | C26: Pendapatan Hibah dari Pemerintah Pusat | D26: 32500000 | I26: 0 | M26: Penyediaan Komponen Instalasi Listrik/Penerangan Bangunan Kantor | N26: Pendapatan Hibah dari Pemerintah Pusat | O26: 32500000 | AD26: Penyediaan Komponen Instalasi Listrik/Penerangan Bangunan Kantor | AE26: LAIN-LAIN PENDAPATAN DAERAH YANG SAH | AF26: 32500000 | AS26: =AP26-Y26 -> 0 | AT26: 44543950 | AU26: =AT26-AP26 -> 44543950
B27: Penyediaan Peralatan dan Perlengkapan Kantor | C27: Pendapatan Hibah dari Pemerintah Pusat | D27: 176641300 | G27: 700000 | H27: =G27/D27*100 -> 0.39628332 | I27: 700000 | J27: =I27/D27*100 -> 0.39628332 | M27: Penyediaan Peralatan dan Perlengkapan Kantor | N27: Pendapatan Hibah dari Pemerintah Pusat | O27: 176641300 | AD27: Penyediaan Peralatan dan Perlengkapan Kantor | AE27: LAIN-LAIN PENDAPATAN DAERAH YANG SAH | AF27: 176641300 | AS27: =AP27-Y27 -> 0 | AT27: 341671400 | AU27: =AT27-AP27 -> 341671400
B28: Penyediaan Peralatan Rumah Tangga | C28: Pendapatan Hibah dari Pemerintah Pusat | D28: 28750000 | M28: Penyediaan Peralatan Rumah Tangga | N28: Pendapatan Hibah dari Pemerintah Pusat | O28: 28750000 | AD28: Penyediaan Peralatan Rumah Tangga | AE28: LAIN-LAIN PENDAPATAN DAERAH YANG SAH | AF28: 28750000 | AS28: =AP28-Y28 -> 0 | AT28: 39445010 | AU28: =AT28-AP28 -> 39445010
B29: Penyediaan Bahan Logistik Kantor | C29: Pendapatan Hibah dari Pemerintah Pusat | D29: 29863050 | G29: 2674000 | H29: =G29/D29*100 -> 8.9542093 | I29: 5719000 | J29: =-I29/D29*100 -> -19.150757 | M29: Penyediaan Bahan Logistik Kantor | N29: Pendapatan Hibah dari Pemerintah Pusat | O29: 29863050 | AD29: Penyediaan Bahan Logistik Kantor | AE29: LAIN-LAIN PENDAPATAN DAERAH YANG SAH | AF29: 29863050 | AS29: =AP29-Y29 -> 0 | AT29: 94771710 | AU29: =AT29-AP29 -> 94771710
B30: Penyediaan Barang Cetakan dan Penggandaan | D30: 15651000 | G30: 1900875 | H30: =G30/D30*100 -> 12.14539 | I30: 1900875 | J30: =I30/D30*100 -> 12.14539 | M30: Penyediaan Barang Cetakan dan Penggandaan | O30: 15651000 | AD30: Penyediaan Barang Cetakan dan Penggandaan | AE30: LAIN-LAIN PENDAPATAN DAERAH YANG SAH | AF30: 15651000
B31: Penyedian Bahan Bacaan dan Peraturan Perundang-undangan | D31: 12786150 | G31: 625000 | H31: =G31/D31*100 -> 4.8881016 | I31: 1250000 | J31: =I31/D31*100 -> 9.7762032 | M31: Penyedian Bahan Bacaan dan Peraturan Perundang-undangan | O31: 12786150 | AD31: Penyedian Bahan Bacaan dan Peraturan Perundang-undangan | AE31: LAIN-LAIN PENDAPATAN DAERAH YANG SAH | AF31: 12786150
B32: Penyelenggaraan Rapat Koordinasi dan Konsultasi SKPD | C32: Pendapatan Hibah dari Pemerintah Pusat | D32: 40000000 | G32: 5525604 | H32: =G32/D32*100 -> 13.81401 | I32: 5525604 | J32: =I32/D32*100 -> 13.81401 | M32: Penyelenggaraan Rapat Koordinasi dan Konsultasi SKPD | N32: Pendapatan Hibah dari Pemerintah Pusat | O32: 40000000 | AD32: Penyelenggaraan Rapat Koordinasi dan Konsultasi SKPD | AE32: LAIN-LAIN PENDAPATAN DAERAH YANG SAH | AF32: 40000000 | AS32: =AP32-Y32 -> 0 | AT32: 69042250 | AU32: =AT32-AP32 -> 69042250
B34: Penyediaan Jasa Penunjang Urusan Pemerintahan Daerah | C34: Pendapatan Hibah dari Pemerintah Pusat | D34: =SUM(D35:D37) -> 830436368 | E34: =SUM(E35:E41) -> 13493325 | G34: =SUM(G35:G37) -> 56748404 | H34: =G34/D34*100 -> 6.8335644 | I34: =SUM(I35:I37) -> 117574371 | J34: =I34/D34*100 -> 14.158143 | M34: Penyediaan Jasa Penunjang Urusan Pemerintahan Daerah | N34: Pendapatan Hibah dari Pemerintah Pusat | O34: =SUM(O35:O37) -> 830436368 | AD34: Penyediaan Jasa Penunjang Urusan Pemerintahan Daerah | AE34: LAIN-LAIN PENDAPATAN DAERAH YANG SAH | AF34: =SUM(AF35:AF37) -> 830436368 | AS34: =AP34-Y34 -> 0 | AT34: 48449820 | AU34: =AT34-AP34 -> 48449820
B35: Penyediaan Jasa Komunikasi, Sumber Daya Air dan Listrik | C35: Pendapatan Hibah dari Pemerintah Pusat | D35: 198478900 | E35: 13093325 | F35: =E35/D35*100 -> 6.5968347 | G35: 28595004 | H35: =G35/D35*100 -> 14.407075 | I35: 42573801 | J35: =I35/D35*100 -> 21.450039 | M35: Penyediaan Jasa Komunikasi, Sumber Daya Air dan Listrik | N35: Pendapatan Hibah dari Pemerintah Pusat | O35: 198478900 | AD35: Penyediaan Jasa Komunikasi, Sumber Daya Air dan Listrik | AE35: LAIN-LAIN PENDAPATAN DAERAH YANG SAH | AF35: 198478900 | AS35: =AP35-Y35 -> 0 | AT35: 93473400 | AU35: =AT35-AP35 -> 93473400
B36: Penyediaan Jasa Peralatan dan Perlengkapan Kantor | D36: 31260500 | E36: 400000 | F36: =E36/D36*100 -> 1.2795701 | I36: 12454200 | J36: =I36/D36*100 -> 39.840054 | M36: Penyediaan Jasa Peralatan dan Perlengkapan Kantor | O36: 31260500 | AD36: Penyediaan Jasa Peralatan dan Perlengkapan Kantor | AE36: LAIN-LAIN PENDAPATAN DAERAH YANG SAH | AF36: 31260500
B37: Penyediaan Jasa Pelayanan Umum Kantor | D37: 600696968 | G37: 28153400 | H37: =G37/D37*100 -> 4.6867891 | I37: 62546370 | J37: =I37/D37*100 -> 10.4123 | M37: Penyediaan Jasa Pelayanan Umum Kantor | O37: 600696968 | AD37: Penyediaan Jasa Pelayanan Umum Kantor | AE37: LAIN-LAIN PENDAPATAN DAERAH YANG SAH | AF37: 600696968
B39: Pemeliharaan Barang Milik Daerah Penunjang Urusan Pemerintahan Daerah | C39: Pendapatan Hibah dari Pemerintah Pusat | D39: =SUM(D40:D42) -> 172487200 | E39: =SUM(E40:E46) -> 0 | G39: =SUM(G40:G42) -> 7200000 | H39: =G39/D39*100 -> 4.1742228 | I39: =SUM(I40:I42) -> 40508990 | J39: =I39/D39*100 -> 23.485215 | M39: Pemeliharaan Barang Milik Daerah Penunjang Urusan Pemerintahan Daerah | N39: Pendapatan Hibah dari Pemerintah Pusat | O39: =SUM(O40:O42) -> 172487200 | AD39: Pemeliharaan Barang Milik Daerah Penunjang Urusan Pemerintahan Daerah | AE39: Pendapatan Hibah dari Pemerintah Pusat | AF39: =SUM(AF40:AF42) -> 172487200 | AS39: =AP39-Y39 -> 0 | AT39: 618000110 | AU39: =AT39-AP39 -> 618000110
B40: Penyediaan Jasa Pemeliharaan, Biaya Pemeliharaan, dan Pajak Kendaraan Perorangan Dinas atau Kendaraan Dinas Jabatan | C40: Pendapatan Hibah dari Pemerintah Pusat | D40: 39000000 | G40: 2200000 | H40: =G40/D40*100 -> 5.6410256 | I40: 4669990 | J40: =I40/D40*100 -> 11.974333 | M40: Penyediaan Jasa Pemeliharaan, Biaya Pemeliharaan, dan Pajak Kendaraan Perorangan Dinas atau Kendaraan Dinas Jabatan | N40: Pendapatan Hibah dari Pemerintah Pusat | O40: 39000000 | AD40: Penyediaan Jasa Pemeliharaan, Biaya Pemeliharaan, dan Pajak Kendaraan Perorangan Dinas atau Kendaraan Dinas Jabatan | AE40: Pendapatan Hibah dari Pemerintah Pusat | AF40: 39000000 | AS40: =AP40-Y40 -> 0 | AT40: 49847400 | AU40: =AT40-AP40 -> 49847400
B41: Penyediaan Jasa Pemeliharaan, Biaya Pemeliharaan, Pajak dan Perizinan Kendaraan Dinas Operasional atau Lapangan | D41: 76987200 | G41: 5000000 | H41: =G41/D41*100 -> 6.4945861 | I41: 13277000 | J41: =I41/D41*100 -> 17.245724 | M41: Penyediaan Jasa Pemeliharaan, Biaya Pemeliharaan, Pajak dan Perizinan Kendaraan Dinas Operasional atau Lapangan | O41: 76987200 | AD41: Penyediaan Jasa Pemeliharaan, Biaya Pemeliharaan, Pajak dan Perizinan Kendaraan Dinas Operasional atau Lapangan | AF41: 76987200
B42: Pemeliharaan/Rehabilitasi Gedung Kantor dan Bangunan Lainnya | D42: 56500000 | I42: 22562000 | J42: =I42/D42*100 -> 39.932743 | M42: Pemeliharaan/Rehabilitasi Gedung Kantor dan Bangunan Lainnya | O42: 56500000 | AD42: Pemeliharaan/Rehabilitasi Gedung Kantor dan Bangunan Lainnya | AF42: 56500000
B44: PROGRAM PEMBINAAN PERPUSTAKAAN | C44: Pendapatan Hibah dari Pemerintah Pusat | D44: =D45+D54 -> 1041626350 | G44: =G45+G54 -> 21752283 | H44: =G44/D44*100 -> 2.0883 | I44: =I45 -> 25670722 | M44: PROGRAM PEMBINAAN PERPUSTAKAAN | O44: =O45 -> 551543750 | AD44: PROGRAM PEMBINAAN PERPUSTAKAAN | AE44: LAIN-LAIN PENDAPATAN DAERAH YANG SAH | AF44: =AF45 -> 551543750 | AS44: =AP44-Y44 -> 0 | AT44: 24949900 | AU44: =AT44-AP44 -> 24949900
B45: Pengelolaan Perpustakaan Tingkat Daerah Kabupaten/Kota | D45: =SUM(D46:D52) -> 551543750 | E45: =SUM(E46:E52) -> 0 | G45: =SUM(G46:G52) -> 16589783 | H45: =G45/D45*100 -> 3.0078816 | I45: =SUM(I46:I52) -> 25670722 | J45: =I45/D45*100 -> 4.6543401 | M45: Pengelolaan Perpustakaan Tingkat Daerah Kabupaten/Kota | O45: =SUM(O46:O52) -> 551543750 | AD45: Pengelolaan Perpustakaan Tingkat Daerah Kabupaten/Kota | AE45: LAIN-LAIN PENDAPATAN DAERAH YANG SAH | AF45: =SUM(AF46:AF52) -> 551543750
B46: Pembinaan Perpustakaan pada Satuan Pendidikan Dasar di Seluruh Wilayah Kabupaten/Kota Sesuai dengan Standar Nasional Perpustakaan | D46: 34083950 | I46: 1054300 | J46: =I46/D46*100 -> 3.0932448 | M46: Pembinaan Perpustakaan pada Satuan Pendidikan Dasar di Seluruh Wilayah Kabupaten/Kota Sesuai dengan Standar Nasional Perpustakaan | N46: LAIN-LAIN PENDAPATAN DAERAH YANG SAH | O46: 34083950 | AD46: Pembinaan Perpustakaan pada Satuan Pendidikan Dasar di Seluruh Wilayah Kabupaten/Kota Sesuai dengan Standar Nasional Perpustakaan | AE46: LAIN-LAIN PENDAPATAN DAERAH YANG SAH | AF46: 34083950
B47: Pengembangan Perpustakaan di Tingkat Daerah Kabupaten/Kota | D47: 116307550 | I47: 7245199 | J47: =I47/D47*100 -> 6.2293454 | M47: Pengembangan Perpustakaan di Tingkat Daerah Kabupaten/Kota | N47: LAIN-LAIN PENDAPATAN DAERAH YANG SAH | O47: 116307550 | AD47: Pengembangan Perpustakaan di Tingkat Daerah Kabupaten/Kota | AE47: LAIN-LAIN PENDAPATAN DAERAH YANG SAH | AF47: 116307550
B48: Pembinaan Perpustakaan Umum dan Khusus Tingkat Kabupaten/Kota | C48: LAIN-LAIN PENDAPATAN DAERAH YANG SAH | D48: 28450000 | M48: Pembinaan Perpustakaan Umum dan Khusus Tingkat Kabupaten/Kota | N48: LAIN-LAIN PENDAPATAN DAERAH YANG SAH | O48: 28450000 | AD48: Pembinaan Perpustakaan Umum dan Khusus Tingkat Kabupaten/Kota | AE48: LAIN-LAIN PENDAPATAN DAERAH YANG SAH | AF48: 28450000 | AS48: =AP48-Y48 -> 0 | AT48: 29409129 | AU48: =AT48-AP48 -> 29409129
B49: Penyusunan Data dan Informasi Perpustakaan | C49: LAIN-LAIN PENDAPATAN DAERAH YANG SAH | D49: 14000000 | M49: Penyusunan Data dan Informasi Perpustakaan | N49: LAIN-LAIN PENDAPATAN DAERAH YANG SAH | O49: 14000000 | AD49: Penyusunan Data dan Informasi Perpustakaan | AE49: LAIN-LAIN PENDAPATAN DAERAH YANG SAH | AF49: 14000000 | AS49: =AP49-Y49 -> 0 | AT49: 29193150 | AU49: =AT49-AP49 -> 29193150
B50: Pengelolaan dan Pengembangan Bahan Perpustakaan | C50: LAIN-LAIN PENDAPATAN DAERAH YANG SAH | D50: 134422300 | M50: Pengelolaan dan Pengembangan Bahan Perpustakaan | N50: LAIN-LAIN PENDAPATAN DAERAH YANG SAH | O50: 134422300 | AD50: Pengelolaan dan Pengembangan Bahan Perpustakaan | AE50: LAIN-LAIN PENDAPATAN DAERAH YANG SAH | AF50: 134422300 | AS50: =AP50-Y50 -> 0 | AT50: 34741421 | AU50: =AT50-AP50 -> 34741421
B51: Pengembangan Kekhasan Koleksi Perpustakaan Daerah Tingkat Kabupaten/Kota | D51: 208269700 | G51: 8261841 | H51: =G51/D51*100 -> 3.9668953 | I51: 9043281 | J51: =I51/D51*100 -> 4.3421011 | M51: Pengembangan Kekhasan Koleksi Perpustakaan Daerah Tingkat Kabupaten/Kota | N51: LAIN-LAIN PENDAPATAN DAERAH YANG SAH | O51: 208269700 | AD51: Pengembangan Kekhasan Koleksi Perpustakaan Daerah Tingkat Kabupaten/Kota | AF51: 208269700
B52: Pengembangan dan Pemeliharaan Layanan Perpustakaan Elektronik | D52: 16010250 | G52: 8327942 | H52: =G52/D52*100 -> 52.016315 | I52: 8327942 | J52: =I52/D52*100 -> 52.016315 | M52: Pengembangan dan Pemeliharaan Layanan Perpustakaan Elektronik | N52: LAIN-LAIN PENDAPATAN DAERAH YANG SAH | O52: 16010250 | AD52: Pengembangan dan Pemeliharaan Layanan Perpustakaan Elektronik | AE52: LAIN-LAIN PENDAPATAN DAERAH YANG SAH | AF52: 16010250
B54: Pembudayaan Gemar Membaca Tingkat Daerah Kabupaten/Kota | D54: =SUM(D55:D58) -> 490082600 | E54: =SUM(E55:E58) -> 0 | G54: =SUM(G55:G58) -> 5162500 | H54: =G54/D54*100 -> 1.0533939 | I54: =SUM(I55:I58) -> 5162500 | J54: =I54/D54*100 -> 1.0533939 | M54: Pembudayaan Gemar Membaca Tingkat Daerah Kabupaten/Kota | O54: =SUM(O55:O58) -> 490082600 | AD54: Pembudayaan Gemar Membaca Tingkat Daerah Kabupaten/Kota | AE54: LAIN-LAIN PENDAPATAN DAERAH YANG SAH | AF54: =SUM(AF55:AF58) -> 490082600
...

Sheet Sheet3
C5: Urusan/Bidang Urusan Pemerintahan Daerah dan Program/Kegiatan | D5: Indikator Kinerja Program (outcome)/ Kegiatan (output) | E5: Target Kinerja Capaian Program (Renstra Perangkat Daerah) Tahun 2018-2023) | F5: Realisasi Target Kinerja Hasil Program dan Keluaran Kegiatan s/d Tahun 2023 | G5: Target dan Realisasi Kinerja Program dan Kegiatan Tahun Lalu (2023) | J5: Target Program dan Kegiatan Tahun Berjalan (Renja Perangkat Daerah Tahun 2024) | K5: Tingkat Capaian Kinerja dan Realisasi Anggaran Renstra SKPD s/d tahun 2024 (%)
G6: Target Renja Perangkat Daerah Tahun 2023 | H6: Realisasi Renja Perangkat Daerah Tahun 2023 | I6: Tingkat Realisasi (%) | K6: Realisasi Capaian Program Dan Kegiatan s/d Tahun Berjalan (Tahun 2024) | L6: Tingkat Capaian Realisasi Target Renstra (%)
C16: 1757080696 | E16: Realisasi sampai dengan bulan juni - realisasi triwulan 1 maret | L16: 15209871 | N16: 5940000
C17: =C16-ARPUS!R18 -> 950905807 | E17: hasile dadi realisasi triwulan 2 | L17: 5940000 | N17: 3960000
L18: =L16-L17 -> 9269871 | N18: =N16-N17 -> 1980000
C20: 9449595 | L20: 11203226
C21: =C20-ARPUS!R27 -> 7548720 | L21: 4176000 | N21: 4176000
L22: =L20-L21 -> 7027226 | N22: 4176000
C23: 3125000
C24: =C23-ARPUS!R28 -> 1875000 | L24: 2651613668 | N24: 1885020557
L25: 1885020557 | N25: 806174889
C26: 44160365 | L26: =L24-L25 -> 766593111 | N26: =N24-N25 -> 1078845668
C27: =C26-ARPUS!R29 -> 38634761
L28: 13434915 | N28: 3816000
C29: 73945947 | L29: 3816000 | N29: 3816000
C30: =C29-ARPUS!R31 -> 31372146 | L30: =L28-L29 -> 9618915 | N30: =N28-N29 -> 0
N31: 1400000
C32: 11546200 | L32: 20521680 | N32: 700000
C33: =C32-ARPUS!R35 -> 6876210 | L33: 12742800 | N33: =N31-N32 -> 700000
L34: =L32-L33 -> 7778880
C35: 35528300 | N35: 12582350
C36: =C35-ARPUS!R36 -> 22251300 | L36: 14150850
L37: 1400000 | N37: 14623750
C38: 30841750 | L38: =L36-L37 -> 12750850 | N38: 5719000
N39: =N37-N38 -> 8904750
C40: 77652192 | L40: 20592832
C41: =C40-ARPUS!R41 -> 76597892 | L41: 12582350 | N41: 2200875
L42: =L40-L41 -> 8010482 | N42: 1900875
N43: =N41-N42 -> 300000
C44: 16718978 | L44: 26046250
C45: =C44-ARPUS!R42 -> 9473779 | L45: 14623750 | N45: 3125000
L46: =L44-L45 -> 11422500 | N46: 1250000
C47: 129880680 | N47: =N45-N46 -> 1875000
C48: =C47-ARPUS!R49 -> 129880680 | L48: 8229425
L49: 2200875 | N49: 19991055
C50: 16831765 | L50: =L48-L49 -> 6028550 | N50: 5525604
C51: =C50-ARPUS!R50 -> 16831765 | N51: =N49-N50 -> 14465451
L52: 7784435
C53: 131190799 | L53: 3125000 | N53: 90117129
C54: =C53-ARPUS!R51 -> 131190799 | L54: =L52-L53 -> 4659435 | N54: 42573801
...
